BEGIN:VCALENDAR
VERSION:2.0
PRODID:-//MaremmaOggi - ECPv6.15.19//NONSGML v1.0//EN
CALSCALE:GREGORIAN
METHOD:PUBLISH
X-ORIGINAL-URL:https://www.maremmaoggi.net
X-WR-CALDESC:Eventi per MaremmaOggi
REFRESH-INTERVAL;VALUE=DURATION:PT1H
X-Robots-Tag:noindex
X-PUBLISHED-TTL:PT1H
BEGIN:VTIMEZONE
TZID:Europe/Rome
BEGIN:DAYLIGHT
TZOFFSETFROM:+0100
TZOFFSETTO:+0200
TZNAME:CEST
DTSTART:20210328T010000
END:DAYLIGHT
BEGIN:STANDARD
TZOFFSETFROM:+0200
TZOFFSETTO:+0100
TZNAME:CET
DTSTART:20211031T010000
END:STANDARD
BEGIN:DAYLIGHT
TZOFFSETFROM:+0100
TZOFFSETTO:+0200
TZNAME:CEST
DTSTART:20220327T010000
END:DAYLIGHT
BEGIN:STANDARD
TZOFFSETFROM:+0200
TZOFFSETTO:+0100
TZNAME:CET
DTSTART:20221030T010000
END:STANDARD
BEGIN:DAYLIGHT
TZOFFSETFROM:+0100
TZOFFSETTO:+0200
TZNAME:CEST
DTSTART:20230326T010000
END:DAYLIGHT
BEGIN:STANDARD
TZOFFSETFROM:+0200
TZOFFSETTO:+0100
TZNAME:CET
DTSTART:20231029T010000
END:STANDARD
END:VTIMEZONE
BEGIN:VEVENT
DTSTART;VALUE=DATE:20221029
DTEND;VALUE=DATE:20221031
DTSTAMP:20260421T174323
CREATED:20221029T090040Z
LAST-MODIFIED:20221029T090040Z
UID:75323-1667001600-1667174399@www.maremmaoggi.net
SUMMARY:Per Halloween\, arriva la festa delle streghe
DESCRIPTION:MONTEMERANO. Oggi ha inizio l’undicesima edizione della festa delle Streghe\, che si svolgerà sabato 29 e domenica 30 Ottobre nel comune di Manciano. \nUn grande evento che attira da anni molti visitatori per scoprire gli angoli nascosti del borgo\, completamente allestito e addobbato in modo tematico. \nAll’interno del centro storico alle ore 18 apriranno gli antri dove sarà possibile degustare prodotti tipici\, vini\, birre locali\, cocktail e pozioni magiche. \nUn mix esplosivo che rende la festa delle streghe unica nel suo genere\, tanto da essere definita una festa delle cantine con dei super poteri. \nMusica e spettacoli itineranti animeranno i vicoli e le piazze del paese\, offrendo un programma variegato e adatto a tutte le età. \nLa Pro loco ha organizzato anche un servizio navetta che collegherà il paese di Montemerano al capoluogo\, Manciano e al paese limitrofo Saturnia.
URL:https://www.maremmaoggi.net/evento/per-halloween-arriva-la-festa-delle-streghe/
LOCATION:Montemerano\, Piazza Castello\, Montemerano\, 58014
CATEGORIES:Degustazione,Evento,Musica
ATTACH;FMTTYPE=image/jpeg:https://www.maremmaoggi.net/wp-content/uploads/2022/10/festa-delle-streghe-Maremma-oggi-fb.jpg
END:VEVENT
END:VCALENDAR