BEGIN:VCALENDAR
VERSION:2.0
PRODID:-//MaremmaOggi - ECPv6.15.19//NONSGML v1.0//EN
CALSCALE:GREGORIAN
METHOD:PUBLISH
X-WR-CALNAME:MaremmaOggi
X-ORIGINAL-URL:https://www.maremmaoggi.net
X-WR-CALDESC:Eventi per MaremmaOggi
REFRESH-INTERVAL;VALUE=DURATION:PT1H
X-Robots-Tag:noindex
X-PUBLISHED-TTL:PT1H
BEGIN:VTIMEZONE
TZID:Europe/Rome
BEGIN:DAYLIGHT
TZOFFSETFROM:+0100
TZOFFSETTO:+0200
TZNAME:CEST
DTSTART:20210328T010000
END:DAYLIGHT
BEGIN:STANDARD
TZOFFSETFROM:+0200
TZOFFSETTO:+0100
TZNAME:CET
DTSTART:20211031T010000
END:STANDARD
BEGIN:DAYLIGHT
TZOFFSETFROM:+0100
TZOFFSETTO:+0200
TZNAME:CEST
DTSTART:20220327T010000
END:DAYLIGHT
BEGIN:STANDARD
TZOFFSETFROM:+0200
TZOFFSETTO:+0100
TZNAME:CET
DTSTART:20221030T010000
END:STANDARD
BEGIN:DAYLIGHT
TZOFFSETFROM:+0100
TZOFFSETTO:+0200
TZNAME:CEST
DTSTART:20230326T010000
END:DAYLIGHT
BEGIN:STANDARD
TZOFFSETFROM:+0200
TZOFFSETTO:+0100
TZNAME:CET
DTSTART:20231029T010000
END:STANDARD
BEGIN:DAYLIGHT
TZOFFSETFROM:+0100
TZOFFSETTO:+0200
TZNAME:CEST
DTSTART:20240331T010000
END:DAYLIGHT
BEGIN:STANDARD
TZOFFSETFROM:+0200
TZOFFSETTO:+0100
TZNAME:CET
DTSTART:20241027T010000
END:STANDARD
END:VTIMEZONE
BEGIN:VEVENT
DTSTART;TZID=Europe/Rome:20230423T170000
DTEND;TZID=Europe/Rome:20230423T200000
DTSTAMP:20260419T194243
CREATED:20230422T142412Z
LAST-MODIFIED:20230422T142412Z
UID:104744-1682269200-1682280000@www.maremmaoggi.net
SUMMARY:Visita guidata gratuita al Museo di storia naturale
DESCRIPTION:Visita guidata gratuita e biglietto d’ingresso ridotto. È la promozione speciale offerta dal Museo di storia naturale della Maremma di Fondazione Grosseto Cultura per domenica 23 aprile: alle 17 sarà possibile partecipare gratuitamente a una visita guidata del museo condotta dalle esperte guide di MaremMagica. \nPer l’occasione il biglietto d’ingresso al museo sarà a tariffa ridotta: 3 euro per gli adulti\, mentre per i minori di 14 anni e per gli over 65 sarà gratuito anche l’ingresso\, così come per i soci di Fondazione Grosseto Cultura.
URL:https://www.maremmaoggi.net/evento/visita-guidata-gratuita-al-museo-di-storia-naturale/
LOCATION:Museo di Storia naturale della Maremma\, Piazza della Palma\, Grosseto\, 58100
CATEGORIES:Evento
ATTACH;FMTTYPE=image/jpeg:https://www.maremmaoggi.net/wp-content/uploads/2023/01/museo-storia-naturale-grosseto-maremma-oggi-01.jpg
END:VEVENT
BEGIN:VEVENT
DTSTART;TZID=Europe/Rome:20221229T163000
DTEND;TZID=Europe/Rome:20221229T190000
DTSTAMP:20260419T194243
CREATED:20221228T180944Z
LAST-MODIFIED:20221228T181143Z
UID:85408-1672331400-1672340400@www.maremmaoggi.net
SUMMARY:“Natale in casa della natura” con i cartoni animati al Museo di storia naturale
DESCRIPTION:Doppio appuntamento con i cartoni animati al Museo di storia naturale della Maremma. La rassegna “Natale in casa della natura”\, organizzata dal Museo in occasione delle feste natalizie\, prosegue con le proiezioni dedicate ai più piccoli\, tutte a ingresso libero. \nGiovedì 29 dicembre\, alle 16.30\, nella sala conferenze del museo saranno proiettati “La strega Rossella” e “Bastoncino”\, due capolavori dell’animazione contemporanea (il primo è stato anche candidato all’Oscar)\, tratti dai libri illustrati di Julia Donaldson e Axel Scheffler. \nVenerdì 30 dicembre\, alle 16.30\, sarà la volta di “Zog” e “Il topo Brigante”. Zog è il drago più perspicace della Dragon School e anche il più incline a cacciarsi nei guai\, ma una fanciulla misteriosa lo aiuterà a catturare una principessa e vincere la stella d’oro. Il topo brigante è ghiotto di panini\, biscotti e ogni cosa dolce e ruba il cibo agli altri abitanti del bosco\, ma avrà finalmente la sua meritata punizione\, grazie all’intervento di un’anatra molto furba. \nInfo e prenotazioni: 0564488571 o sul sito del Museo
URL:https://www.maremmaoggi.net/evento/natale-in-casa-della-natura-cartoni-animati-al-museo-di-storia-naturale/
LOCATION:Museo di Storia naturale della Maremma\, Piazza della Palma\, Grosseto\, 58100
CATEGORIES:Cinema
ATTACH;FMTTYPE=image/png:https://www.maremmaoggi.net/wp-content/uploads/2022/11/ia.png
END:VEVENT
END:VCALENDAR