BEGIN:VCALENDAR
VERSION:2.0
PRODID:-//MaremmaOggi - ECPv6.15.19//NONSGML v1.0//EN
CALSCALE:GREGORIAN
METHOD:PUBLISH
X-WR-CALNAME:MaremmaOggi
X-ORIGINAL-URL:https://www.maremmaoggi.net
X-WR-CALDESC:Eventi per MaremmaOggi
REFRESH-INTERVAL;VALUE=DURATION:PT1H
X-Robots-Tag:noindex
X-PUBLISHED-TTL:PT1H
BEGIN:VTIMEZONE
TZID:Europe/Rome
BEGIN:DAYLIGHT
TZOFFSETFROM:+0100
TZOFFSETTO:+0200
TZNAME:CEST
DTSTART:20210328T010000
END:DAYLIGHT
BEGIN:STANDARD
TZOFFSETFROM:+0200
TZOFFSETTO:+0100
TZNAME:CET
DTSTART:20211031T010000
END:STANDARD
BEGIN:DAYLIGHT
TZOFFSETFROM:+0100
TZOFFSETTO:+0200
TZNAME:CEST
DTSTART:20220327T010000
END:DAYLIGHT
BEGIN:STANDARD
TZOFFSETFROM:+0200
TZOFFSETTO:+0100
TZNAME:CET
DTSTART:20221030T010000
END:STANDARD
BEGIN:DAYLIGHT
TZOFFSETFROM:+0100
TZOFFSETTO:+0200
TZNAME:CEST
DTSTART:20230326T010000
END:DAYLIGHT
BEGIN:STANDARD
TZOFFSETFROM:+0200
TZOFFSETTO:+0100
TZNAME:CET
DTSTART:20231029T010000
END:STANDARD
END:VTIMEZONE
BEGIN:VEVENT
DTSTART;TZID=Europe/Rome:20220727T200000
DTEND;TZID=Europe/Rome:20220727T220000
DTSTAMP:20260421T235359
CREATED:20220615T100624Z
LAST-MODIFIED:20220725T133219Z
UID:47434-1658952000-1658959200@www.maremmaoggi.net
SUMMARY:Luci nel Parco: cena con la musica di Battisti
DESCRIPTION:RISPESCIA. a Luci nel parco arriva la serata “Ci ritorni in mente”: un tributo a Lucio Battisti. Con Paolo Tenerini (voce e chitarra)\, Paolo Mari (chitarra e armonica). \nPrenotazioni 342 623 8567 oppure lucinelparcoristosteria@gmail.com 
URL:https://www.maremmaoggi.net/evento/luci-nel-parco-serata-con-cena-e-musica-battisti/
LOCATION:Luci nel Parco\, Enaoli\, Rispescia\, 58100\, Italia
CATEGORIES:Cena e musica
ATTACH;FMTTYPE=image/jpeg:https://www.maremmaoggi.net/wp-content/uploads/2022/06/ci-ritorni-in-mente-luci-nel-parco-battisti-paolo-tenerini-paolo-mari-fb.jpg
ORGANIZER;CN="Luci nel Parco":MAILTO:lucinelparcoristosteria@gmail.com
END:VEVENT
BEGIN:VEVENT
DTSTART;TZID=Europe/Rome:20220720T220000
DTEND;TZID=Europe/Rome:20220720T233000
DTSTAMP:20260421T235359
CREATED:20220615T100226Z
LAST-MODIFIED:20220718T083820Z
UID:47428-1658354400-1658359800@www.maremmaoggi.net
SUMMARY:La voce del principe a Luci nel Parco
DESCRIPTION:RISPESCIA. La serata del 20 luglio due artisti di grande personalità si esibiranno a Luci nel Parco. Il duo è composto dalla voce esperta di Isabella Del Principe\, che si fonde perfettamente con le note raffinate di Alessio Buccella al pianoforte. Durante la serata presenteranno un repertorio italiano e internazionale che ripercorre i 25 anni di musica che hanno condiviso in tanti palchi e con innumerevoli formazioni. \nPassando dal jazz al pop al soul\, il duo darà vita ad un concerto dove personalità e improvvisazione saranno i veri protagonisti di uno spettacolo divertente\, da non perdere. \nPrenotazioni 342 623 8567 oppure lucinelparcoristosteria@gmail.com
URL:https://www.maremmaoggi.net/evento/la-voce-del-principe-a-luci-nel-parco/
LOCATION:Luci nel Parco\, Enaoli\, Rispescia\, 58100\, Italia
CATEGORIES:Cena e musica
ATTACH;FMTTYPE=image/jpeg:https://www.maremmaoggi.net/wp-content/uploads/2022/06/Isabella-Del-Principe-fb.jpg
ORGANIZER;CN="Luci nel Parco":MAILTO:lucinelparcoristosteria@gmail.com
END:VEVENT
BEGIN:VEVENT
DTSTART;TZID=Europe/Rome:20220713T220000
DTEND;TZID=Europe/Rome:20220713T233000
DTSTAMP:20260421T235359
CREATED:20220615T094909Z
LAST-MODIFIED:20220615T094909Z
UID:47425-1657749600-1657755000@www.maremmaoggi.net
SUMMARY:Poesia e musica a Luci nel Parco
DESCRIPTION:RISPESCIA. “Verso dove – poesia e musica” si intitola l’evento del 13 luglio che accompagnerà la cena alla ristosteria Luci nel Parco. Le voci\, le idee\, i gesti\, la musica si faranno portatori della poesia di autori tessitori di pace. Le letture teatrali di poesie saranno presentate da David La Mantia\, con Andrea Vanni al pianoforte. \nPer prenotazioni 342 623 8567 oppure lucinelparcoristosteria@gmail.com
URL:https://www.maremmaoggi.net/evento/poesia-e-musica-a-luci-nel-parco/
LOCATION:Luci nel Parco\, Enaoli\, Rispescia\, 58100\, Italia
ATTACH;FMTTYPE=image/jpeg:https://www.maremmaoggi.net/wp-content/uploads/2022/06/Luci-nel-parco.jpg
ORGANIZER;CN="Luci nel Parco":MAILTO:lucinelparcoristosteria@gmail.com
END:VEVENT
BEGIN:VEVENT
DTSTART;TZID=Europe/Rome:20220706T220000
DTEND;TZID=Europe/Rome:20220706T233000
DTSTAMP:20260421T235359
CREATED:20220615T094436Z
LAST-MODIFIED:20220615T094514Z
UID:47420-1657144800-1657150200@www.maremmaoggi.net
SUMMARY:Luci nel Parco e il tributo a Pino Daniele
DESCRIPTION:RISPESCIA. “Sotto o’ sole – tributo a Pino Daniele” si intitola la serata con cena e musica del 6 luglio. Alla Ristosteria Luci nel parco le più belle canzoni di Pino Daniele riporteranno alla memoria le sue sonorità. Con la voce di Liliana Cafiero\, accompagnata da Michele Santinelli (sassofono) e Paolo Mari (chitarra). \nPer prenotazioni 342 623 8567 oppure lucinelparcoristosteria@gmail.com
URL:https://www.maremmaoggi.net/evento/luci-nel-parco-e-il-tributo-a-pino-daniele/
LOCATION:Luci nel Parco\, Enaoli\, Rispescia\, 58100\, Italia
CATEGORIES:Cena e musica
ATTACH;FMTTYPE=image/jpeg:https://www.maremmaoggi.net/wp-content/uploads/2022/06/Luci-nel-parco.jpg
ORGANIZER;CN="Luci nel Parco":MAILTO:lucinelparcoristosteria@gmail.com
END:VEVENT
BEGIN:VEVENT
DTSTART;TZID=Europe/Rome:20220629T220000
DTEND;TZID=Europe/Rome:20220629T233000
DTSTAMP:20260421T235359
CREATED:20220615T093640Z
LAST-MODIFIED:20220615T093747Z
UID:47409-1656540000-1656545400@www.maremmaoggi.net
SUMMARY:Leo e Jole alla ristosteria Luci nel Parco
DESCRIPTION:RISPESCIA. Al risto-osteria Luci nel parco\, mercoledì 29 giugno la cena avrà il ritmo delle musiche di Leo e Jole. \nLo spettacolo inzierà alle 22. \nPer prenotazioni 342 623 8567 oppure lucinelparcoristosteria@gmail.com
URL:https://www.maremmaoggi.net/evento/leo-e-jole-alla-ristosteria-luci-nel-parco/
LOCATION:Luci nel Parco\, Enaoli\, Rispescia\, 58100\, Italia
ATTACH;FMTTYPE=image/jpeg:https://www.maremmaoggi.net/wp-content/uploads/2022/06/leo-e-jole-luci-nel-parco-1.jpg
ORGANIZER;CN="Luci nel Parco":MAILTO:lucinelparcoristosteria@gmail.com
END:VEVENT
END:VCALENDAR