BEGIN:VCALENDAR
VERSION:2.0
PRODID:-//MaremmaOggi - ECPv6.15.19//NONSGML v1.0//EN
CALSCALE:GREGORIAN
METHOD:PUBLISH
X-WR-CALNAME:MaremmaOggi
X-ORIGINAL-URL:https://www.maremmaoggi.net
X-WR-CALDESC:Eventi per MaremmaOggi
REFRESH-INTERVAL;VALUE=DURATION:PT1H
X-Robots-Tag:noindex
X-PUBLISHED-TTL:PT1H
BEGIN:VTIMEZONE
TZID:Europe/Rome
BEGIN:DAYLIGHT
TZOFFSETFROM:+0100
TZOFFSETTO:+0200
TZNAME:CEST
DTSTART:20220327T010000
END:DAYLIGHT
BEGIN:STANDARD
TZOFFSETFROM:+0200
TZOFFSETTO:+0100
TZNAME:CET
DTSTART:20221030T010000
END:STANDARD
BEGIN:DAYLIGHT
TZOFFSETFROM:+0100
TZOFFSETTO:+0200
TZNAME:CEST
DTSTART:20230326T010000
END:DAYLIGHT
BEGIN:STANDARD
TZOFFSETFROM:+0200
TZOFFSETTO:+0100
TZNAME:CET
DTSTART:20231029T010000
END:STANDARD
BEGIN:DAYLIGHT
TZOFFSETFROM:+0100
TZOFFSETTO:+0200
TZNAME:CEST
DTSTART:20240331T010000
END:DAYLIGHT
BEGIN:STANDARD
TZOFFSETFROM:+0200
TZOFFSETTO:+0100
TZNAME:CET
DTSTART:20241027T010000
END:STANDARD
END:VTIMEZONE
BEGIN:VEVENT
DTSTART;VALUE=DATE:20230423
DTEND;VALUE=DATE:20230426
DTSTAMP:20260421T231944
CREATED:20230418T103048Z
LAST-MODIFIED:20230418T103048Z
UID:103880-1682208000-1682467199@www.maremmaoggi.net
SUMMARY:Tornano la Fiera del Madonnino e il Game Fair Italia
DESCRIPTION:GROSSETO. La Fiera del Madonnino è il più importante appuntamento in Toscana del mondo rurale. Nuove tecnologie 4.0 comprese. \nCrea da 43 edizioni opportunità di affari con l’incontro tra la domanda e l’offerta. Oltre a garantire ai visitatori una manifestazione all’insegna della scoperta. \nLa 43ª edizione della Fiera si terrà\, in contemporanea al 31° Game Fair Italia\, nei giorni 23\, 24 e 25 aprile 2023 nel Centro fiere di Braccagni. Sarà il più grande evento per estensione mai organizzato in Toscana\, 250.000 metri quadri di agricoltura\, ruralità e attività che si praticano all’aria aperta. \nOltre ai prodotti quindi ci saranno numerose attrazioni ed eventi a tema. \nLe due manifestazioni insieme riassumono al meglio la mission di Grossetofiere\, nata per promuovere i settori trainanti dell’economia locale e creare indotto e ritorni indiretti su tutto il territorio. Non dimenticando che le due fiere vanno ad alimentare direttamente il mercato interno utilizzando per lo più fornitori locali per la loro organizzazione. \nCome partecipare\nI biglietti possono essere acquistati sul sito la Fiera del Madonnino. \nChi acquista il biglietto online avrà diritto a: \n\nOfferta sconto del 50% sulla Morellino Experience sui pacchetti enoturistici per visita e degustazione in Cantina Vignaioli Scansano;\nUna settimana di Sky Caccia gratis;\nIngresso Saltafila;\n\nPer l’offerta Morellino Experience basterà mostrare il ticket acquistato online\, per Sky Caccia dopo l’acquisto verrà rilasciato un codice sconto da utilizzare. L’offerta Morellino Experience è valida fino al 30 giugno 2023.
URL:https://www.maremmaoggi.net/evento/tornano-la-fiera-del-madonnino-e-il-game-fair-italia/
LOCATION:Strada del Madonnino\, Strada del Madonnino\, Grosseto\, 58100\, Italia
CATEGORIES:Evento
ATTACH;FMTTYPE=image/jpeg:https://www.maremmaoggi.net/wp-content/uploads/2023/03/fiera-del-madonnino-grosseto-fiere-maremma-oggi.jpg
ORGANIZER;CN="GrossetoFiere":MAILTO:info@grossetofiere.it
END:VEVENT
END:VCALENDAR