BEGIN:VCALENDAR
VERSION:2.0
PRODID:-//MaremmaOggi - ECPv6.15.19//NONSGML v1.0//EN
CALSCALE:GREGORIAN
METHOD:PUBLISH
X-ORIGINAL-URL:https://www.maremmaoggi.net
X-WR-CALDESC:Eventi per MaremmaOggi
REFRESH-INTERVAL;VALUE=DURATION:PT1H
X-Robots-Tag:noindex
X-PUBLISHED-TTL:PT1H
BEGIN:VTIMEZONE
TZID:Europe/Rome
BEGIN:DAYLIGHT
TZOFFSETFROM:+0100
TZOFFSETTO:+0200
TZNAME:CEST
DTSTART:20250330T010000
END:DAYLIGHT
BEGIN:STANDARD
TZOFFSETFROM:+0200
TZOFFSETTO:+0100
TZNAME:CET
DTSTART:20251026T010000
END:STANDARD
BEGIN:DAYLIGHT
TZOFFSETFROM:+0100
TZOFFSETTO:+0200
TZNAME:CEST
DTSTART:20260329T010000
END:DAYLIGHT
BEGIN:STANDARD
TZOFFSETFROM:+0200
TZOFFSETTO:+0100
TZNAME:CET
DTSTART:20261025T010000
END:STANDARD
BEGIN:DAYLIGHT
TZOFFSETFROM:+0100
TZOFFSETTO:+0200
TZNAME:CEST
DTSTART:20270328T010000
END:DAYLIGHT
BEGIN:STANDARD
TZOFFSETFROM:+0200
TZOFFSETTO:+0100
TZNAME:CET
DTSTART:20271031T010000
END:STANDARD
END:VTIMEZONE
BEGIN:VEVENT
DTSTART;VALUE=DATE:20260425
DTEND;VALUE=DATE:20260426
DTSTAMP:20260420T213814
CREATED:20260420T132509Z
LAST-MODIFIED:20260420T132509Z
UID:342798-1777075200-1777161599@www.maremmaoggi.net
SUMMARY:Festeggia il 25 aprile con un picnic sotto la quercia di Diegale
DESCRIPTION:CIVITELLA MARITTIMA. Tra le colline della Maremma\, dove la natura detta ancora il ritmo delle cose\, nascono le esperienze enogastronomiche firmate Diegale – una realtà agricola che unisce cura artigianale\, passione per il territorio e una visione autentica dell’ospitalità rurale. Qui\, tra vigneti e alberi secolari\, ogni dettaglio racconta una storia fatta di semplicità e qualità\, trasformando una pausa all’aria aperta in un momento da ricordare. \n  \nIl picnic sotto la grande quercia di Diegale per festeggiare il 25 aprile\n\n\n\n\n\n\n\n\nÈ proprio sotto la grande quercia dell’azienda agricola Diegale che si terrà il picnic del 25 aprile – un’esperienza pensata per chi desidera immergersi nel verde e nei sapori della Maremma. I partecipanti riceveranno un cestino gourmet preparato con cura\, con proposte che spaziano dalla tartare alla parmigiana di melanzane\, accompagnato dai vini dell’azienda. Una volta ritirato il cestino\, basterà lasciarsi avvolgere dall’atmosfera. Niente fretta: solo natura\, buon cibo e buon vino\, convivialità. Il tutto al costo di 45 euro\, per un’esperienza da vivere\, condividere e portare con sé. \n\n\n\n\nÈ consigliata la prenotazione.  \n \n\nEsperienze enogastronomiche da ricordare sotto la grande quercia di Diegale
URL:https://www.maremmaoggi.net/evento/festeggia-il-25-aprile-con-un-picnic-sotto-la-quercia-di-diegale/
LOCATION:Azienda agricola Diegale\, Podere Sant'Antimo\, 17\, Civitella Marittima\, Grosseto\, 58045\, Italy
CATEGORIES:Degustazione,Evento
ATTACH;FMTTYPE=image/png:https://www.maremmaoggi.net/wp-content/uploads/2026/04/diegale-25-aprile-picnic-maremmaoggi.png
ORGANIZER;CN="Azienda agricola Diegale":MAILTO:alessandro@diegale.it
END:VEVENT
END:VCALENDAR