BEGIN:VCALENDAR
VERSION:2.0
PRODID:-//MaremmaOggi - ECPv6.15.19//NONSGML v1.0//EN
CALSCALE:GREGORIAN
METHOD:PUBLISH
X-WR-CALNAME:MaremmaOggi
X-ORIGINAL-URL:https://www.maremmaoggi.net
X-WR-CALDESC:Eventi per MaremmaOggi
REFRESH-INTERVAL;VALUE=DURATION:PT1H
X-Robots-Tag:noindex
X-PUBLISHED-TTL:PT1H
BEGIN:VTIMEZONE
TZID:Europe/Rome
BEGIN:DAYLIGHT
TZOFFSETFROM:+0100
TZOFFSETTO:+0200
TZNAME:CEST
DTSTART:20220327T010000
END:DAYLIGHT
BEGIN:STANDARD
TZOFFSETFROM:+0200
TZOFFSETTO:+0100
TZNAME:CET
DTSTART:20221030T010000
END:STANDARD
BEGIN:DAYLIGHT
TZOFFSETFROM:+0100
TZOFFSETTO:+0200
TZNAME:CEST
DTSTART:20230326T010000
END:DAYLIGHT
BEGIN:STANDARD
TZOFFSETFROM:+0200
TZOFFSETTO:+0100
TZNAME:CET
DTSTART:20231029T010000
END:STANDARD
BEGIN:DAYLIGHT
TZOFFSETFROM:+0100
TZOFFSETTO:+0200
TZNAME:CEST
DTSTART:20240331T010000
END:DAYLIGHT
BEGIN:STANDARD
TZOFFSETFROM:+0200
TZOFFSETTO:+0100
TZNAME:CET
DTSTART:20241027T010000
END:STANDARD
END:VTIMEZONE
BEGIN:VEVENT
DTSTART;TZID=Europe/Rome:20230707T190000
DTEND;TZID=Europe/Rome:20230709T223000
DTSTAMP:20260421T105833
CREATED:20230703T110052Z
LAST-MODIFIED:20230703T110052Z
UID:118134-1688756400-1688941800@www.maremmaoggi.net
SUMMARY:Tortelli e Calamari in ecofesta a Castiglione della Pescaia
DESCRIPTION:Sagre in Maremma 2023\nCASTIGLIONE DELLA PESCAIA. L’ecofesta organizzata dall’Asd Castiglionese torna ad arricchire il cartellone delle sagre in Maremma. \nUna delle società sportive storiche del paese ripropone l’appuntamento con il gusto per il classico autofinanziamento sportivo. Nel palasport Casa Mora\, ricrea un appuntamento fisso per due fine settimana. \nL’ecofesta avvia nei giorni 7\, 8 e 9 luglio per poi continuare i giorni del 13\, 14 e 15. Ultimo giorno in calendario\, quello del 16 luglio. \nTortelli e calamari: ecco il menu\nMolto variegato il menù: con piatti di mare non lascia comunque a bocca asciutta gli amanti della carne. Gli stand gastronomici aprono dalle 19. \nTutte le sere ci sarà musica dal vivo. \nEcco dagli antipasti: \n\ncalamari con patate o in guazzetto piccante\,\npolipetti in salsa;\ninsalata di mare.\n\nEcco i primi piatti: \n\ntortelli con il sugo di cinghiale o burro e salvia\, con pesce o al pomodoro\,\nrisotto al pesce\ntagliolini del pescatore con calamari e sarde\n\nI secondi piatti: \n\nfrittura di mare\ncalamari ripieni in salsa o impanati e grigliati\ngrigliata di carne mista.\n\nI contorni: patate fritte\, pomodori freschi e fagioli all’uccelletto. \nLa locandina della sagra
URL:https://www.maremmaoggi.net/evento/tortelli-e-calamari-in-ecofesta-a-castiglione-della-pescaia-2/
CATEGORIES:Sagra
ATTACH;FMTTYPE=image/jpeg:https://www.maremmaoggi.net/wp-content/uploads/2023/06/tortelli-e-clamari-in-ecofesta-castiglione-della-pescaia-sagra-maremma-oggi.jpg
END:VEVENT
END:VCALENDAR