BEGIN:VCALENDAR
VERSION:2.0
PRODID:-//MaremmaOggi - ECPv6.15.20//NONSGML v1.0//EN
CALSCALE:GREGORIAN
METHOD:PUBLISH
X-WR-CALNAME:MaremmaOggi
X-ORIGINAL-URL:https://www.maremmaoggi.net
X-WR-CALDESC:Eventi per MaremmaOggi
REFRESH-INTERVAL;VALUE=DURATION:PT1H
X-Robots-Tag:noindex
X-PUBLISHED-TTL:PT1H
BEGIN:VTIMEZONE
TZID:Europe/Rome
BEGIN:DAYLIGHT
TZOFFSETFROM:+0100
TZOFFSETTO:+0200
TZNAME:CEST
DTSTART:20230326T010000
END:DAYLIGHT
BEGIN:STANDARD
TZOFFSETFROM:+0200
TZOFFSETTO:+0100
TZNAME:CET
DTSTART:20231029T010000
END:STANDARD
BEGIN:DAYLIGHT
TZOFFSETFROM:+0100
TZOFFSETTO:+0200
TZNAME:CEST
DTSTART:20240331T010000
END:DAYLIGHT
BEGIN:STANDARD
TZOFFSETFROM:+0200
TZOFFSETTO:+0100
TZNAME:CET
DTSTART:20241027T010000
END:STANDARD
BEGIN:DAYLIGHT
TZOFFSETFROM:+0100
TZOFFSETTO:+0200
TZNAME:CEST
DTSTART:20250330T010000
END:DAYLIGHT
BEGIN:STANDARD
TZOFFSETFROM:+0200
TZOFFSETTO:+0100
TZNAME:CET
DTSTART:20251026T010000
END:STANDARD
BEGIN:DAYLIGHT
TZOFFSETFROM:+0100
TZOFFSETTO:+0200
TZNAME:CEST
DTSTART:20260329T010000
END:DAYLIGHT
BEGIN:STANDARD
TZOFFSETFROM:+0200
TZOFFSETTO:+0100
TZNAME:CET
DTSTART:20261025T010000
END:STANDARD
END:VTIMEZONE
BEGIN:VEVENT
DTSTART;TZID=Europe/Rome:20250924T173000
DTEND;TZID=Europe/Rome:20250924T193000
DTSTAMP:20260425T011557
CREATED:20250923T102653Z
LAST-MODIFIED:20250923T102653Z
UID:285369-1758735000-1758742200@www.maremmaoggi.net
SUMMARY:Il Salotto della salute: arte\, benessere e moda da Toscano Collezioni
DESCRIPTION:GROSSETO. Mercoledì 24 settembre alle 17.30\, la sala conferenze di Toscano Collezioni\, in via Genova 5 a Grosseto\, ospita un nuovo appuntamento del ciclo “Il salotto della salute”\, in collaborazione con LILT Grosseto. \nL’incontro vedrà l’intervento del dottore Marco Corsetti\, gastroenterologo Lilt\, che offrirà preziosi spunti per la prevenzione e il benessere. \nEcco tutto il programma\nL’evento sarà arricchito dalla presentazione delle opere dell’artista Riccardo Cipriani\, trasformando Toscano in OutlArt: un evento nell’evento. \nI partecipanti avranno l’occasione unica di ammirare l’esposizione artistica e\, per la prima volta\, acquistare capi delle precedenti collezioni Toscano a prezzi eccezionalmente scontati. \nUn pomeriggio che unisce salute\, arte e moda\, pensato per la comunità. Per informazioni e prenotazioni basta chiamare lo 0564 453261. \n\n \n Toscano Collezioni \n toscanocollezioni
URL:https://www.maremmaoggi.net/evento/il-salotto-della-salute-arte-benessere-e-moda-da-toscano-collezioni/
LOCATION:Sala conferenze di Toscano Collezioni\, Via Genova\, 5\, Grosseto\, GR\, 58100\, Italia
CATEGORIES:Evento
ATTACH;FMTTYPE=image/jpeg:https://www.maremmaoggi.net/wp-content/uploads/2025/09/evento-toscano-collezioni-maremma-oggi.jpg
END:VEVENT
BEGIN:VEVENT
DTSTART;TZID=Europe/Rome:20240412T173000
DTEND;TZID=Europe/Rome:20240412T173000
DTSTAMP:20260425T011557
CREATED:20240408T133656Z
LAST-MODIFIED:20240408T133656Z
UID:162510-1712943000-1712943000@www.maremmaoggi.net
SUMMARY:Federica Finocchi presenta "Le suggestioni del silenzio"
DESCRIPTION:La cultura torna da Toscano Collezioni. La psicoterapeuta Federica Finocchi presenterà il suo libro “Le suggestioni del silenzio” venerdì 12 aprile alle 17.30. L’appuntamento è nella sala conferenze della fabbrica in via Genova 5. \nL’ingresso è libero\, anche se è gradita la prenotazione\, scrivendo una e-mail a press@toscanocollezioni.com.\nFederica Finocchi\, nello svelare i segreti della sua composizione letteraria\, sarà accompagnata dall’autrice Sandra Maria Dami.\nSempre nella sala conferenze\, è ancora possibile ammirare la mostra personale “In-Donna” della pittrice Paola Torrini\, ospitata da Toscano.
URL:https://www.maremmaoggi.net/evento/federica-finocchi-presenta-le-suggestioni-del-silenzio/
LOCATION:Sala conferenze di Toscano Collezioni\, Via Genova\, 5\, Grosseto\, GR\, 58100\, Italia
CATEGORIES:Presentazione libro
ATTACH;FMTTYPE=image/jpeg:https://www.maremmaoggi.net/wp-content/uploads/2024/04/finocchi-libro.jpg
END:VEVENT
END:VCALENDAR