BEGIN:VCALENDAR
VERSION:2.0
PRODID:-//MaremmaOggi - ECPv6.15.19//NONSGML v1.0//EN
CALSCALE:GREGORIAN
METHOD:PUBLISH
X-ORIGINAL-URL:https://www.maremmaoggi.net
X-WR-CALDESC:Eventi per MaremmaOggi
REFRESH-INTERVAL;VALUE=DURATION:PT1H
X-Robots-Tag:noindex
X-PUBLISHED-TTL:PT1H
BEGIN:VTIMEZONE
TZID:Europe/Rome
BEGIN:DAYLIGHT
TZOFFSETFROM:+0100
TZOFFSETTO:+0200
TZNAME:CEST
DTSTART:20220327T010000
END:DAYLIGHT
BEGIN:STANDARD
TZOFFSETFROM:+0200
TZOFFSETTO:+0100
TZNAME:CET
DTSTART:20221030T010000
END:STANDARD
BEGIN:DAYLIGHT
TZOFFSETFROM:+0100
TZOFFSETTO:+0200
TZNAME:CEST
DTSTART:20230326T010000
END:DAYLIGHT
BEGIN:STANDARD
TZOFFSETFROM:+0200
TZOFFSETTO:+0100
TZNAME:CET
DTSTART:20231029T010000
END:STANDARD
BEGIN:DAYLIGHT
TZOFFSETFROM:+0100
TZOFFSETTO:+0200
TZNAME:CEST
DTSTART:20240331T010000
END:DAYLIGHT
BEGIN:STANDARD
TZOFFSETFROM:+0200
TZOFFSETTO:+0100
TZNAME:CET
DTSTART:20241027T010000
END:STANDARD
END:VTIMEZONE
BEGIN:VEVENT
DTSTART;TZID=Europe/Rome:20230725T170000
DTEND;TZID=Europe/Rome:20230728T190000
DTSTAMP:20260422T213341
CREATED:20230725T092014Z
LAST-MODIFIED:20230725T092014Z
UID:121798-1690304400-1690570800@www.maremmaoggi.net
SUMMARY:Si parla di storia e archeologia a Massa Marittima
DESCRIPTION:Doppio appuntamento questa settimana al Museo San Pietro all’Orto\, di Massa Marittima. \nGiovedì 25 luglio\, alle 17.30 l’archeologo Matteo Colombini terrà la conferenza “Fabbri e officine di Maremma”\, un percorso sui cantieri di scavo dell’area dell’Alberese. Nello specifico presso il sito dello Spolverino\, antico insediamento produttivo di età romana (I-VI sec .d.C.)\, dove la lavorazione del ferro e del vetro erano particolarmente sviluppate. \nVenerdì 28 luglio\, sempre alle 17.30\, Patrizia Vezzosi\, ideatrice e responsabile del progetto “Le vie dei Medici”\, insieme all’architetto Diego Accardo\, presenteranno il progetto/rete “Le vie dei Medici. Museo Diffuso En Plein Air\, dalla Toscana all’Europa”\, nato qualche anno fa e che sta rapidamente diffondendosi\, attraverso i suoi Itinerari Medicei\, tra gran parte della Toscana e anche nella Romagna toscana. \nL’appuntamento al Museo di San Pietro; gli incontri si terranno nell’attiguo Chiostro di Sant’Agostino
URL:https://www.maremmaoggi.net/evento/si-parla-di-storia-e-archeologia-a-massa-marittima/
LOCATION:Museo San Pietro all’orto\, Corso Armando Diaz\, 36\, Massa Marittima\, 58024\, Italia
CATEGORIES:Convegno
ATTACH;FMTTYPE=image/jpeg:https://www.maremmaoggi.net/wp-content/uploads/2022/09/massa-marittima-cattedrale-maremma-oggi-e1690276788279.jpg
END:VEVENT
BEGIN:VEVENT
DTSTART;TZID=Europe/Rome:20230609T173000
DTEND;TZID=Europe/Rome:20230609T190000
DTSTAMP:20260422T213341
CREATED:20230603T121439Z
LAST-MODIFIED:20230603T121439Z
UID:112701-1686331800-1686337200@www.maremmaoggi.net
SUMMARY:Le fonderie di Massa Marittima tra foto e disegni
DESCRIPTION:Terzo incontro del ciclo  “Fonderie e ferriere dell’Alta Maremma nei disegni dal vero di Dino Petri”. Venerdì 9 giugno\, alle 17.30\, al museo di San Pietro all’Orto a Massa Marittima. Questa volta il cuore della giornata è il patrimonio e la storia del territorio\, vista con gli occhi del pittore (Dino Petri) e del fotografo (Carlo Bonazza). Un dialogo tra due linguaggi\, due punti di vista diversi ma molto vicini nella sensibilità. \nLa conversazione sarà tenuta da Corrado Barontini\, studioso e ricercatore della cultura popolare. \n 
URL:https://www.maremmaoggi.net/evento/le-fonderie-di-massa-marittima-tra-foto-e-disegni/
LOCATION:Museo San Pietro all’orto\, Corso Armando Diaz\, 36\, Massa Marittima\, 58024\, Italia
CATEGORIES:Convegno
ATTACH;FMTTYPE=image/jpeg:https://www.maremmaoggi.net/wp-content/uploads/2023/06/mostre-dino-petri.jpg
END:VEVENT
END:VCALENDAR