BEGIN:VCALENDAR
VERSION:2.0
PRODID:-//MaremmaOggi - ECPv6.15.19//NONSGML v1.0//EN
CALSCALE:GREGORIAN
METHOD:PUBLISH
X-ORIGINAL-URL:https://www.maremmaoggi.net
X-WR-CALDESC:Eventi per MaremmaOggi
REFRESH-INTERVAL;VALUE=DURATION:PT1H
X-Robots-Tag:noindex
X-PUBLISHED-TTL:PT1H
BEGIN:VTIMEZONE
TZID:Europe/Rome
BEGIN:DAYLIGHT
TZOFFSETFROM:+0100
TZOFFSETTO:+0200
TZNAME:CEST
DTSTART:20210328T010000
END:DAYLIGHT
BEGIN:STANDARD
TZOFFSETFROM:+0200
TZOFFSETTO:+0100
TZNAME:CET
DTSTART:20211031T010000
END:STANDARD
BEGIN:DAYLIGHT
TZOFFSETFROM:+0100
TZOFFSETTO:+0200
TZNAME:CEST
DTSTART:20220327T010000
END:DAYLIGHT
BEGIN:STANDARD
TZOFFSETFROM:+0200
TZOFFSETTO:+0100
TZNAME:CET
DTSTART:20221030T010000
END:STANDARD
BEGIN:DAYLIGHT
TZOFFSETFROM:+0100
TZOFFSETTO:+0200
TZNAME:CEST
DTSTART:20230326T010000
END:DAYLIGHT
BEGIN:STANDARD
TZOFFSETFROM:+0200
TZOFFSETTO:+0100
TZNAME:CET
DTSTART:20231029T010000
END:STANDARD
BEGIN:DAYLIGHT
TZOFFSETFROM:+0100
TZOFFSETTO:+0200
TZNAME:CEST
DTSTART:20240331T010000
END:DAYLIGHT
BEGIN:STANDARD
TZOFFSETFROM:+0200
TZOFFSETTO:+0100
TZNAME:CET
DTSTART:20241027T010000
END:STANDARD
BEGIN:DAYLIGHT
TZOFFSETFROM:+0100
TZOFFSETTO:+0200
TZNAME:CEST
DTSTART:20250330T010000
END:DAYLIGHT
BEGIN:STANDARD
TZOFFSETFROM:+0200
TZOFFSETTO:+0100
TZNAME:CET
DTSTART:20251026T010000
END:STANDARD
BEGIN:DAYLIGHT
TZOFFSETFROM:+0100
TZOFFSETTO:+0200
TZNAME:CEST
DTSTART:20260329T010000
END:DAYLIGHT
BEGIN:STANDARD
TZOFFSETFROM:+0200
TZOFFSETTO:+0100
TZNAME:CET
DTSTART:20261025T010000
END:STANDARD
END:VTIMEZONE
BEGIN:VEVENT
DTSTART;TZID=Europe/Rome:20251017T150000
DTEND;TZID=Europe/Rome:20251019T235900
DTSTAMP:20260421T105837
CREATED:20251015T140736Z
LAST-MODIFIED:20251015T140736Z
UID:291655-1760713200-1760918340@www.maremmaoggi.net
SUMMARY:Montorsaio celebra l’autunno con la 42° sagra della castagna
DESCRIPTION:MONTORSAIO. Torna uno degli appuntamenti più amati dell’autunno maremmano: la Sagra della Castagna di Montorsaio\, giunta alla sua 42ª edizione. \nDal 17 al 19 ottobre\, il borgo si anima con stand gastronomici\, cantine aperte e caldarroste che riempiono l’aria del profumo tipico di stagione. \nTra le novità di quest’anno c’è anche un mercatino di beneficenza\, organizzato in collaborazione con le associazioni locali\, dove sarà possibile acquistare prodotti artigianali\, contribuendo a iniziative solidali per la comunità di Montorsaio. \n\nEcco tutto il programma\nIl programma musicale accompagnerà tutte le serate con concerti live e dj set: venerdì apriranno gli One Eat One con dj Side alla porta\, mentre al pozzo suonerà dj Bard\, agli archi si esibiranno Checco&Mosca. Sabato sarà la volta dei Quartiere Coffee e di dj Franz Navas alla porta\, invece al pozzo c’è dj Nik  e agli archi è la volta degli Altaquota. \nDomenica 19 gli appuntamenti sono molti si inizia con la messa e con la fiera di beneficenza\, poi in programma c’è una sfilata a 6 zampe e la musica di dj Bardo. E sempre di domenica ci sono molte attività dedicate ai bambini\, come la scuola di acrobatica aerea e il truccabimbi di Jolly Blue circus art. \nUn mix di sapori\, tradizione e divertimento che renderà unica la 42° edizione della sagra. \n\n \n Pro Loco Montorsaio 
URL:https://www.maremmaoggi.net/evento/montorsaio-celebra-lautunno-con-la-42-sagra-della-castagna/
LOCATION:Montorsaio
CATEGORIES:Sagra
ATTACH;FMTTYPE=image/jpeg:https://www.maremmaoggi.net/wp-content/uploads/2025/10/sagra-castagna-2025-maremma-oggi.jpg
END:VEVENT
BEGIN:VEVENT
DTSTART;TZID=Europe/Rome:20221007T160000
DTEND;TZID=Europe/Rome:20221009T233000
DTSTAMP:20260421T105837
CREATED:20221006T175158Z
LAST-MODIFIED:20221006T175158Z
UID:71014-1665158400-1665358200@www.maremmaoggi.net
SUMMARY:A Montorsaio\, torna la sagra della castagna
DESCRIPTION:Spettacoli\, musica\, giochi per bambini\, una mostra di pittura e\, soprattutto\, cantine aperte e un fornitissimo stand gastronomico. Nel weekend dal 7 al 9 ottobre\, Montorsaio\, il borgo medievale nel comune di Campagnatico\, celebra uno dei sui prodotto simbolo\, con la 34° edizione della festa della castagna. \nOgni giorno\, alle 16 apre la fiera di beneficenza e iniziano i programmi per i bambini\, mentre dalle 19 si aprono le cantine e lo stand gastronomico (domenica aperto anche a pranzo). \nDomenica mattina alle 10\, c’è a la processione per le celebrazioni di San Cerbone\, santo patrono del paese\, che si festeggia\, appunto\, il 10 ottobre. \nNell’ambito della festa della castagna\, è in programma una mostra di pittura\, con i quadri di Fiorella Santucci\, pittrice autodidatta\, che vive a proprio a Montorsaio. \nIl dettaglio del programma\, nella locandina.
URL:https://www.maremmaoggi.net/evento/a-montorsaio-torna-la-sagra-della-castagna/
LOCATION:Montorsaio
CATEGORIES:Evento
ATTACH;FMTTYPE=image/jpeg:https://www.maremmaoggi.net/wp-content/uploads/2022/10/sagra-castagna-montorsaio.jpg
END:VEVENT
END:VCALENDAR