BEGIN:VCALENDAR
VERSION:2.0
PRODID:-//MaremmaOggi - ECPv6.15.19//NONSGML v1.0//EN
CALSCALE:GREGORIAN
METHOD:PUBLISH
X-ORIGINAL-URL:https://www.maremmaoggi.net
X-WR-CALDESC:Eventi per MaremmaOggi
REFRESH-INTERVAL;VALUE=DURATION:PT1H
X-Robots-Tag:noindex
X-PUBLISHED-TTL:PT1H
BEGIN:VTIMEZONE
TZID:Europe/Rome
BEGIN:DAYLIGHT
TZOFFSETFROM:+0100
TZOFFSETTO:+0200
TZNAME:CEST
DTSTART:20220327T010000
END:DAYLIGHT
BEGIN:STANDARD
TZOFFSETFROM:+0200
TZOFFSETTO:+0100
TZNAME:CET
DTSTART:20221030T010000
END:STANDARD
BEGIN:DAYLIGHT
TZOFFSETFROM:+0100
TZOFFSETTO:+0200
TZNAME:CEST
DTSTART:20230326T010000
END:DAYLIGHT
BEGIN:STANDARD
TZOFFSETFROM:+0200
TZOFFSETTO:+0100
TZNAME:CET
DTSTART:20231029T010000
END:STANDARD
BEGIN:DAYLIGHT
TZOFFSETFROM:+0100
TZOFFSETTO:+0200
TZNAME:CEST
DTSTART:20240331T010000
END:DAYLIGHT
BEGIN:STANDARD
TZOFFSETFROM:+0200
TZOFFSETTO:+0100
TZNAME:CET
DTSTART:20241027T010000
END:STANDARD
END:VTIMEZONE
BEGIN:VEVENT
DTSTART;TZID=Europe/Rome:20231111T203000
DTEND;TZID=Europe/Rome:20231111T203000
DTSTAMP:20260421T174135
CREATED:20231106T145933Z
LAST-MODIFIED:20231110T150613Z
UID:139767-1699734600-1699734600@www.maremmaoggi.net
SUMMARY:Andrea Casta incanta il Pelagone
DESCRIPTION:GAVORRANO. È il violinista Andrea Casta il super ospite della serata in programma sabato 11 novembre al Pelagone. Insieme al musicista\, per la serata “Sinfonika”\, ci saranno anche Alessandro Golini\, Andrea Sax ed Ettore Raso che ha curato la regia musicale.  \nL’appuntamento è alle 20.30 all’Hotel e Golf resort Il Pelagone.  \nGradito dress code elegante.  \nInfo e prenotazioni 339-6242020. 
URL:https://www.maremmaoggi.net/evento/andrea-casta-incanta-il-pelagone/
LOCATION:Hotel e golf resort Pelagone\, Località Pelagone 28\, Gavorrano\, 58023\, Italia
CATEGORIES:Cena e musica
ATTACH;FMTTYPE=image/jpeg:https://www.maremmaoggi.net/wp-content/uploads/2023/11/2017.jpg
END:VEVENT
END:VCALENDAR