BEGIN:VCALENDAR
VERSION:2.0
PRODID:-//MaremmaOggi - ECPv6.15.19//NONSGML v1.0//EN
CALSCALE:GREGORIAN
METHOD:PUBLISH
X-ORIGINAL-URL:https://www.maremmaoggi.net
X-WR-CALDESC:Eventi per MaremmaOggi
REFRESH-INTERVAL;VALUE=DURATION:PT1H
X-Robots-Tag:noindex
X-PUBLISHED-TTL:PT1H
BEGIN:VTIMEZONE
TZID:Europe/Rome
BEGIN:DAYLIGHT
TZOFFSETFROM:+0100
TZOFFSETTO:+0200
TZNAME:CEST
DTSTART:20210328T010000
END:DAYLIGHT
BEGIN:STANDARD
TZOFFSETFROM:+0200
TZOFFSETTO:+0100
TZNAME:CET
DTSTART:20211031T010000
END:STANDARD
BEGIN:DAYLIGHT
TZOFFSETFROM:+0100
TZOFFSETTO:+0200
TZNAME:CEST
DTSTART:20220327T010000
END:DAYLIGHT
BEGIN:STANDARD
TZOFFSETFROM:+0200
TZOFFSETTO:+0100
TZNAME:CET
DTSTART:20221030T010000
END:STANDARD
BEGIN:DAYLIGHT
TZOFFSETFROM:+0100
TZOFFSETTO:+0200
TZNAME:CEST
DTSTART:20230326T010000
END:DAYLIGHT
BEGIN:STANDARD
TZOFFSETFROM:+0200
TZOFFSETTO:+0100
TZNAME:CET
DTSTART:20231029T010000
END:STANDARD
BEGIN:DAYLIGHT
TZOFFSETFROM:+0100
TZOFFSETTO:+0200
TZNAME:CEST
DTSTART:20240331T010000
END:DAYLIGHT
BEGIN:STANDARD
TZOFFSETFROM:+0200
TZOFFSETTO:+0100
TZNAME:CET
DTSTART:20241027T010000
END:STANDARD
BEGIN:DAYLIGHT
TZOFFSETFROM:+0100
TZOFFSETTO:+0200
TZNAME:CEST
DTSTART:20250330T010000
END:DAYLIGHT
BEGIN:STANDARD
TZOFFSETFROM:+0200
TZOFFSETTO:+0100
TZNAME:CET
DTSTART:20251026T010000
END:STANDARD
END:VTIMEZONE
BEGIN:VEVENT
DTSTART;TZID=Europe/Rome:20240820T190000
DTEND;TZID=Europe/Rome:20240820T190000
DTSTAMP:20260419T225304
CREATED:20240819T092725Z
LAST-MODIFIED:20240819T092725Z
UID:182912-1724180400-1724180400@www.maremmaoggi.net
SUMMARY:La prima mondiale del violoncellista Nikolay Shugaev
DESCRIPTION:SCANSANO. Tornando a Scansano da Montemerano si sale\, prima di arrivare nel borgo\, al Chiostro dell’antico Convento del Petreto dove il 20 agosto si esibirà il violoncellista e direttore d’orchestra russo Nikolay Shugaev. \nIl virtuoso strumentista\, apprezzato e richiesto in tutta Europa per le sue doti di “musicista totale”\, proporrà un programma ampio e variegato\, comprendente una composizione per violoncello solo\, in prima esecuzione mondiale\, del compositore italiano Alessandro Annunziata che sarà presente al concerto. \n 
URL:https://www.maremmaoggi.net/evento/la-prima-mondiale-del-violoncellista-nikolay-shugaev/
LOCATION:Convento Petreto\, Strada Saragiolo\, Scansano\, 58054
CATEGORIES:concerto
ATTACH;FMTTYPE=image/jpeg:https://www.maremmaoggi.net/wp-content/uploads/2024/08/Nikolay-Shugaev-maremma-oggi.jpg
END:VEVENT
BEGIN:VEVENT
DTSTART;TZID=Europe/Rome:20220710T190000
DTEND;TZID=Europe/Rome:20220710T190000
DTSTAMP:20260419T225304
CREATED:20220707T102844Z
LAST-MODIFIED:20220707T102844Z
UID:52113-1657479600-1657479600@www.maremmaoggi.net
SUMMARY:I chitarristi Petrella e Rossi al convento Petreto
DESCRIPTION:SCANSANO. Per Morellino Classica domenica 10 luglio\, alle 19\, al convento Petreto di Scansano\, in collaborazione con il conservatorio “G. Verdi” di Milano concerto dei chitarristi Giulio Petrella e Filippo Rossi. \nMusiche di: G. Rossini – A. de Lhoyer – J. Rodrigo – G. Susani – M. Castelnuovo-Tedesco \nFilippo Rossi\, vincitore del primo premio al concorso Guitar Master Lago d’Orta 2021\,  è diplomato con pieni voti in chitarra classica al conservatorio di Milano\, dove frequenta attualmente il biennio di specializzazione col maestro Francesco Biraghi. Classe 2001\, Filippo Rossi comincia a suonare la chitarra all’età di quattro anni\, esordendo con successo in diversi concorsi già in giovane età: primo premio assoluto categoria solisti e secondo premio in musica da camera al concorso nazionale di musica di Trento (2014)\, secondo premio categorie musica da camera e solisti al concorso internazionale di musica per giovani della città di Stresa (2013). Si perfeziona frequentando per diversi anni i corsi Chianti in Musica\, Guitar Master Lago d’Orta e San Marino International Music Summer Courses. \nGiulio Petrella «Tra i migliori allievi del Conservatorio G. Verdi di Milano» (Milano per la Scala\, 2021)\,  svolge attività concertistica come solista e camerista sui palchi\, fra gli altri\, del Piccolo Teatro di Milano\, di Serate Musicali\, di diversi conservatori italiani e dell’Accademia Teatro alla Scala. Titolare di un progetto di ricerca al conservatorio di Milano intorno alle modalità relazionali della musica\, si occupa di didattica e di organizzazione di eventi culturali dal 2017\, anno del conseguimento della maturità classica. È attualmente iscritto al biennio di specializzazione nello stesso conservatorio – per il quale siede nel Cda – sotto la guida del maestro Francesco Biraghi\, col quale ha conseguito con lode la laurea in chitarra. Attraverso la frequentazione di festival “Homenaje” ed Errante Guitar Course si perfeziona con docenti di fama internazionale. \nDal 2021 Giulio Petrella e Filippo Rossi lavorano in duo su musica di repertorio\, nuove trascrizioni e commissioni di musica originale per la formazione\, oltre che esibendosi per serate musicali ed altre società concertistiche. Nel 2022 vincono il secondo premio al concorso Giulio Rospigliosi di Lamporecchio (PT) e il primo premio assoluto con menzione al concorso Giovanni Ansaldi di Pamparato (CN). \nIngresso a offerta libera \n 
URL:https://www.maremmaoggi.net/evento/chitarristi-petrella-rossi-convento-petreto/
LOCATION:Convento Petreto\, Strada Saragiolo\, Scansano\, 58054
CATEGORIES:concerto
ATTACH;FMTTYPE=image/jpeg:https://www.maremmaoggi.net/wp-content/uploads/2022/07/Duo-chitarristico-Rossi-Petrella_-002.jpg
END:VEVENT
END:VCALENDAR