BEGIN:VCALENDAR
VERSION:2.0
PRODID:-//MaremmaOggi - ECPv6.15.19//NONSGML v1.0//EN
CALSCALE:GREGORIAN
METHOD:PUBLISH
X-WR-CALNAME:MaremmaOggi
X-ORIGINAL-URL:https://www.maremmaoggi.net
X-WR-CALDESC:Eventi per MaremmaOggi
REFRESH-INTERVAL;VALUE=DURATION:PT1H
X-Robots-Tag:noindex
X-PUBLISHED-TTL:PT1H
BEGIN:VTIMEZONE
TZID:Europe/Rome
BEGIN:DAYLIGHT
TZOFFSETFROM:+0100
TZOFFSETTO:+0200
TZNAME:CEST
DTSTART:20210328T010000
END:DAYLIGHT
BEGIN:STANDARD
TZOFFSETFROM:+0200
TZOFFSETTO:+0100
TZNAME:CET
DTSTART:20211031T010000
END:STANDARD
BEGIN:DAYLIGHT
TZOFFSETFROM:+0100
TZOFFSETTO:+0200
TZNAME:CEST
DTSTART:20220327T010000
END:DAYLIGHT
BEGIN:STANDARD
TZOFFSETFROM:+0200
TZOFFSETTO:+0100
TZNAME:CET
DTSTART:20221030T010000
END:STANDARD
BEGIN:DAYLIGHT
TZOFFSETFROM:+0100
TZOFFSETTO:+0200
TZNAME:CEST
DTSTART:20230326T010000
END:DAYLIGHT
BEGIN:STANDARD
TZOFFSETFROM:+0200
TZOFFSETTO:+0100
TZNAME:CET
DTSTART:20231029T010000
END:STANDARD
END:VTIMEZONE
BEGIN:VEVENT
DTSTART;TZID=Europe/Rome:20221005T080000
DTEND;TZID=Europe/Rome:20221005T170000
DTSTAMP:20260421T141035
CREATED:20221005T144340Z
LAST-MODIFIED:20221005T144340Z
UID:70794-1664956800-1664989200@www.maremmaoggi.net
SUMMARY:Benessere animale: salute e opportunità
DESCRIPTION:GROSSETO. Animali e Maremma. Un binomio storico e inscindibile allo stesso tempo. Il 6 ottobre è in programma un convegno per parlare di allevamenti\, di come tutelare gli animali e la salute dei consumatori.  \nPromossa da Cia Agricoltori\, la conferenza dal titolo “Il benessere animale. Normativa\, obblighi\, opportunità” è un’occasione per tutto il settore di fare il punto sull’orizzonte normativo e sulle varie opportunità che offre. \nLa sede della conferenza\, non a caso\, è quella del Consorzio Produttori Latte Maremma (via Scansanese 150). \nL’evento inizia alle 9.30 con la registrazione dei partecipanti. Apre i lavori Cia Agricoltori\, con i saluti del presidente Claudio Capecchi. \nPer partecipare è necessario iscriversi al link: https://form.jotform.com/222575215145351 
URL:https://www.maremmaoggi.net/evento/benessere-animale-salute-e-opportunita/
LOCATION:Consorzio produttori Latte Maremma\, Via Scansanese 150\, Grosseto\, 58100\, Italia
CATEGORIES:Convegno
ATTACH;FMTTYPE=image/jpeg:https://www.maremmaoggi.net/wp-content/uploads/2022/09/cia-benessere-animale-6-ottobre-maremma-oggi-fb.jpg
END:VEVENT
END:VCALENDAR