BEGIN:VCALENDAR
VERSION:2.0
PRODID:-//MaremmaOggi - ECPv6.15.20//NONSGML v1.0//EN
CALSCALE:GREGORIAN
METHOD:PUBLISH
X-ORIGINAL-URL:https://www.maremmaoggi.net
X-WR-CALDESC:Eventi per MaremmaOggi
REFRESH-INTERVAL;VALUE=DURATION:PT1H
X-Robots-Tag:noindex
X-PUBLISHED-TTL:PT1H
BEGIN:VTIMEZONE
TZID:Europe/Rome
BEGIN:DAYLIGHT
TZOFFSETFROM:+0100
TZOFFSETTO:+0200
TZNAME:CEST
DTSTART:20250330T010000
END:DAYLIGHT
BEGIN:STANDARD
TZOFFSETFROM:+0200
TZOFFSETTO:+0100
TZNAME:CET
DTSTART:20251026T010000
END:STANDARD
BEGIN:DAYLIGHT
TZOFFSETFROM:+0100
TZOFFSETTO:+0200
TZNAME:CEST
DTSTART:20260329T010000
END:DAYLIGHT
BEGIN:STANDARD
TZOFFSETFROM:+0200
TZOFFSETTO:+0100
TZNAME:CET
DTSTART:20261025T010000
END:STANDARD
BEGIN:DAYLIGHT
TZOFFSETFROM:+0100
TZOFFSETTO:+0200
TZNAME:CEST
DTSTART:20270328T010000
END:DAYLIGHT
BEGIN:STANDARD
TZOFFSETFROM:+0200
TZOFFSETTO:+0100
TZNAME:CET
DTSTART:20271031T010000
END:STANDARD
END:VTIMEZONE
BEGIN:VEVENT
DTSTART;TZID=Europe/Rome:20260305T190000
DTEND;TZID=Europe/Rome:20260305T220000
DTSTAMP:20260424T180916
CREATED:20260303T140747Z
LAST-MODIFIED:20260303T140747Z
UID:330592-1772737200-1772748000@www.maremmaoggi.net
SUMMARY:Famiglia\, ferite e ritorni scomodi: al Cinema Astra il film di Joachim Trier
DESCRIPTION:FOLLONICA. Per il ciclo “Cinema d’autore – giovedì all’astra”\, al Cinema Astra di Follonica\, è in programma Sentimental Value\, con la regia di Joachim Trier. Con Renate Reinsve\, Stellan Skarsgård\, Inga Ibsdotter Lilleaas ed Elle Fanning. L’appuntamento è il 5 marzo alle 19. \nIl film parla della vita di Nora e Agnes dopo che il loro padre\, regista geniale ma inaffidabile\, ricompare dopo anni insieme a una giovane attrice americana. Le due sono costrette a confrontarsi con il passato\, con le proprie vulnerabilità e con un legame familiare mai davvero risolto. \nPer conoscere la programmazione di tutti i film all’Astra\, basta chiamare lo 0566 53945 oppure seguire il Gruppo Facebook.
URL:https://www.maremmaoggi.net/evento/famiglia-ferite-e-ritorni-scomodi-al-cinema-astra-il-film-di-joachim-trier/
LOCATION:Cinema Astra Follonica\, Via della Pace\, 34A\, Follonica\, GR\, 58022\, Italy
CATEGORIES:Cinema
ATTACH;FMTTYPE=image/jpeg:https://www.maremmaoggi.net/wp-content/uploads/2026/03/locandina-cinema-astra-maremma-oggi.jpg
END:VEVENT
END:VCALENDAR