BEGIN:VCALENDAR
VERSION:2.0
PRODID:-//MaremmaOggi - ECPv6.15.19//NONSGML v1.0//EN
CALSCALE:GREGORIAN
METHOD:PUBLISH
X-ORIGINAL-URL:https://www.maremmaoggi.net
X-WR-CALDESC:Eventi per MaremmaOggi
REFRESH-INTERVAL;VALUE=DURATION:PT1H
X-Robots-Tag:noindex
X-PUBLISHED-TTL:PT1H
BEGIN:VTIMEZONE
TZID:Europe/Rome
BEGIN:DAYLIGHT
TZOFFSETFROM:+0100
TZOFFSETTO:+0200
TZNAME:CEST
DTSTART:20210328T010000
END:DAYLIGHT
BEGIN:STANDARD
TZOFFSETFROM:+0200
TZOFFSETTO:+0100
TZNAME:CET
DTSTART:20211031T010000
END:STANDARD
BEGIN:DAYLIGHT
TZOFFSETFROM:+0100
TZOFFSETTO:+0200
TZNAME:CEST
DTSTART:20220327T010000
END:DAYLIGHT
BEGIN:STANDARD
TZOFFSETFROM:+0200
TZOFFSETTO:+0100
TZNAME:CET
DTSTART:20221030T010000
END:STANDARD
BEGIN:DAYLIGHT
TZOFFSETFROM:+0100
TZOFFSETTO:+0200
TZNAME:CEST
DTSTART:20230326T010000
END:DAYLIGHT
BEGIN:STANDARD
TZOFFSETFROM:+0200
TZOFFSETTO:+0100
TZNAME:CET
DTSTART:20231029T010000
END:STANDARD
END:VTIMEZONE
BEGIN:VEVENT
DTSTART;TZID=Europe/Rome:20220707T080000
DTEND;TZID=Europe/Rome:20220707T170000
DTSTAMP:20260421T172659
CREATED:20220707T102242Z
LAST-MODIFIED:20220707T102242Z
UID:52117-1657180800-1657213200@www.maremmaoggi.net
SUMMARY:Al Baluba torna il giovedì firmato Bresciani
DESCRIPTION:FOLLONICA. Giovedì 7 luglio il Baluba ospita il format “24mila baci di puro divertimento”. Per la stagione 2022 torna la serata firmata dal dj Marco Bresciani nella discoteca della costa toscana. Ogni giovedì il “capitano”\, soprannome con cui è conosciuto il dj nel mondo della notte\, sarà alla consolle per far divertire gli ospiti del locale. \nCome vuole la tradizione\, la musica e la voce di Bresciani animeranno la serata\, con brani che hanno fatto la storia della musica italiana\, le hit del momento e i suoi racconti magici.  \nL’apertura è prevista alle ore 23.30\, per informazioni e prenotazioni dei tavoli è a disposizione il numero: 331 9114998. Il Baluba si trova in via Sanzio a Follonica.  \n 
URL:https://www.maremmaoggi.net/evento/al-baluba-torna-il-giovedi-firmato-bresciani/
LOCATION:Baluba\, via Sanzio\, Follonica
CATEGORIES:Musica
ATTACH;FMTTYPE=image/png:https://www.maremmaoggi.net/wp-content/uploads/2022/07/viaggio-4.png
END:VEVENT
END:VCALENDAR