BEGIN:VCALENDAR
VERSION:2.0
PRODID:-//MaremmaOggi - ECPv6.15.19//NONSGML v1.0//EN
CALSCALE:GREGORIAN
METHOD:PUBLISH
X-ORIGINAL-URL:https://www.maremmaoggi.net
X-WR-CALDESC:Eventi per MaremmaOggi
REFRESH-INTERVAL;VALUE=DURATION:PT1H
X-Robots-Tag:noindex
X-PUBLISHED-TTL:PT1H
BEGIN:VTIMEZONE
TZID:Europe/Rome
BEGIN:DAYLIGHT
TZOFFSETFROM:+0100
TZOFFSETTO:+0200
TZNAME:CEST
DTSTART:20210328T010000
END:DAYLIGHT
BEGIN:STANDARD
TZOFFSETFROM:+0200
TZOFFSETTO:+0100
TZNAME:CET
DTSTART:20211031T010000
END:STANDARD
BEGIN:DAYLIGHT
TZOFFSETFROM:+0100
TZOFFSETTO:+0200
TZNAME:CEST
DTSTART:20220327T010000
END:DAYLIGHT
BEGIN:STANDARD
TZOFFSETFROM:+0200
TZOFFSETTO:+0100
TZNAME:CET
DTSTART:20221030T010000
END:STANDARD
BEGIN:DAYLIGHT
TZOFFSETFROM:+0100
TZOFFSETTO:+0200
TZNAME:CEST
DTSTART:20230326T010000
END:DAYLIGHT
BEGIN:STANDARD
TZOFFSETFROM:+0200
TZOFFSETTO:+0100
TZNAME:CET
DTSTART:20231029T010000
END:STANDARD
BEGIN:DAYLIGHT
TZOFFSETFROM:+0100
TZOFFSETTO:+0200
TZNAME:CEST
DTSTART:20240331T010000
END:DAYLIGHT
BEGIN:STANDARD
TZOFFSETFROM:+0200
TZOFFSETTO:+0100
TZNAME:CET
DTSTART:20241027T010000
END:STANDARD
END:VTIMEZONE
BEGIN:VEVENT
DTSTART;VALUE=DATE:20221224
DTEND;VALUE=DATE:20230108
DTSTAMP:20260422T124340
CREATED:20221213T121634Z
LAST-MODIFIED:20221213T121634Z
UID:82846-1671840000-1673135999@www.maremmaoggi.net
SUMMARY:Salaiola affascina con i presepi in rima
DESCRIPTION:SALAIOLA. Tanti Presepi\, grandi\, piccoli o piccolissimi sono stati allestiti nelle vie del minuscolo paese amiatino che sembra a sua volta un presepe: Salaiola invita a visitare Presepi in Rima\, giunto alla decima edizione. \n  \nL’evento\nGli abitanti e l’associazione l’Aquilaia tengono molto all’iniziativa.  Fonde lo spirito natalizio con la tradizione e la poesia. Accanto ad ogni presepe si possono infatti trovare dei versi\, a formare un percorso interiore oltre che una piacevole passeggiata. Salaiola è nota per organizzare ogni estate la Festa della Poesia\, ed il Natale è la giusta occasione per dare continuità ad una vocazione che contraddistingue il paese da molti anni. Sarà possibile vedere i presepi anche grazie alle immagini che verranno pubblicate sulla pagina https://fb.me/e/45kmT3V2t \nNel pieno spirito natalizio di condivisione e fratellanza\, chiunque voglia creare un Presepe a Salaiola può farlo\, corredandolo con la propria poesia preferita. L’associazione l’Aquilaia provvederà ad inserirlo nella mappa del percorso. \nSalaiola\, circondata da castagneti secolari in un prezioso contesto naturalistico\, è dal 2018 il primo Borgo Naturalistico d’Italia poiché gli abitanti hanno sottoscritto un protocollo impegnandosi nelle buone pratiche ecologiche; una ragione in più per godere di una camminata tra natura\, poesia e tradizione. \nPer informazioni: aquilaiasalaiola@gmail.com \n 
URL:https://www.maremmaoggi.net/evento/salaiola-affascina-con-i-suoi-presepi/
LOCATION:salaiola\, Arcidosso\, 58031\, Italia
CATEGORIES:Evento
ATTACH;FMTTYPE=image/jpeg:https://www.maremmaoggi.net/wp-content/uploads/2022/12/presepi-in-rima-maremma-oggi-fb.jpg
END:VEVENT
BEGIN:VEVENT
DTSTART;TZID=Europe/Rome:20221224T150000
DTEND;TZID=Europe/Rome:20221224T163000
DTSTAMP:20260422T124340
CREATED:20221222T105738Z
LAST-MODIFIED:20221222T105938Z
UID:84613-1671894000-1671899400@www.maremmaoggi.net
SUMMARY:“NataleInsieme” 2022: la vigilia arriva Babbo Natale
DESCRIPTION:SCARLINO. Continua il programma di “NataleInsieme”\, la rassegna natalizia promossa dal Comune di Scarlino con il sostegno di alcune realtà locali.\nPer la Vigilia di Natale\, sabato 24 dicembre\, è in programma un evento dedicato a grandi e piccoli. In piazza Garibaldi\, nel centro urbano capoluogo\, dalle ore 15 ad attendere i bambini ci sarà Babbo Natale che consegnerà loro i doni. Ma non solo: nella piazza saranno allestite delle bancarelle con dolci\, vin brulè e cioccolata calda.\nL’evento è promosso dall’associazione ProScarlino ed è gratuito.\n \n«Sarà un’altra occasione per trascorrere insieme questo periodo di festa – spiega l’assessore al turismo\, Silvia Travison – ringraziamo la ProScarlino che ha organizzato con noi questa iniziativa e invitiamo le famiglie scarlinesi e non solo a partecipare».\nIl programma continua a gennaio\n \nIl programma della rassegna continua a gennaio con altri appuntamenti da non perdere.\n\nMartedì 3 gennaio nella chiesa della Madonna delle Grazie a Scarlino Scalo alle ore 21 c’è il concerto di inizio anno della Filarmonica G.Puccini (ingresso gratuito).\nGiovedì 5 gennaio\, dalle 14\, in piazza Gramsci a Scarlino Scalo\, arriva la Befana a cavallo. L’evento\, ad ingresso gratuito\, è organizzato dal comitato della Croce Rossa di Scarlino con la collaborazione di “Chiara Ranch”.\nVenerdì 6 gennaio invece\, la Befana arriverà dal mare: l’appuntamento stavolta è al Puntone di Scarlino\, tra piazza Dani e la Fiumara. La befana arriverà alle 15 e consegnerà le calze ai piccoli. Nella piazza sarà allestito un buffet sempre a tema natalizio. L’evento è organizzato dalla Pro Scarlino ed è ad ingresso gratuito.
URL:https://www.maremmaoggi.net/evento/nataleinsieme-2022-la-vigilia-arriva-babbo-natale/
LOCATION:Piazza Garibaldi – Scarlino\, Piazza Garibaldi\, Scarlino\, Italia
CATEGORIES:Evento
ATTACH;FMTTYPE=image/jpeg:https://www.maremmaoggi.net/wp-content/uploads/2022/12/Babbo-Natale-a-Scarlino.jpg
END:VEVENT
END:VCALENDAR