BEGIN:VCALENDAR
VERSION:2.0
PRODID:-//MaremmaOggi - ECPv6.15.19//NONSGML v1.0//EN
CALSCALE:GREGORIAN
METHOD:PUBLISH
X-ORIGINAL-URL:https://www.maremmaoggi.net
X-WR-CALDESC:Eventi per MaremmaOggi
REFRESH-INTERVAL;VALUE=DURATION:PT1H
X-Robots-Tag:noindex
X-PUBLISHED-TTL:PT1H
BEGIN:VTIMEZONE
TZID:Europe/Rome
BEGIN:DAYLIGHT
TZOFFSETFROM:+0100
TZOFFSETTO:+0200
TZNAME:CEST
DTSTART:20210328T010000
END:DAYLIGHT
BEGIN:STANDARD
TZOFFSETFROM:+0200
TZOFFSETTO:+0100
TZNAME:CET
DTSTART:20211031T010000
END:STANDARD
BEGIN:DAYLIGHT
TZOFFSETFROM:+0100
TZOFFSETTO:+0200
TZNAME:CEST
DTSTART:20220327T010000
END:DAYLIGHT
BEGIN:STANDARD
TZOFFSETFROM:+0200
TZOFFSETTO:+0100
TZNAME:CET
DTSTART:20221030T010000
END:STANDARD
BEGIN:DAYLIGHT
TZOFFSETFROM:+0100
TZOFFSETTO:+0200
TZNAME:CEST
DTSTART:20230326T010000
END:DAYLIGHT
BEGIN:STANDARD
TZOFFSETFROM:+0200
TZOFFSETTO:+0100
TZNAME:CET
DTSTART:20231029T010000
END:STANDARD
END:VTIMEZONE
BEGIN:VEVENT
DTSTART;VALUE=DATE:20221217
DTEND;VALUE=DATE:20221219
DTSTAMP:20260422T124335
CREATED:20221218T152520Z
LAST-MODIFIED:20221218T152520Z
UID:83800-1671235200-1671407999@www.maremmaoggi.net
SUMMARY:Natale a Marina\, giochi per bambini e solidarietà
DESCRIPTION:GROSSETO. Il Natale arriva anche in riva al mare. \nPer le giornate di sabato 17 e domenica 18 dicembre a Marina di Grosseto ci saranno una serie di iniziative dedicate ai bambini\, senza dimenticare chi ne ha più bisogno. \nAl pattinodromo della frazione marittima sabato 17 è prevista una caccia al tesoro\, con partenza alle 14.30. Sempre stesso orario per le iniziative di domenica 18. Si va dalla pentolaccia al biliardino\, non manca lo zucchero filato e il laboratorio per le palline di Natale. Per tutti i partecipanti è prevista una merenda e la tappa al trono di Babbo Natale. \nLa locandina degli eventi\nLe scatole di Natale\nAlla sala comunale (in via Granducato di Toscana 7) la Pro Loco di marina e la Caritas hanno organizzato un punto dove raccogliere beni da donare ai più bisognosi. All’interno della sala è presente anche un mercatino di beneficenza. \nSia sabato 17 che domenica 18\, gli orari di accesso alla sala vanno dalle 10 alle 12\, e dalle 15 alle 18. \nCome iniziativa di solidarietà sono state preparate delle scatole di Natale\, da riempire con ogni bene che si vorrà donare. Si dove specificare a chi la si vuol donare (vedi locandina sotto). \nLa locandina dell’iniziativa
URL:https://www.maremmaoggi.net/evento/natale-a-marina-giochi-per-bambini-e-solidarieta/
LOCATION:Marina di Grosseto\, Marina di Grosseto\, Italia
CATEGORIES:Evento
ATTACH;FMTTYPE=image/jpeg:https://www.maremmaoggi.net/wp-content/uploads/2022/12/principina-marina-natale.jpeg
END:VEVENT
BEGIN:VEVENT
DTSTART;VALUE=DATE:20221218
DTEND;VALUE=DATE:20221219
DTSTAMP:20260422T124335
CREATED:20221213T114722Z
LAST-MODIFIED:20221213T114722Z
UID:82837-1671321600-1671407999@www.maremmaoggi.net
SUMMARY:I Presepi di Gerfalco
DESCRIPTION:GERFALCO. Anche quest’anno il borgo vicino Montieri proseguirà con la quarta edizione dell’ormai tradizionale appuntamento con i “Presepi di Gerfalco” allestiti dai suoi non numerosi abitanti\, i quali sono talmente entusiasti di partecipare in prima persona all’iniziativa da far aumentare ogni anno il numero della loro presenza. L’iniziativa gode anche del patrocinio dell’amministrazione comunale di Montieri. \nL’evento\nQuesto semplice evento che si svolgerà domenica 18 dicembre\, sarà presentato sabato 17 alle ore 16.30  al Centro Visite da Sandra Radicchi\, del Centro di Lingua e Cultura Italiana Castanea\, e ideatrice del progetto.\nLa particolarità  consiste nel fare un giro fra i presepi\, quasi tutti all’esterno delle abitazioni\, guidati da alcuni autori degli stessi. \nCertamente il senso profondo di questa giornata vorrebbe essere proprio nel suo messaggio di calda e sincera ospitalità verso chi arriva\, così come durante la preparazione dei presepi\, il dialogo e la disponibilità ad aiutarsi reciprocamente nel loro allestimento\, aveva caratterizzato l’attività dei “presepisti”. A Gerfalco\, insomma\, non si va per vedere i presepi ma per sentire i presepi.\nCon questa finalità ecco la proposta del progetto di seguire un itinerario quasi cerimoniale grazie al quale possa avvenire una sciolta interazione fra chi ha operato e chi viene all’appuntamento\, così da far emergere in modo spontaneo il significato della nascita del Bambino come il sorgere della luce della vita nell’evento del presepe.  \nDa non trascurare poi il fatto che nella stessa giornata sarà presente per la prima volta un mercatino di pochi banchi per la maggior parte a scopo di beneficenza e che l’Agriristoro e il Circolo del paese saranno a disposizione di tutti.\nA questo punto non resta che suggerire di passare questo fine settimana a Gerfalco dove si coniugano la cordialità degli abitanti\, la bellezza del territorio e la bontà dei suoi prodotti. \n 
URL:https://www.maremmaoggi.net/evento/i-presepi-di-gerfalco/
LOCATION:Gerfalco\, Gerfalco\, Italia
CATEGORIES:Mostra
ATTACH;FMTTYPE=image/jpeg:https://www.maremmaoggi.net/wp-content/uploads/2021/12/gerfalco-fb.jpg
END:VEVENT
BEGIN:VEVENT
DTSTART;TZID=Europe/Rome:20221218T163000
DTEND;TZID=Europe/Rome:20221218T183000
DTSTAMP:20260422T124335
CREATED:20221217T110442Z
LAST-MODIFIED:20221217T110442Z
UID:83653-1671381000-1671388200@www.maremmaoggi.net
SUMMARY:“Natale in casa della natura”
DESCRIPTION:GROSSETO. Tre appuntamenti dedicati ai più piccoli\, per celebrare “in tema” la festa più amata dell’anno. È “Natale in casa della natura”\, la rassegna organizzata dal Museo di storia naturale della Maremma in occasione delle feste natalizie\, tra laboratori e proiezione di cartoni animati. \nGli eventi\nSi comincia domenica 18 dicembre alle ore 16.30 nella sede di strada Corsini con “Alla scoperta della natura in inverno”\, un laboratorio curato dalla cooperativa Le Orme particolarmente indicato per bambini di età compresa tra 7 e 12 anni\, senza necessità dell’accompagnamento di genitori o adulti: sarà l’occasione per scoprire tanti piccoli segreti di piante e animali nel periodo invernale. \nIl costo di partecipazione è di 3 euro ed è consigliata la prenotazione sul sito www.museonaturalemaremma.it/Eventi (per informazioni è possibile chiamare il museo al numero 0564 488571). \nProssimi appuntamenti\nGli appuntamenti successivi di “Natale in casa della natura” sono: \n\ngiovedì 29 dicembre ore 16.30 con la proiezione del cartone animato “La strega Rossella e Bastoncino” \nvenerdì 30 dicembre sempre alle ore 16.30 con la proiezione di “Zog e Topo Brigante” \n\nEntrambi gli appuntamenti sono a ingresso libero. \nAnche in questi casi è già possibile prenotarsi per partecipare\, compilando il form al link www.museonaturalemaremma.it/Eventi. \n 
URL:https://www.maremmaoggi.net/evento/natale-in-casa-della-natura/
LOCATION:Museo di Storia naturale della Maremma\, Piazza della Palma\, Grosseto\, 58100
CATEGORIES:Evento,Mostra
ATTACH;FMTTYPE=image/png:https://www.maremmaoggi.net/wp-content/uploads/2022/11/ia.png
END:VEVENT
BEGIN:VEVENT
DTSTART;TZID=Europe/Rome:20221218T210000
DTEND;TZID=Europe/Rome:20221218T230000
DTSTAMP:20260422T124335
CREATED:20221217T104221Z
LAST-MODIFIED:20221220T143816Z
UID:83642-1671397200-1671404400@www.maremmaoggi.net
SUMMARY:Concerto jazz di Stefano Cocco Cantini
DESCRIPTION:SCARLINO. Il calendario natalizio del Comune di Scarlino entra nel vivo: nella chiesa di San Donato\, domenica 18 dicembre alle ore 21. è in programma il concerto jazz di Stefano Cocco Cantini con Valentina Toni e Raffaele Pallozzi al pianoforte. “ScarlinoInsieme” è la rassegna di eventi creata dall’Amministrazione comunale per offrire alla cittadinanza dei momenti di svago e di approfondimento da trascorrere insieme tra la fine di dicembre e l’inizio di gennaio. L’evento è ad ingresso gratuito.
URL:https://www.maremmaoggi.net/evento/il-concerto-jazz-di-stefano-cocco-cantini/
CATEGORIES:Musica
ATTACH;FMTTYPE=image/jpeg:https://www.maremmaoggi.net/wp-content/uploads/2022/12/Stefano-Cocco-Cantini-Maremma-oggi-fb.jpg
END:VEVENT
END:VCALENDAR