BEGIN:VCALENDAR
VERSION:2.0
PRODID:-//MaremmaOggi - ECPv6.15.19//NONSGML v1.0//EN
CALSCALE:GREGORIAN
METHOD:PUBLISH
X-ORIGINAL-URL:https://www.maremmaoggi.net
X-WR-CALDESC:Eventi per MaremmaOggi
REFRESH-INTERVAL;VALUE=DURATION:PT1H
X-Robots-Tag:noindex
X-PUBLISHED-TTL:PT1H
BEGIN:VTIMEZONE
TZID:Europe/Rome
BEGIN:DAYLIGHT
TZOFFSETFROM:+0100
TZOFFSETTO:+0200
TZNAME:CEST
DTSTART:20250330T010000
END:DAYLIGHT
BEGIN:STANDARD
TZOFFSETFROM:+0200
TZOFFSETTO:+0100
TZNAME:CET
DTSTART:20251026T010000
END:STANDARD
BEGIN:DAYLIGHT
TZOFFSETFROM:+0100
TZOFFSETTO:+0200
TZNAME:CEST
DTSTART:20260329T010000
END:DAYLIGHT
BEGIN:STANDARD
TZOFFSETFROM:+0200
TZOFFSETTO:+0100
TZNAME:CET
DTSTART:20261025T010000
END:STANDARD
BEGIN:DAYLIGHT
TZOFFSETFROM:+0100
TZOFFSETTO:+0200
TZNAME:CEST
DTSTART:20270328T010000
END:DAYLIGHT
BEGIN:STANDARD
TZOFFSETFROM:+0200
TZOFFSETTO:+0100
TZNAME:CET
DTSTART:20271031T010000
END:STANDARD
END:VTIMEZONE
BEGIN:VEVENT
DTSTART;TZID=Europe/Rome:20260110T080000
DTEND;TZID=Europe/Rome:20260110T170000
DTSTAMP:20260422T052314
CREATED:20260108T174953Z
LAST-MODIFIED:20260108T175027Z
UID:315608-1768032000-1768064400@www.maremmaoggi.net
SUMMARY:Dal turismo all’economia: il Fossombroni guida la scelta delle superiori
DESCRIPTION:GROSSETO. L’ISIS V. Fossombroni presenta il calendario delle attività di orientamento 2026 dedicate agli studenti delle classi terze della provincia di Grosseto e alle loro famiglie. L’obiettivo è accompagnare i ragazzi verso una scelta consapevole della scuola superiore\, offrendo la possibilità di conoscere da vicino i percorsi proposti dall’istituto. \nPer il Settore economico\, il Fossombroni mette a disposizione quattro indirizzi: Amministrazione\, Finanza e marketing\, Sistemi informativi aziendali (anche con indirizzo sportivo)\, Relazioni internazionali per il marketing e Turismo. \n \nEcco tutte le date\nA gennaio sono previsti open day e open lab\, oltre a laboratori dedicati alle discipline sportive\, al turismo\, all’economia aziendale\, alle relazioni internazionali e all’informatica. \nLe attività cominciano sabato 10 gennaio\, con l’open day: gruppo 1 dalle 15.30 alle 16.30 e gruppo 2 dalle 16.30 alle 17.30. Poi mercoledì 14 gennaio con i laboratori orientativi (15.30-17.30) su tutte le discipline del Settore Economico\, e con l’open day negli orari 15.30-16.30 e 16.30-17.30. Seguono gli open day di domenica 18 gennaio e giovedì 22 gennaio\, sempre nei due turni. \nÈ possibile prenotare colloqui individuali via email o telefono\, basta chiamare lo 0564 484801 oppure inviare una mail a gris01300g@istruzione.it o a diamanti.sabina@isisfossombroni.edu.it. \n\n \n ISIS “V. Fossombroni” \n fossombroni_official
URL:https://www.maremmaoggi.net/evento/dal-turismo-alleconomia-il-fossombroni-guida-la-scelta-delle-superiori/
LOCATION:Istituto Fossombroni\, Via Sicilia 45\, Grosseto\, 58100\, Italia
CATEGORIES:Evento
ATTACH;FMTTYPE=image/jpeg:https://www.maremmaoggi.net/wp-content/uploads/2025/11/gli-studenti-del-fossombroni-maremma-oggi.jpg
END:VEVENT
BEGIN:VEVENT
DTSTART;TZID=Europe/Rome:20260110T170000
DTEND;TZID=Europe/Rome:20260110T193000
DTSTAMP:20260422T052314
CREATED:20260108T093416Z
LAST-MODIFIED:20260108T093416Z
UID:315399-1768064400-1768073400@www.maremmaoggi.net
SUMMARY:Angeli tra oriente e occidente: l’arte che unisce spiritualità e visioni
DESCRIPTION:GROSSETO. Sabato 10 gennaio alle 17\, al Polo culturale Le Clarisse di Grosseto\, inaugura la mostra “Angeli – Espressioni d’arte in mostra”\, a cura dell’associazione Archeosofica di Grosseto. L’esposizione\, a ingresso gratuito\, resterà aperta fino al 31 gennaio. \nPromossa da Fondazione Grosseto Cultura e ideata dagli artisti del gruppo “Icona in arte”\, la mostra propone un percorso tra opere e creazioni originali dedicate alla figura dell’angelo\, interpretata secondo diverse tradizioni religiose. Un viaggio simbolico tra oriente e occidente che intreccia storia dell’arte\, spiritualità e ricerca contemporanea.
URL:https://www.maremmaoggi.net/evento/angeli-tra-oriente-e-occidente-larte-che-unisce-spiritualita-e-visioni/
LOCATION:Polo Le Clarisse\, via Vinzaglio\, 27\, Grosseto\, 58100
CATEGORIES:Evento
ATTACH;FMTTYPE=image/jpeg:https://www.maremmaoggi.net/wp-content/uploads/2022/12/polo-le-clarisse-grosseto-02-maremma-oggi.jpg
END:VEVENT
END:VCALENDAR