BEGIN:VCALENDAR
VERSION:2.0
PRODID:-//MaremmaOggi - ECPv6.15.19//NONSGML v1.0//EN
CALSCALE:GREGORIAN
METHOD:PUBLISH
X-WR-CALNAME:MaremmaOggi
X-ORIGINAL-URL:https://www.maremmaoggi.net
X-WR-CALDESC:Eventi per MaremmaOggi
REFRESH-INTERVAL;VALUE=DURATION:PT1H
X-Robots-Tag:noindex
X-PUBLISHED-TTL:PT1H
BEGIN:VTIMEZONE
TZID:Europe/Rome
BEGIN:DAYLIGHT
TZOFFSETFROM:+0100
TZOFFSETTO:+0200
TZNAME:CEST
DTSTART:20250330T010000
END:DAYLIGHT
BEGIN:STANDARD
TZOFFSETFROM:+0200
TZOFFSETTO:+0100
TZNAME:CET
DTSTART:20251026T010000
END:STANDARD
BEGIN:DAYLIGHT
TZOFFSETFROM:+0100
TZOFFSETTO:+0200
TZNAME:CEST
DTSTART:20260329T010000
END:DAYLIGHT
BEGIN:STANDARD
TZOFFSETFROM:+0200
TZOFFSETTO:+0100
TZNAME:CET
DTSTART:20261025T010000
END:STANDARD
BEGIN:DAYLIGHT
TZOFFSETFROM:+0100
TZOFFSETTO:+0200
TZNAME:CEST
DTSTART:20270328T010000
END:DAYLIGHT
BEGIN:STANDARD
TZOFFSETFROM:+0200
TZOFFSETTO:+0100
TZNAME:CET
DTSTART:20271031T010000
END:STANDARD
END:VTIMEZONE
BEGIN:VEVENT
DTSTART;TZID=Europe/Rome:20260501T123000
DTEND;TZID=Europe/Rome:20260501T160000
DTSTAMP:20260422T112228
CREATED:20260422T082237Z
LAST-MODIFIED:20260422T082237Z
UID:343034-1777638600-1777651200@www.maremmaoggi.net
SUMMARY:Primo Maggio tra i filari: pappardelle al cinghiale e vini di casa
DESCRIPTION:MONTE ANTICO. Il Primo Maggio si festeggia tra i filari\, con il profumo della cucina di una volta e il calore dell’accoglienza maremmana. La cantina di Monte Antico apre le porte per una giornata all’insegna della condivisione\, del buon cibo e dei vini del territorio\, in un contesto immerso nel verde delle colline.  \nL’appuntamento è all’agriristoro di Begnardi vini dalle 12.30 alle 16. \nLa giornata si apre con un ricco buffet di antipasti\, pensato per raccontare i sapori locali e iniziare a riempire i calici. Poi spazio a uno dei piatti simbolo della Maremma: le pappardelle al cinghiale\, tirate a mano e condite con un sugo che sa di casa. \nDalla tradizione alla brace\nE per celebrare davvero la festa\, non può mancare la brace accesa\, pronta a cuocere il meglio delle carni del territorio\, accompagnate da contorni di stagione. Un percorso di gusto che si completa con i vini di produzione propria\, espressione autentica di queste colline. \nL’obiettivo è uno solo: stare bene insieme\, tra il giardino della cantina\, la qualità dei prodotti e un’atmosfera familiare che accompagna ogni brindisi. Un invito aperto a chi vuole trascorrere il Primo Maggio in modo diverso\, riscoprendo il piacere della convivialità. \nPer informazioni e prenotazioni basta chiamare Luca al 333 2013670oppure Michele al 366 8692814. \n\n \n  Begnardi vini \n begnardivini
URL:https://www.maremmaoggi.net/evento/primo-maggio-tra-i-filari-pappardelle-al-cinghiale-e-vini-di-casa/
LOCATION:Begnardi vini Agriristoro\, Strada Provinciale Leopoldina\,\, Monte Antico\, Grosseto\, 58045\, Italy
CATEGORIES:Evento
ATTACH;FMTTYPE=image/jpeg:https://www.maremmaoggi.net/wp-content/uploads/2026/04/un-evento-da-begnardi-vini-maremma-oggi.jpg
END:VEVENT
END:VCALENDAR