BEGIN:VCALENDAR
VERSION:2.0
PRODID:-//MaremmaOggi - ECPv6.15.20//NONSGML v1.0//EN
CALSCALE:GREGORIAN
METHOD:PUBLISH
X-WR-CALNAME:MaremmaOggi
X-ORIGINAL-URL:https://www.maremmaoggi.net
X-WR-CALDESC:Eventi per MaremmaOggi
REFRESH-INTERVAL;VALUE=DURATION:PT1H
X-Robots-Tag:noindex
X-PUBLISHED-TTL:PT1H
BEGIN:VTIMEZONE
TZID:Europe/Rome
BEGIN:DAYLIGHT
TZOFFSETFROM:+0100
TZOFFSETTO:+0200
TZNAME:CEST
DTSTART:20250330T010000
END:DAYLIGHT
BEGIN:STANDARD
TZOFFSETFROM:+0200
TZOFFSETTO:+0100
TZNAME:CET
DTSTART:20251026T010000
END:STANDARD
BEGIN:DAYLIGHT
TZOFFSETFROM:+0100
TZOFFSETTO:+0200
TZNAME:CEST
DTSTART:20260329T010000
END:DAYLIGHT
BEGIN:STANDARD
TZOFFSETFROM:+0200
TZOFFSETTO:+0100
TZNAME:CET
DTSTART:20261025T010000
END:STANDARD
BEGIN:DAYLIGHT
TZOFFSETFROM:+0100
TZOFFSETTO:+0200
TZNAME:CEST
DTSTART:20270328T010000
END:DAYLIGHT
BEGIN:STANDARD
TZOFFSETFROM:+0200
TZOFFSETTO:+0100
TZNAME:CET
DTSTART:20271031T010000
END:STANDARD
END:VTIMEZONE
BEGIN:VEVENT
DTSTART;TZID=Europe/Rome:20260425T123000
DTEND;TZID=Europe/Rome:20260425T160000
DTSTAMP:20260423T190255
CREATED:20260414T152925Z
LAST-MODIFIED:20260414T153312Z
UID:340979-1777120200-1777132800@www.maremmaoggi.net
SUMMARY:25 Aprile tra baccelli e brace: la Maremma si ritrova in cantina
DESCRIPTION:MONTE ANTICO. C’è un rito che segna davvero l’arrivo della primavera in Maremma: quello dei baccelli freschi sgranati in compagnia\, tra un brindisi e una risata all’aria aperta. Per il 25 aprile Begnardi Vini apre le porte per una giornata dedicata alla convivialità\, al buon vino e ai sapori autentici del territorio. \nL’appuntamento è all’Agriristoro di Monte Antico dalle 12.30 alle 16. \nParole chiave: natura\, tradizione e convivialità\nNon sarà un semplice pranzo\, ma un’esperienza immersa nella campagna maremmana\, tra i vigneti che iniziano a germogliare. Una tavola apparecchiata nel cuore dell’azienda accoglierà gli ospiti con i prodotti dell’orto e le eccellenze locali\, per poi proseguire con la pasta fatta in casa saltata nel padellone e i profumi della brace\, protagonista della tradizionale grigliata. \nAl centro della giornata\, naturalmente\, il vino: ogni etichetta della cantina accompagnerà il percorso gastronomico\, raccontando nel calice la passione per la terra e il lavoro in vigna. \nL’obiettivo è uno solo: far sentire tutti a casa\, tra sorrisi\, natura e semplicità. Un’occasione per staccare la spina e vivere una giornata dove la filiera corta si ritrova davvero nel piatto e nel bicchiere. \nPer informazioni e prenotazioni basta chiamare Luca al 333 2013670 oppure Michele al 366 8692814. \n\n \n  Begnardi vini \n begnardivini
URL:https://www.maremmaoggi.net/evento/25-aprile-tra-baccelli-e-brace-la-maremma-si-ritrova-in-cantina/
LOCATION:Begnardi vini Agriristoro\, Strada Provinciale Leopoldina\,\, Monte Antico\, Grosseto\, 58045\, Italy
CATEGORIES:Evento
ATTACH;FMTTYPE=image/jpeg:https://www.maremmaoggi.net/wp-content/uploads/2026/04/baccelta-begnardi-vini-maremma-oggi.jpg
END:VEVENT
BEGIN:VEVENT
DTSTART;TZID=Europe/Rome:20260425T173000
DTEND;TZID=Europe/Rome:20260425T173000
DTSTAMP:20260423T190255
CREATED:20260423T081442Z
LAST-MODIFIED:20260423T081442Z
UID:343692-1777138200-1777138200@www.maremmaoggi.net
SUMMARY:Scriabin Concert Series: ultimo recital pianistico con Mirko Galeazzi
DESCRIPTION:GROSSETO. Si chiude la stagione 2025/2026 della rassegna musicale Scriabin concert series organizzata dall’associazione Scriabin e diretta dal maestro Antonio Di Cristofano\, anche direttore dell’Istituto musicale comunale “Palmiero Giannetti”.\nSabato 25 aprile alle 17.30\, al Polo le Clarisse\, il concerto finale è affidato a Mirko Galeazzi\, pianista di grande formazione e docente di pianoforte con una lunga esperienza concertistica e didattica. \nL’ingresso al concerto è 8 euro\, 6 euro ridotto per i soci di Fondazione Grosseto Cultura e dell’Orchestra sinfonica città di Grosseto e 3 euro per gli studenti dell’istituto Giannetti.\nPer informazioni è possibile contattare il numero 333 5372994.
URL:https://www.maremmaoggi.net/evento/scriabin-concert-series-ultimo-recital-pianistico-con-mirko-galeazzi/
LOCATION:Polo Le Clarisse\, via Vinzaglio\, 27\, Grosseto\, 58100
CATEGORIES:concerto
ATTACH;FMTTYPE=image/jpeg:https://www.maremmaoggi.net/wp-content/uploads/2026/04/mirko-galeazzi-maremma-oggi-2.jpg
END:VEVENT
BEGIN:VEVENT
DTSTART;TZID=Europe/Rome:20260426T183000
DTEND;TZID=Europe/Rome:20260426T183000
DTSTAMP:20260423T190255
CREATED:20260423T134113Z
LAST-MODIFIED:20260423T134131Z
UID:343769-1777228200-1777228200@www.maremmaoggi.net
SUMMARY:Montemerano in festa: quattro giorni tra tradizione\, musica e spettacoli
DESCRIPTION:MONTEMERANO. Quattro giorni per vivere il borgo tra tradizione\, spettacolo e comunità. Dal 23 al 26 aprile torna la Festa del patrono San Giorgio 2026\, appuntamento atteso che riaccende il cuore di Montemerano tra riti\, musica e momenti condivisi. \nL’iniziativa è organizzata dalla Pro loco Montemerano con il patrocinio del Comune di Manciano e il coinvolgimento delle associazioni del territorio. \nEcco tutto il programma\nSi parte giovedì 23 aprile con la Santa messa dedicata al patrono e la benedizione del Palio della giostra del drago\, seguita in serata dal tradizionale lancio del pallone in piazza del Castello. Venerdì il paese entra nel vivo con la presentazione delle contrade e la musica dal vivo\, fino alla serata danzante in piazza Canzanelli. \nIl momento più atteso sarà sabato 25 aprile\, quando Montemerano si trasformerà in un palcoscenico a cielo aperto con il corteo storico per le vie del paese e la suggestiva Giostra del drago\, il gioco tradizionale che mette a confronto le contrade. La giornata si chiuderà tra tombola e musica rock\, con il borgo ancora protagonista. \nDomenica 26 gran finale tra cultura e convivialità: dal teatro delle ombre dedicato alla storia di San Giorgio al concerto della filarmonica\, fino al pranzo del Tascapane\, con il tocco della musica di Marco Mazzuoli\, e agli appuntamenti sportivi. \nUn programma che intreccia identità\, tradizione e partecipazione\, trasformando Montemerano in uno dei luoghi più vivi della Maremma durante il ponte di aprile. \n\n\n\n\n\n\n \n\n Pro Loco Montemerano\n proloco_montemerano\n\n \n\n\n\n\n 
URL:https://www.maremmaoggi.net/evento/montemerano-in-festa-quattro-giorni-tra-tradizione-musica-e-spettacoli/
LOCATION:Montemerano\, Piazza Castello\, Montemerano\, 58014
ATTACH;FMTTYPE=image/jpeg:https://www.maremmaoggi.net/wp-content/uploads/2026/04/evento-proloco-montemerano-maremma-oggi.jpg
END:VEVENT
BEGIN:VEVENT
DTSTART;TZID=Europe/Rome:20260501T123000
DTEND;TZID=Europe/Rome:20260501T160000
DTSTAMP:20260423T190255
CREATED:20260422T082237Z
LAST-MODIFIED:20260422T082237Z
UID:343034-1777638600-1777651200@www.maremmaoggi.net
SUMMARY:Primo Maggio tra i filari: pappardelle al cinghiale e vini di casa
DESCRIPTION:MONTE ANTICO. Il Primo Maggio si festeggia tra i filari\, con il profumo della cucina di una volta e il calore dell’accoglienza maremmana. La cantina di Monte Antico apre le porte per una giornata all’insegna della condivisione\, del buon cibo e dei vini del territorio\, in un contesto immerso nel verde delle colline.  \nL’appuntamento è all’agriristoro di Begnardi vini dalle 12.30 alle 16. \nLa giornata si apre con un ricco buffet di antipasti\, pensato per raccontare i sapori locali e iniziare a riempire i calici. Poi spazio a uno dei piatti simbolo della Maremma: le pappardelle al cinghiale\, tirate a mano e condite con un sugo che sa di casa. \nDalla tradizione alla brace\nE per celebrare davvero la festa\, non può mancare la brace accesa\, pronta a cuocere il meglio delle carni del territorio\, accompagnate da contorni di stagione. Un percorso di gusto che si completa con i vini di produzione propria\, espressione autentica di queste colline. \nL’obiettivo è uno solo: stare bene insieme\, tra il giardino della cantina\, la qualità dei prodotti e un’atmosfera familiare che accompagna ogni brindisi. Un invito aperto a chi vuole trascorrere il Primo Maggio in modo diverso\, riscoprendo il piacere della convivialità. \nPer informazioni e prenotazioni basta chiamare Luca al 333 2013670oppure Michele al 366 8692814. \n\n \n  Begnardi vini \n begnardivini
URL:https://www.maremmaoggi.net/evento/primo-maggio-tra-i-filari-pappardelle-al-cinghiale-e-vini-di-casa/
LOCATION:Begnardi vini Agriristoro\, Strada Provinciale Leopoldina\,\, Monte Antico\, Grosseto\, 58045\, Italy
CATEGORIES:Evento
ATTACH;FMTTYPE=image/jpeg:https://www.maremmaoggi.net/wp-content/uploads/2026/04/un-evento-da-begnardi-vini-maremma-oggi.jpg
END:VEVENT
BEGIN:VEVENT
DTSTART;TZID=Europe/Rome:20260502T213000
DTEND;TZID=Europe/Rome:20260502T213000
DTSTAMP:20260423T190255
CREATED:20260423T133438Z
LAST-MODIFIED:20260423T133438Z
UID:343784-1777757400-1777757400@www.maremmaoggi.net
SUMMARY:Roberta Caronia ospite al Piccolo Cineclub Tirreno: presenta il film “La salita”
DESCRIPTION:FOLLONICA. Appuntamento con il grande cinema sabato 2 maggio alle 21.30 al Piccolo Cineclub Tirreno\, che ospita un evento speciale con la partecipazione dell’attrice Roberta Caronia. \nL’artista sarà protagonista della serata presentando\, in anteprima per la provincia di Grosseto\, il film “La salita”\, esordio alla regia di Massimiliano Gallo\, in cui interpreta un ruolo centrale. \nLa pellicola intreccia realtà e fantasia\, raccontando una storia intensa che valorizza il significato dei sogni e delle scelte individuali. Ambientato nella Napoli del 1983\, il film si ispira anche alla figura di Eduardo De Filippo e al suo impegno nel carcere minorile di Nisida\, dove promosse attività teatrali e formative per i giovani detenuti. \nL’evento è organizzato dal Piccolo Cineclub Tirreno e rappresenta un’occasione unica per il pubblico di incontrare da vicino una protagonista del cinema italiano contemporaneo e scoprire un’opera che unisce emozione\, riflessione e speranza. \nPer informazioni e prenotazioni è possibile contattare il numero 339 3880312.
URL:https://www.maremmaoggi.net/evento/roberta-caronia-ospite-al-piccolo-cineclub-tirreno-presenta-il-film-la-salita/
LOCATION:Piccolo cineclub Tirreno\, Via Bicocchi 53\, Follonica\, Italia
CATEGORIES:Cinema
ATTACH;FMTTYPE=image/jpeg:https://www.maremmaoggi.net/wp-content/uploads/2026/04/locandina-la-salita-maremma-oggi.jpg
END:VEVENT
END:VCALENDAR