BEGIN:VCALENDAR
VERSION:2.0
PRODID:-//MaremmaOggi - ECPv6.15.19//NONSGML v1.0//EN
CALSCALE:GREGORIAN
METHOD:PUBLISH
X-WR-CALNAME:MaremmaOggi
X-ORIGINAL-URL:https://www.maremmaoggi.net
X-WR-CALDESC:Eventi per MaremmaOggi
REFRESH-INTERVAL;VALUE=DURATION:PT1H
X-Robots-Tag:noindex
X-PUBLISHED-TTL:PT1H
BEGIN:VTIMEZONE
TZID:Europe/Rome
BEGIN:DAYLIGHT
TZOFFSETFROM:+0100
TZOFFSETTO:+0200
TZNAME:CEST
DTSTART:20240331T010000
END:DAYLIGHT
BEGIN:STANDARD
TZOFFSETFROM:+0200
TZOFFSETTO:+0100
TZNAME:CET
DTSTART:20241027T010000
END:STANDARD
BEGIN:DAYLIGHT
TZOFFSETFROM:+0100
TZOFFSETTO:+0200
TZNAME:CEST
DTSTART:20250330T010000
END:DAYLIGHT
BEGIN:STANDARD
TZOFFSETFROM:+0200
TZOFFSETTO:+0100
TZNAME:CET
DTSTART:20251026T010000
END:STANDARD
BEGIN:DAYLIGHT
TZOFFSETFROM:+0100
TZOFFSETTO:+0200
TZNAME:CEST
DTSTART:20260329T010000
END:DAYLIGHT
BEGIN:STANDARD
TZOFFSETFROM:+0200
TZOFFSETTO:+0100
TZNAME:CET
DTSTART:20261025T010000
END:STANDARD
END:VTIMEZONE
BEGIN:VEVENT
DTSTART;TZID=Europe/Rome:20250724T210000
DTEND;TZID=Europe/Rome:20250724T210000
DTSTAMP:20260422T044955
CREATED:20250721T140635Z
LAST-MODIFIED:20250721T140635Z
UID:266797-1753390800-1753390800@www.maremmaoggi.net
SUMMARY:Arte e musica con Jacopo Pisapia al Giardino Viaggio di Ritorno
DESCRIPTION:CASTIGLIONE DELLA PESCAIA. Il Giardino Viaggio di Ritorno di Rodolfo Lacquaniti lancia il secondo appuntamento estivo di Una Notte al Giardino\, che si terrà giovedì 24 luglio alle 21.15 nel celebre parco d’arte contemporanea di Buriano\, a Castiglione della Pescaia. \nUn evento speciale di cui saranno protagonisti non solo Lacquaniti e le sue opere\, ma anche la musica del giovane percussionista toscano Jacopo Pisapia\, ospite d’eccezione della serata. Due generazioni\, due artisti\, due discipline che si uniranno per dar vita a un’esperienza unica\, multisensoriale e di reciproca esaltazione. \nL’evento avrà inizio alle 21.15 con la visita al Giardino guidata da Rodolfo Lacquaniti\, seguirà l’esclusiva esibizione di Jacopo Pisapia\, una parentesi sonora immersiva\, da vivere sotto le stelle\, circondati dal silenzio della campagna maremmana. \nA conclusione\, i partecipanti saranno invitati a prendere parte a un brindisi con i vini di Casale Pozzuolo e Cantina I Vini di Maremma\, accompagnato da stuzzicherie dolci e salate\, mentre è previsto uno spuntino naturale per i più piccoli. \nPer partecipare a Una Notte al Giardino\, è obbligatorio prenotare sul sito web del Giardino Viaggio di Ritorno: www.viaggiodiritorno.it. \nL’evento è aperto e adatto ad adulti e bambini. \n 
URL:https://www.maremmaoggi.net/evento/arte-e-musica-con-jacopo-pisapia-al-giardino-viaggio-di-ritorno/
LOCATION:Giardino Viaggio di Ritorno\, Strada comunale Piatto Lavato 1\, Castiglione della Pescaia\, Italia
CATEGORIES:concerto,Mostra
ATTACH;FMTTYPE=image/jpeg:https://www.maremmaoggi.net/wp-content/uploads/2025/07/notte-giardino-maremma-oggi.jpg
END:VEVENT
END:VCALENDAR