BEGIN:VCALENDAR
VERSION:2.0
PRODID:-//MaremmaOggi - ECPv6.15.19//NONSGML v1.0//EN
CALSCALE:GREGORIAN
METHOD:PUBLISH
X-WR-CALNAME:MaremmaOggi
X-ORIGINAL-URL:https://www.maremmaoggi.net
X-WR-CALDESC:Eventi per MaremmaOggi
REFRESH-INTERVAL;VALUE=DURATION:PT1H
X-Robots-Tag:noindex
X-PUBLISHED-TTL:PT1H
BEGIN:VTIMEZONE
TZID:Europe/Rome
BEGIN:DAYLIGHT
TZOFFSETFROM:+0100
TZOFFSETTO:+0200
TZNAME:CEST
DTSTART:20240331T010000
END:DAYLIGHT
BEGIN:STANDARD
TZOFFSETFROM:+0200
TZOFFSETTO:+0100
TZNAME:CET
DTSTART:20241027T010000
END:STANDARD
BEGIN:DAYLIGHT
TZOFFSETFROM:+0100
TZOFFSETTO:+0200
TZNAME:CEST
DTSTART:20250330T010000
END:DAYLIGHT
BEGIN:STANDARD
TZOFFSETFROM:+0200
TZOFFSETTO:+0100
TZNAME:CET
DTSTART:20251026T010000
END:STANDARD
BEGIN:DAYLIGHT
TZOFFSETFROM:+0100
TZOFFSETTO:+0200
TZNAME:CEST
DTSTART:20260329T010000
END:DAYLIGHT
BEGIN:STANDARD
TZOFFSETFROM:+0200
TZOFFSETTO:+0100
TZNAME:CET
DTSTART:20261025T010000
END:STANDARD
END:VTIMEZONE
BEGIN:VEVENT
DTSTART;TZID=Europe/Rome:20250612T180000
DTEND;TZID=Europe/Rome:20250706T200000
DTSTAMP:20260422T051006
CREATED:20250610T070808Z
LAST-MODIFIED:20250610T070808Z
UID:253055-1749751200-1751832000@www.maremmaoggi.net
SUMMARY:"Ritratti"\, la mostra di Emiliano Baldi alle Clarisse
DESCRIPTION:GROSSETO. Giovedì 12 giugno alle 18 è in programma l’inaugurazione della mostra “Ritratti”\, dedicata alle opere dell’artista Emiliano Baldi\, che sarà ospitata nella sala conferenze del Polo Le Clarisse fino al 6 luglio. \nPer l’occasione l’ingresso è libero\, per tutte le informazioni è possibile chiamare lo 0564 488066 dal martedì al sabato dalle 11 alle 14\, o scrivere una email a prenotazioni.clarisse@gmail.com. \nBaldi\, nato a Gavorrano (Gr) nel 1978\, frequenta il liceo artistico grossetano Pietro Aldi e si laurea all’Accademia di Belle Arti di Firenze. I lavori pittorici dell’artista si concentrano sui ritratti\, le impressioni del mare e il lavoro in fabbrica\, tematiche ricorrenti anche nelle sue sperimentazioni scultoree in marmo\, gesso\, cera e materiale di recupero\, provenienti da aziende siderurgiche e in disfacimento. 
URL:https://www.maremmaoggi.net/evento/ritratti-la-mostra-di-emiliano-baldi-alle-clarisse/
CATEGORIES:Mostra
ATTACH;FMTTYPE=image/jpeg:https://www.maremmaoggi.net/wp-content/uploads/2025/06/daniel-spoerri-maremma-oggi.jpg
END:VEVENT
BEGIN:VEVENT
DTSTART;TZID=Europe/Rome:20250705T180000
DTEND;TZID=Europe/Rome:20250705T235900
DTSTAMP:20260422T051006
CREATED:20250702T082647Z
LAST-MODIFIED:20250702T082647Z
UID:261010-1751738400-1751759940@www.maremmaoggi.net
SUMMARY:La mostra per scoprire il mare incanta Porto Ercole
DESCRIPTION:PORTO ERCOLE. Sabato 5 luglio dalle 18 alle 24 a Porto Ercole arriva “Tesori a Porto Ercole” – un’esposizione straordinaria dedicata all’antiquariato marino. L’appuntamento è in via Andrea Doria\, 61. \nLa mostra dà la possibilità di ammirare due eccezionali raccolte private\, ovvero la collezione di Marcello Di Lorenzo\, e quella di Vincenzo Canaparo – due appassionati custodi di memorie e cimeli legati alla storia del mare e della navigazione. \nDurante la serata\, sarà proiettato il documentario del 1961 “L’Argentario e la sua storia” di Zeno Gabbi\, un autentico gioiello d’archivio che racconta la trasformazione e le radici di questo territorio unico. \nL’evento è a ingresso libero. \n  \n 
URL:https://www.maremmaoggi.net/evento/la-mostra-per-scoprire-il-mare-incanta-porto-ercole/
LOCATION:Porto Ercole\, Porto Ercole\, Porto Ercole\, Italia
CATEGORIES:Mostra
ATTACH;FMTTYPE=image/jpeg:https://www.maremmaoggi.net/wp-content/uploads/2024/09/porto-ercole-veduta-maremma-oggi.jpg
END:VEVENT
END:VCALENDAR