BEGIN:VCALENDAR
VERSION:2.0
PRODID:-//MaremmaOggi - ECPv6.15.19//NONSGML v1.0//EN
CALSCALE:GREGORIAN
METHOD:PUBLISH
X-WR-CALNAME:MaremmaOggi
X-ORIGINAL-URL:https://www.maremmaoggi.net
X-WR-CALDESC:Eventi per MaremmaOggi
REFRESH-INTERVAL;VALUE=DURATION:PT1H
X-Robots-Tag:noindex
X-PUBLISHED-TTL:PT1H
BEGIN:VTIMEZONE
TZID:Europe/Rome
BEGIN:DAYLIGHT
TZOFFSETFROM:+0100
TZOFFSETTO:+0200
TZNAME:CEST
DTSTART:20240331T010000
END:DAYLIGHT
BEGIN:STANDARD
TZOFFSETFROM:+0200
TZOFFSETTO:+0100
TZNAME:CET
DTSTART:20241027T010000
END:STANDARD
BEGIN:DAYLIGHT
TZOFFSETFROM:+0100
TZOFFSETTO:+0200
TZNAME:CEST
DTSTART:20250330T010000
END:DAYLIGHT
BEGIN:STANDARD
TZOFFSETFROM:+0200
TZOFFSETTO:+0100
TZNAME:CET
DTSTART:20251026T010000
END:STANDARD
BEGIN:DAYLIGHT
TZOFFSETFROM:+0100
TZOFFSETTO:+0200
TZNAME:CEST
DTSTART:20260329T010000
END:DAYLIGHT
BEGIN:STANDARD
TZOFFSETFROM:+0200
TZOFFSETTO:+0100
TZNAME:CET
DTSTART:20261025T010000
END:STANDARD
BEGIN:DAYLIGHT
TZOFFSETFROM:+0100
TZOFFSETTO:+0200
TZNAME:CEST
DTSTART:20270328T010000
END:DAYLIGHT
BEGIN:STANDARD
TZOFFSETFROM:+0200
TZOFFSETTO:+0100
TZNAME:CET
DTSTART:20271031T010000
END:STANDARD
END:VTIMEZONE
BEGIN:VEVENT
DTSTART;TZID=Europe/Rome:20250813T170000
DTEND;TZID=Europe/Rome:20250907T200000
DTSTAMP:20260422T025349
CREATED:20250813T100940Z
LAST-MODIFIED:20250813T100940Z
UID:273682-1755104400-1757275200@www.maremmaoggi.net
SUMMARY:Cinque fotografi raccontano l'Amiata
DESCRIPTION:CASTELL’AZZARA. Cinque fotografi amiatini raccontano l’Amiata\, con un’attenzione particolare al territorio della zona di Castell’Azzara. \nLa mostra fotografica\, allestita all’interno della Villa Sforzesca di Castell’Azzara  verrà inaugurata il 13 agosto alle ore 17\, sarà visitabile fino al 7 settembre dalle 17 alle 20. \nI fotografi sono: Elenora Puggioninu di Castell’Azzara\, Daniele Badini di Castel del Piano\, Paolo Loli di Castell’Azzara\, i fotografi del gruppo Speleologico e il romano Fabrizio Scasciafratti.  \n 
URL:https://www.maremmaoggi.net/evento/cinque-fotografi-raccontano-lamiata/
LOCATION:Villa Sforzesca\, Castell'Azzara
CATEGORIES:Mostra
ATTACH;FMTTYPE=image/jpeg:https://www.maremmaoggi.net/wp-content/uploads/2022/08/castellazzara-maremma-maremmaoggi-fb.jpg
END:VEVENT
BEGIN:VEVENT
DTSTART;TZID=Europe/Rome:20250906T190000
DTEND;TZID=Europe/Rome:20250906T190000
DTSTAMP:20260422T025349
CREATED:20250903T081326Z
LAST-MODIFIED:20250903T081326Z
UID:279610-1757185200-1757185200@www.maremmaoggi.net
SUMMARY:SeaCreative porta la sua arte a Orbetello
DESCRIPTION:ORBETELLO. La Galleria Orler di Corso Italia 35 ad Orbetello ospita un evento speciale: la mostra dedicata a SeaCreative\, nome d’arte di Fabrizio Sarti\, tra i più noti interpreti della urban art italiana. L’inaugurazione è in programma per sabato 6 settembre alle 19. \nTutte le opere presentate sono inedite e arrivano per la prima volta a Orbetello\, dopo un percorso internazionale che ha visto SeaCreative protagonista in numerose città e progetti\, dalle collaborazioni con grandi brand come Ikea Italia fino agli interventi urbani che hanno conquistato comunità locali intere. \n 
URL:https://www.maremmaoggi.net/evento/seacreative-porta-la-sua-arte-a-orbetello/
LOCATION:Galleria Orler\, Corso Italia\, 35\, Orbetello\, 58015
CATEGORIES:Mostra
END:VEVENT
BEGIN:VEVENT
DTSTART;TZID=Europe/Rome:20250920T093000
DTEND;TZID=Europe/Rome:20250921T200000
DTSTAMP:20260422T025349
CREATED:20250901T164259Z
LAST-MODIFIED:20250901T164259Z
UID:279080-1758360600-1758484800@www.maremmaoggi.net
SUMMARY:Arriva Follomix\, il festival del fumetto e del collezionismo
DESCRIPTION:FOLLONICA. Arriva in città la prima edizione di Follomix\, il festival del fumetto e del collezionismo. Sabato 20 e domenica 21 settembre gli amanti dei personaggi disegnati dai più famosi fumettisti italiani e non potranno perdersi nel ricco calendario di iniziative e appuntamenti grazie ai 60 espositori che hanno già aderito alla prima rassegna del genere in Maremma. \nOrganizzato dall’associazione Follomix in collaborazione con il Comune di Follonica. Apertura mostra alle ore 9\,30 di sabato 20 presso la Fonderia 1 area ex Ilva.
URL:https://www.maremmaoggi.net/evento/arriva-follomix-il-festival-del-fumetto-e-del-collezionismo/
LOCATION:Fonderia numero 1\, Via Roma\, FOLLONICA\, GR\, 58022\, Italy
CATEGORIES:Mostra
ATTACH;FMTTYPE=image/jpeg:https://www.maremmaoggi.net/wp-content/uploads/2025/09/Follomix.jpg
ORGANIZER;CN="Associazione Follomix":MAILTO:francescobertelli89brt@gmail.com
END:VEVENT
BEGIN:VEVENT
DTSTART;TZID=Europe/Rome:20251002T170000
DTEND;TZID=Europe/Rome:20251012T193000
DTSTAMP:20260422T025349
CREATED:20251001T131253Z
LAST-MODIFIED:20251001T131253Z
UID:287481-1759424400-1760297400@www.maremmaoggi.net
SUMMARY:Gli "Sprazzi di vita" di Renata Massai alla Galleria Eventi
DESCRIPTION:GROSSETO.  Sarà inaugurata giovedì 2 ottobre alle 17 la mostra d’arte “Sprazzi di Vita”\, esposizione personale di Renata Massai\, alla Galleria Eventi\, in via Varese 18 e che sarà aperta fino al 12 ottobre.  \nL’armonia formale e cromatica è tensione univoca e dominante nella creazione pittorica di questa artista\, ricerca di verità e pienezza espressiva\, manifestazione di gusto raffinato per un realismo di alta scuola\, nel quale ella rende tangibili le tematiche e le motivazioni che la ispirano. \nLo stile di Massai denota una forte impronta classica\, in particolare l’espressività propria dei personaggi che hanno dimora nelle sue tele\, capaci di far sognare e viaggiare. \nLa mostra sarà aperta tutti i giorni\, dalle 17 alle ore 19.30.
URL:https://www.maremmaoggi.net/evento/gli-sprazzi-di-vita-di-renata-massai-alla-galleria-eventi/
LOCATION:Galleria eventi\, Via Varese 18\, Grosseto\, 58100\, Italia
CATEGORIES:Mostra
ATTACH;FMTTYPE=image/jpeg:https://www.maremmaoggi.net/wp-content/uploads/2025/10/renata-massai-maremma-oggi-2.jpg
END:VEVENT
BEGIN:VEVENT
DTSTART;TZID=Europe/Rome:20251031T170000
DTEND;TZID=Europe/Rome:20251102T210000
DTSTAMP:20260422T025349
CREATED:20251029T154831Z
LAST-MODIFIED:20251029T154831Z
UID:295522-1761930000-1762117200@www.maremmaoggi.net
SUMMARY:Arte e vino protagonisti con Gustatus
DESCRIPTION:ORBETELLO. In occasione di Gustatus\, dal 31 ottobre al 2 novembre la Galleria Orler ospita due mostre che uniscono arte e sapori. \nNella Sala del Frontone\, “Sorsi d’arte tra le nuvole” di Mario Patella accompagna le degustazioni delle 54 cantine: cieli di juta e pigmenti naturali per un viaggio immersivo tra luce e libertà. \nSempre venerdì 31 ottobre\, nella sede di corso Italia 35\, inaugura alle 18 la personale di Michelino Iorizzo\, tra i nomi più osservati dell’arte contemporanea\, con opere inedite e la presenza dell’artista.Le esposizioni sono a ingresso libero.
URL:https://www.maremmaoggi.net/evento/arte-e-vino-protagonisti-con-gustatus/
LOCATION:Orbetello\, Orbetello\, Italia
CATEGORIES:Mostra
ATTACH;FMTTYPE=image/jpeg:https://www.maremmaoggi.net/wp-content/uploads/2025/10/gustatus-mostre-maremma-oggi.jpg
END:VEVENT
BEGIN:VEVENT
DTSTART;TZID=Europe/Rome:20251126T180000
DTEND;TZID=Europe/Rome:20251126T180000
DTSTAMP:20260422T025349
CREATED:20251125T073922Z
LAST-MODIFIED:20251125T073922Z
UID:303508-1764180000-1764180000@www.maremmaoggi.net
SUMMARY:L'Inferno di Dante in nove canzoni
DESCRIPTION:GROSSETO. Mercoledì 26 novembre\, alle 18\, alla Biblioteca Chelliana di Grosseto va in scena l’inferno dantesco: l’Officina del Malcontento presenterà in forma di concerto “Infernalia\, l’Inferno dantesco in nove canzoni\, nove quadri\, nove racconti” (Effigi\, 2025)\, multiforme progetto editoriale che mette insieme musica\, parola e pittura per raccontare un Inferno contemporaneo\, ispirato alla prima cantica dantesca. \nNato infatti come disco dell’Officina del Malcontento\, con testi di Cristiana Milaneschi e musiche di Carla Baldini\,  “Infernalia” ha poi trovato una veste definitiva grazie prima all’incontro con le opere pittoriche di Andrea Ferrari\, poi ai contributi letterari di nove fra scrittrici e scrittori (Stefano Adami\, Enrico Bistazzoni\, Giorgio Genetelli\, Daniel Di Schüler\, Dario Voltolini\, Elena Bellini\, Roberta Lepri\, Cesare Fallavollita\, Sacha Naspini & Valentina Santini). \nDurante la presentazione-concerto alla Chelliana alcune letture tratte dal libro faranno da contrappunto alle canzoni\, interpretate dal vivo dall’Officina del Malcontento (Carla Baldini – canto\, Dino Simone – fisarmonica e canto\, Angelo Fucci – chitarra e cori). \nL’evento è realizzato in  collaborazione con la Libreria Mondadori del centro storico. Info: tel./wa 335 584 9911
URL:https://www.maremmaoggi.net/evento/linferno-di-dante-in-nove-canzoni/
LOCATION:Biblioteca Chelliana\, via Mazzini 36\, Grosseto
CATEGORIES:concerto,Mostra,Presentazione libro
ATTACH;FMTTYPE=image/jpeg:https://www.maremmaoggi.net/wp-content/uploads/2025/11/Infernalia.jpg
END:VEVENT
BEGIN:VEVENT
DTSTART;TZID=Europe/Rome:20251127T173000
DTEND;TZID=Europe/Rome:20251127T173000
DTSTAMP:20260422T025349
CREATED:20251126T111553Z
LAST-MODIFIED:20251126T111553Z
UID:303970-1764264600-1764264600@www.maremmaoggi.net
SUMMARY:Sulle orme del Beato Angelico a Qb
DESCRIPTION:GROSSETO. Tra gli scaffali e i tavoli della libreria QB si parla anche di arte. Giovedì 27 novembre alle 17.30\, Simone Fiderigo Franci della cooperativa Le Orme nell’ambito di un appuntamento speciale Arte Natura presenterà la visita guidata alla mostra del Beato Angelico a Firenze organizzata dalla cooperativa per il prossimo 20 dicembre. \nLa visita guidata consentirà di godere appieno delle meravigliose opere di questo artista ospitate a Palazzo Stozzi e al Museo di San Marco. L’incontro al bar libreria QB nasce per prepararsi alla mostra e per avere informazioni.
URL:https://www.maremmaoggi.net/evento/sulle-orme-del-beato-angelico-a-qb/
LOCATION:Libreria QB\, Piazza Rodolfo Pacciardi 1\, Grosseto\, 58100\, Italia
CATEGORIES:Evento,Mostra
ATTACH;FMTTYPE=image/jpeg:https://www.maremmaoggi.net/wp-content/uploads/2025/11/beato-angelico-maremma-oggi.jpg
END:VEVENT
BEGIN:VEVENT
DTSTART;TZID=Europe/Rome:20251128T180000
DTEND;TZID=Europe/Rome:20251128T180000
DTSTAMP:20260422T025349
CREATED:20251126T110109Z
LAST-MODIFIED:20251126T110109Z
UID:303963-1764352800-1764352800@www.maremmaoggi.net
SUMMARY:“Capolavori d’arte e vino”: il Redigaffi di Tua Rita dialoga con Rutilio Manetti
DESCRIPTION:GROSSETO. Il Polo culturale Le Clarisse propone il secondo appuntamento del ciclo “Capolavori d’arte e vino”\, in programma venerdì 28 novembre alle ore 18 nella Chiesa dei Bigi. \nLa rassegna\, curata da Ludmila Deli\, sommelier e responsabile marketing ed eventi di Fattoria Le Pupille\, e da Mauro Papa\, direttore del Polo culturale Le Clarisse\, offre un percorso che mette in relazione un grande vino toscano con un capolavoro della collezione del Museo Luzzetti. Il protagonista della serata sarà il Redigaffi di Tua Rita\, uno dei vini più celebri della produzione enologica italiana e internazionale\, accostato per l’occasione all’opera di Rutilio Manetti\, importante interprete della pittura seicentesca toscana. \nNel corso dell’incontro\, Ludmila Deli guiderà la degustazione approfondendo la storia e le peculiarità del vino\, mentre Mauro Papa offrirà al pubblico una riflessione sull’opera di Manetti e sulle ragioni che hanno portato a questo accostamento.\nL’ingresso è possibile con il biglietto del museo (5 euro intero\, 3 euro ridotto). È consigliata la prenotazione.
URL:https://www.maremmaoggi.net/evento/capolavori-darte-e-vino-il-redigaffi-di-tua-rita-dialoga-con-rutilio-manetti/
LOCATION:chiesa bigi
CATEGORIES:Degustazione,Mostra
ATTACH;FMTTYPE=image/jpeg:https://www.maremmaoggi.net/wp-content/uploads/2025/11/mauro-papa-ludmila-deli-maremma-oggi.jpg
END:VEVENT
BEGIN:VEVENT
DTSTART;TZID=Europe/Rome:20251205T170000
DTEND;TZID=Europe/Rome:20260222T193000
DTSTAMP:20260422T025349
CREATED:20251204T111829Z
LAST-MODIFIED:20251204T111829Z
UID:306384-1764954000-1771788600@www.maremmaoggi.net
SUMMARY:Nino Ventura racconta la sua "Itaca" alla Pinacoteca
DESCRIPTION:FOLLONICA. Alla Pinacoteca Civica di Follonica è iniziato l’allestimento di “Itaca”\, la nuova mostra dell’artista Nino Ventura\, che inaugurerà venerdì 5 dicembre alle 17. \nL’esposizione – racconta l’artista – nasce dal tema universale del viaggio\, inteso non come semplice spostamento\, ma come esperienza di scoperta\, trasformazione e incontro. \nIl titolo richiama simbolicamente l’Odissea e il viaggio di Ulisse che Ventura re-interpreta come invito a riscoprire il Mediterraneo non come luogo di tragedie contemporanee ma come spazio di bellezza\, conoscenza e intrecci culturali. \nLe sue opere ripropongono elementi del patrimonio visivo mediterraneo (dai canopi etruschi alla figura della Dea Madre) e raccontano il viaggio immaginario di due personaggi innamorati – il capitano Angel Ventura d’Aguadulce e la duchessa Felicia Schirò Filangeri – che per 36 anni esplorano il Mediterraneo\, uniti da un amore che diventa motore del loro viaggio raccogliendo testimonianze e tracce delle culture incontrate. \nLa mostra sarà visitabile fino al 22 febbraio 2026 dal martedì alla domenica dalle 15:30 alle 19:30. Ingresso libero.
URL:https://www.maremmaoggi.net/evento/nino-ventura-racconta-la-sua-itaca-alla-pinacoteca/
LOCATION:Pinacoteca civica\, piazza del Popolo 1\, Follonica
CATEGORIES:Mostra
ATTACH;FMTTYPE=image/jpeg:https://www.maremmaoggi.net/wp-content/uploads/2025/12/nino-ventura-maremma-oggi.jpg
END:VEVENT
BEGIN:VEVENT
DTSTART;TZID=Europe/Rome:20251211T180000
DTEND;TZID=Europe/Rome:20251211T180000
DTSTAMP:20260422T025349
CREATED:20251210T110214Z
LAST-MODIFIED:20251210T110214Z
UID:308081-1765476000-1765476000@www.maremmaoggi.net
SUMMARY:Libri d'artista a Massa Marittima
DESCRIPTION:MASSA MARITTIMA. La Biblioteca comunale Gaetano Badii di Massa Marittima ospita\, dal 12 dicembre al 4 aprile 2026\, la mostra “Libri d’artista”\, un percorso espositivo dedicato a una delle forme espressive più sperimentali e affascinanti dell’arte contemporanea. L’inaugurazione è prevista per giovedì 11 dicembre alle 18. \nQuattordici artisti dell’Associazione Art@ltro presentano un loro personale “libro d’artista”\, interpretando liberamente dimensioni\, materiali\, struttura\, immagini e\, eventualmente\, anche testi. Ne nasce una raccolta di opere uniche\, veri monotipi\, ciascuno dei quali amplia il concetto stesso di libro. \n  \n 
URL:https://www.maremmaoggi.net/evento/libri-dartista-a-massa-marittima/
LOCATION:Biblioteca comunale Gaetano Badii\, Piazza XXIV maggio\, 10\, Massa Marittima\, 58024\, Italia
CATEGORIES:Mostra
ATTACH;FMTTYPE=image/jpeg:https://www.maremmaoggi.net/wp-content/uploads/2025/12/libri-artista-maremma-oggi.jpg
END:VEVENT
BEGIN:VEVENT
DTSTART;TZID=Europe/Rome:20251213T170000
DTEND;TZID=Europe/Rome:20260201T170000
DTSTAMP:20260422T025349
CREATED:20251211T111851Z
LAST-MODIFIED:20251211T111851Z
UID:308401-1765645200-1769965200@www.maremmaoggi.net
SUMMARY:Al Museo di storia naturale una nuova affascinante mostra fotografica
DESCRIPTION:GROSSETO. Dal 13 dicembre al 1 febbraio 2026\, il Museo di storia naturale della Maremma ospita la mostra fotografica “Il fascino dell’invisibile” di Franco Cheli\, un viaggio dentro la meraviglia nascosta dell’universo microscopico. L’inaugurazione alla presenza dell’autore è in programma sabato 13 dicembre alle 17 in strada Corsini 5. L’ingresso alla mostra è compreso nel biglietto del museo. \nIl progetto espositivo propone un percorso che accompagna il pubblico oltre i limiti della percezione umana\, rivelando strutture\, forme e architetture naturali che abitano la dimensione infinitesimale. Grazie a tecniche avanzate come la microscopia elettronica a scansione\, la microscopia a fluorescenza e il contrasto DIC\, Cheli trasforma ciò che è normalmente invisibile in immagini di sorprendente forza visiva\, in cui scienza e arte dialogano con naturalezza.
URL:https://www.maremmaoggi.net/evento/al-museo-di-storia-naturale-una-nuova-affascinante-mostra-fotografica/
LOCATION:Museo di Storia naturale della Maremma\, Piazza della Palma\, Grosseto\, 58100
CATEGORIES:Mostra
ATTACH;FMTTYPE=image/png:https://www.maremmaoggi.net/wp-content/uploads/2025/12/franco-cheli-immagine-microscopio-maremma-oggi.png
END:VEVENT
BEGIN:VEVENT
DTSTART;TZID=Europe/Rome:20251219T180000
DTEND;TZID=Europe/Rome:20251219T180000
DTSTAMP:20260422T025349
CREATED:20251217T083326Z
LAST-MODIFIED:20251217T083326Z
UID:310077-1766167200-1766167200@www.maremmaoggi.net
SUMMARY:Ultimo appuntamento con “Capolavori d’arte e vino”
DESCRIPTION:GROSSETO. Al Polo culturale Le Clarisse l’ultimo appuntamento del ciclo “Capolavori d’arte e vino” è in programma venerdì 19 dicembre alle 18 nella Chiesa dei Bigi. \nLa rassegna\, curata da Ludmila Deli\, sommelier\, e da Mauro Papa\, direttore del Polo culturale Le Clarisse\, propone un percorso di contemplazioni e degustazioni che mette in dialogo grandi capolavori dell’arte con eccellenze dell’enologia. Protagonisti della serata saranno il Flaccianello della Pieve di Fontodi e l’opera di Pier Dandini\, per un’esperienza sensoriale che intreccia gusto\, storia e bellezza. L’ingresso è previsto con il biglietto del museo (5 euro intero\, 3 euro ridotto): per prenotazioni chiamare il numero 0564 488066 (dal giovedì alla domenica) oppure inviare una mail a  prenotazioni.clarisse@gmail.com. \nNel corso dell’incontro\, Ludmila Deli guiderà la degustazione illustrando le caratteristiche del vino\, mentre Mauro Papa accompagnerà il pubblico nella lettura dell’opera d’arte selezionata\, creando un dialogo tra linguaggi artistici ed espressivi diversi ma profondamente complementari. \n 
URL:https://www.maremmaoggi.net/evento/ultimo-appuntamento-con-capolavori-darte-e-vino/
LOCATION:Polo Le Clarisse\, via Vinzaglio\, 27\, Grosseto\, 58100
CATEGORIES:Degustazione,Mostra
ATTACH;FMTTYPE=image/jpeg:https://www.maremmaoggi.net/wp-content/uploads/2025/11/mauro-papa-ludmila-deli-maremma-oggi.jpg
END:VEVENT
BEGIN:VEVENT
DTSTART;TZID=Europe/Rome:20260123T153000
DTEND;TZID=Europe/Rome:20260123T170000
DTSTAMP:20260422T025349
CREATED:20260122T085451Z
LAST-MODIFIED:20260122T085451Z
UID:318944-1769182200-1769187600@www.maremmaoggi.net
SUMMARY:Una mostra di lettere manoscritte all'Archivio di Stato
DESCRIPTION:GROSSETO. Anche quest’anno l’Archivio di Stato di Grosseto ha scelto di celebrare la Giornata mondiale della scrittura a mano con l’evento “Scripta manent”\, mostra espositiva allestita in collaborazione con l’associazione grossetana “Il calamo”\, da anni impegnata con positivo riscontro di pubblico nazionale e internazionale nella valorizzazione della calligrafia e degli strumenti scrittori tradizionali. \nL’inaugurazione avverrà venerdì 23 gennaio alle ore 15\,30 in sala conferenze dell’Archivio di Stato e vedrà\, accanto ai saluti istituzionali\, l’intervento del presidente de “Il calamo” Ettore De Tora. \n  \n 
URL:https://www.maremmaoggi.net/evento/una-mostra-di-lettere-manoscritte-allarchivio-di-stato/
LOCATION:Archivio di Stato Grosseto\, piazza Socci 3\, Grosseto\, 58100
CATEGORIES:Mostra
ATTACH;FMTTYPE=image/jpeg:https://www.maremmaoggi.net/wp-content/uploads/2026/01/pergamena-maremma-oggi.jpg
END:VEVENT
BEGIN:VEVENT
DTSTART;TZID=Europe/Rome:20260320T160000
DTEND;TZID=Europe/Rome:20260322T200000
DTSTAMP:20260422T025349
CREATED:20260316T095351Z
LAST-MODIFIED:20260316T095351Z
UID:333772-1774022400-1774209600@www.maremmaoggi.net
SUMMARY:“I 100 soli”: ecco la mostra dell’artista grossetana Erika Fassari
DESCRIPTION:GROSSETO. Tutto pronto per “I 100 soli”\, la mostra dell’artista grossetana Erika Fassari. Dal 20 al 22 marzo\, in via San Martino 16\, a Grosseto\, saranno esposti cento dipinti – in realtà 101\, in segno di abbondanza e buon auspicio secondo le più antiche tradizioni – dedicati alla raffigurazione dell’archetipo del sole con stili che variano dal figurativo all’astratto. Una serie di opere uniche\, mai replicate\, realizzate con tecniche miste e l’applicazione della foglia oro 24k su carta 300 gr priva di acidi.  \nDate e orari. La mostra “I 100 soli” sarà inaugurata venerdì 20 marzo\, alle ore 16. Sarà possibile visitare l’esposizione fino a domenica 22 marzo\, dalle ore 16 alle 20. Ingresso gratuito. \n 
URL:https://www.maremmaoggi.net/evento/i-100-soli-ecco-la-mostra-dellartista-grossetana-erika-fassari/
LOCATION:Via San Martino\, via San Martino 16
CATEGORIES:Mostra
ATTACH;FMTTYPE=image/jpeg:https://www.maremmaoggi.net/wp-content/uploads/2026/03/erika-fassari-maremma-oggi.jpg
END:VEVENT
BEGIN:VEVENT
DTSTART;TZID=Europe/Rome:20260321T173000
DTEND;TZID=Europe/Rome:20260329T193000
DTSTAMP:20260422T025349
CREATED:20260317T140102Z
LAST-MODIFIED:20260317T140102Z
UID:334106-1774114200-1774812600@www.maremmaoggi.net
SUMMARY:Le "Reliquie" di Elisa Bardi alla Galleria eventi
DESCRIPTION:GROSSETO. Appuntamento sabato 21 marzo con la mostra d’arte “Reliquie”\, personale di Elisa Bardi\, che si terrà presso la Galleria Eventi\, in Via Varese 18 fino al 29 marzo.  \nL’inaugurazione è fissata sabato 21 marzo alle 17.30\, e sarà un’occasione speciale per incontrare l’artista e scoprire le opere in anteprima. \nPer l’occasione è prevista una degustazione a firma della Cantina Santa Lucia con due etichette che celebrano il territorio maremmano: il “Santa Lucia”\, 100% Ansonica e il “Losco”  a base di Sangiovese \nLa mostra sarà visitabile tutti i giorni dalle ore 17.30 alle 19.30. \nLa mostra accompagna i visitatori nell’universo criptico ed evocativo dell’artista che\, attraverso tavole anacronistiche\, evoca un futuro anteriore e un passato remoto in cui scienza e spiritualità si fondono in una visione olistica\, dando origine a una sorta di fisica esoterica. \nLa quintessenza della sua poetica risiede nella concezione dualistica dell’esistenza: macro e microcosmo\, naturale e soprannaturale\, spirito e materia\, fino ad arrivare alla dimensione dello spazio-tempo. \nLe creazioni di Elisa Bardi custodiscono un mistero che aspira a essere rivelato; per decifrarlo dobbiamo affidarci alla capacità dell’essere umano di giungere alle cose essenziali attraverso l’intuizione.
URL:https://www.maremmaoggi.net/evento/le-reliquie-di-elisa-bardi-alla-galleria-eventi/
LOCATION:Galleria eventi\, Via Varese 18\, Grosseto\, 58100\, Italia
CATEGORIES:Mostra
END:VEVENT
BEGIN:VEVENT
DTSTART;TZID=Europe/Rome:20260418T170000
DTEND;TZID=Europe/Rome:20260524T170000
DTSTAMP:20260422T025349
CREATED:20260402T094402Z
LAST-MODIFIED:20260402T094402Z
UID:338564-1776531600-1779642000@www.maremmaoggi.net
SUMMARY:Il Maam apre alla fotografia contemporanea con “Les fleurs du mal”
DESCRIPTION:GROSSETO. Al Museo archeologico e d’arte della Maremma arriva una imostra fotografica “Les fleurs du mal” di Alberto Franceschini\, in programma al MAAM dal 18 aprile al 24 maggio. \nL’esposizione\, presentata alla direzione scientifica del museo\, è accompagnata da attività di promozione e comunicazione. Per l’amministrazione rappresenta un nuovo passo nella valorizzazione del museo come spazio aperto alla contemporaneità e ai talenti del territorio\, oltre che un’occasione per avvicinare il pubblico alla fotografia come forma espressiva. \n\n\n\n\n 
URL:https://www.maremmaoggi.net/evento/il-maam-apre-alla-fotografia-contemporanea-con-les-fleurs-du-mal/
LOCATION:Museo archeologico della Maremma\, piazza Baccarini 3\, Grosseto\, 58100\, Italia
CATEGORIES:Mostra
ATTACH;FMTTYPE=image/jpeg:https://www.maremmaoggi.net/wp-content/uploads/2021/12/chiesa-dei-bigi.jpg
END:VEVENT
END:VCALENDAR