BEGIN:VCALENDAR
VERSION:2.0
PRODID:-//MaremmaOggi - ECPv6.15.19//NONSGML v1.0//EN
CALSCALE:GREGORIAN
METHOD:PUBLISH
X-WR-CALNAME:MaremmaOggi
X-ORIGINAL-URL:https://www.maremmaoggi.net
X-WR-CALDESC:Eventi per MaremmaOggi
REFRESH-INTERVAL;VALUE=DURATION:PT1H
X-Robots-Tag:noindex
X-PUBLISHED-TTL:PT1H
BEGIN:VTIMEZONE
TZID:Europe/Rome
BEGIN:DAYLIGHT
TZOFFSETFROM:+0100
TZOFFSETTO:+0200
TZNAME:CEST
DTSTART:20240331T010000
END:DAYLIGHT
BEGIN:STANDARD
TZOFFSETFROM:+0200
TZOFFSETTO:+0100
TZNAME:CET
DTSTART:20241027T010000
END:STANDARD
BEGIN:DAYLIGHT
TZOFFSETFROM:+0100
TZOFFSETTO:+0200
TZNAME:CEST
DTSTART:20250330T010000
END:DAYLIGHT
BEGIN:STANDARD
TZOFFSETFROM:+0200
TZOFFSETTO:+0100
TZNAME:CET
DTSTART:20251026T010000
END:STANDARD
BEGIN:DAYLIGHT
TZOFFSETFROM:+0100
TZOFFSETTO:+0200
TZNAME:CEST
DTSTART:20260329T010000
END:DAYLIGHT
BEGIN:STANDARD
TZOFFSETFROM:+0200
TZOFFSETTO:+0100
TZNAME:CET
DTSTART:20261025T010000
END:STANDARD
END:VTIMEZONE
BEGIN:VEVENT
DTSTART;TZID=Europe/Rome:20250507T180000
DTEND;TZID=Europe/Rome:20250507T180000
DTSTAMP:20260422T064354
CREATED:20250506T084007Z
LAST-MODIFIED:20250506T084007Z
UID:240597-1746640800-1746640800@www.maremmaoggi.net
SUMMARY:Germano Paolini espone al Polo Le Clarisse
DESCRIPTION:GROSSETO. Mercoledì 7 maggio\, alle ore 18\, nella sala conferenze del Polo Le Clarisse\, si inaugura la mostra dedicata a Germano Paolini\, uno dei più significativi artisti grossetani. L’evento\, a ingresso gratuito così come l’esposizione\, sarà anche l’occasione per la donazione al Polo culturale di un light box dell’artista. \nLa mostra è composta da sette dipinti e rappresenta un’anteprima delle sette sezioni che strutturano il volume “Il paesaggio in sette giorni”\, monografia che sarà presentata da Paolini il 7 giugno a Roma alla Eli Libreria Indipendente. \nIl volume nasce con l’intento di dare ordine e ricostruire un itinerario artistico che dagli anni Ottanta a oggi ha individuato nel paesaggio un filo affettivo e intellettuale costante. È una narrazione che si sviluppa non in modo strettamente cronologico\, ma per nuclei tematici coerenti e trasversali\, capaci di restituire la complessità e l’evoluzione della poetica dell’artista. Accanto al paesaggio naturale\, il libro testimonia anche l’interesse di Paolini per il contesto urbano\, indagato in progetti su Praga\, Roma\, Verona e Napoli.
URL:https://www.maremmaoggi.net/evento/germano-paolini-espone-al-polo-le-clarisse/
LOCATION:Polo Le Clarisse\, via Vinzaglio\, 27\, Grosseto\, 58100
CATEGORIES:Mostra
ATTACH;FMTTYPE=image/jpeg:https://www.maremmaoggi.net/wp-content/uploads/2025/05/opera-paolini-maremma-oggi.jpg
END:VEVENT
BEGIN:VEVENT
DTSTART;TZID=Europe/Rome:20250508T080000
DTEND;TZID=Europe/Rome:20250508T170000
DTSTAMP:20260422T064354
CREATED:20250508T072404Z
LAST-MODIFIED:20250508T072404Z
UID:241339-1746691200-1746723600@www.maremmaoggi.net
SUMMARY:Dal mondo di Siloe alle Clarisse
DESCRIPTION:GROSSETO. Lo spazio espositivo di via Vinzaglio incontra l’arte di tutto il mondo.  Da giovedì 8 maggio al Polo Le Clarisse saranno in esposizione alcune opere degli artisti che partecipano al simposio di scultura che si sta svolgendo nel monastero di Siloe. Il museo ospiterà le creazioni dei dodici artisti provenienti da tutto il mondo\, anche da zone dove attualmente sono in corso conflitti\, come Palestina e Israele. \nIl costo del biglietto per accedere al Museo Luzzetti è 5 euro (ridotto a 3 euro per i soci di Fondazione Grosseto Cultura). Per informazioni è possibile chiamare lo 0564 488066 (dal giovedì alla domenica\, ore 10-13 e 17-19) o scrivere a prenotazioni.clarisse@gmail.com.\nNel museo Luzzetti sarà possibile vedere le opere di Lorenzo Vignoli\, curatore del simposio\, e di Philippe Inacio Goetsch\, nato a Montreal e cresciuto in Nuova Scozia\, Canada. \nAttualmente Goetsch realizza sculture e tiene workshop di scultura in marmo a Pietrasanta. In allestimento si potranno trovare anche le sculture di Daniel Alvarado Leon\, colombiano\, che opera una continua sperimentazione formale nelle dimensioni e nell’uso di materiali di origine naturale\, e di Flavia Roballo\, argentina\, che ha approfondito la lavorazione del marmo sotto la guida del maestro Orio Dal Porto\, scultore di origine pietrasantina\, di cui è diventata allieva e assistente. Infine espone le sue opere in Clarisse anche Sasha Serber\, israeliano.
URL:https://www.maremmaoggi.net/evento/dal-mondo-di-siloe-alle-clarisse/
LOCATION:Polo Le Clarisse\, via Vinzaglio\, 27\, Grosseto\, 58100
CATEGORIES:Mostra
ATTACH;FMTTYPE=image/jpeg:https://www.maremmaoggi.net/wp-content/uploads/2023/06/monastero-di-siloe-maremma-oggi.jpg
END:VEVENT
BEGIN:VEVENT
DTSTART;TZID=Europe/Rome:20250517T110000
DTEND;TZID=Europe/Rome:20250517T170000
DTSTAMP:20260422T064354
CREATED:20250515T105513Z
LAST-MODIFIED:20250515T105513Z
UID:243946-1747479600-1747501200@www.maremmaoggi.net
SUMMARY:Lux Animae. La luce della fede nei tesori antichi della Chelliana
DESCRIPTION:GROSSETO. Sabato 17 maggio 2025\, alle 11\, nell’aula Magna della Biblioteca comunale Chelliana – Palazzo Mensini\, via Mazzini 36 – si inaugura la mostra “Lux Animae. Fede e sacralità nel fondo antico della Biblioteca comunale Chelliana”\, un’esposizione che nasce con l’obiettivo di esplorare e valorizzare una parte significativa del patrimonio bibliografico\, archivistico e testimoniale dell’istituto. \nIl percorso espositivo si concentra su documenti che affrontano il tema della religiosità e della fede cristiana\, selezionati tra i più preziosi volumi conservati nel fondo cartaceo della biblioteca\, e si collega idealmente alle altre due mostre già aperte in città nell’ambito delle celebrazioni per il Giubileo 2025: La Parola si fa arte per il Giubileo 2025 al Museo Archeologico e d’Arte della Maremma (Maam) e Fede e bellezza. Itinerari visivi per il Giubileo al Polo culturale Le Clarisse. \nGli esemplari in esposizione sono 5 manoscritti\, 4 incunaboli\, 10 edizioni del XVI secolo e 2 pergamene. 
URL:https://www.maremmaoggi.net/evento/lux-animae-la-luce-della-fede-nei-tesori-antichi-della-chelliana/
LOCATION:Biblioteca Chelliana\, via Mazzini 36\, Grosseto
CATEGORIES:Mostra
ATTACH;FMTTYPE=image/jpeg:https://www.maremmaoggi.net/wp-content/uploads/2025/05/lux-animae-maremma-oggi.jpg
END:VEVENT
BEGIN:VEVENT
DTSTART;TZID=Europe/Rome:20250529T183000
DTEND;TZID=Europe/Rome:20250529T210000
DTSTAMP:20260422T064354
CREATED:20250524T170738Z
LAST-MODIFIED:20250527T093210Z
UID:247409-1748543400-1748552400@www.maremmaoggi.net
SUMMARY:Formaggio e pittura\, Casa Fiorini ospita la mostra
DESCRIPTION:GROSSETO. A Casa Fiorini\, in via Cina\, è in programma l’inaugurazione di una mostra che celebra il talento e la visione delle pittrici Paola Bardi\, Cristina Cafaggi\, Claudia Cinquemani\, Morena Gerardi e Antonella Lombardi. \nL’evento si chiama “Sguardi al femminile” ed è in programma giovedì 29 maggio dalle 18.30.  \nLa mostra è un viaggio attraverso lo sguardo e gli occhi delle donne maremmane che hanno deciso di esporre a Casa Fiorini. Ad accompagnare i quadri\, un aperitivo\, dell’ottimo cibo e\, naturalmente\, una degustazione dei formaggi de Il Fiorino.  \n\n\n \n Casa Fiorini \n www.ilfiorino.it \n casa_fiorini_ilfiorino \n \n 
URL:https://www.maremmaoggi.net/evento/formaggio-e-pittura-casa-fiorini-ospita-la-mostra/
LOCATION:Casa Fiorini\, Via Cina\, Grosseto\, GR\, 58100\, Italy
CATEGORIES:Mostra
ATTACH;FMTTYPE=image/jpeg:https://www.maremmaoggi.net/wp-content/uploads/2025/05/casa-fiorini-evento-maremma-oggi.jpg
END:VEVENT
END:VCALENDAR