BEGIN:VCALENDAR
VERSION:2.0
PRODID:-//MaremmaOggi - ECPv6.15.19//NONSGML v1.0//EN
CALSCALE:GREGORIAN
METHOD:PUBLISH
X-WR-CALNAME:MaremmaOggi
X-ORIGINAL-URL:https://www.maremmaoggi.net
X-WR-CALDESC:Eventi per MaremmaOggi
REFRESH-INTERVAL;VALUE=DURATION:PT1H
X-Robots-Tag:noindex
X-PUBLISHED-TTL:PT1H
BEGIN:VTIMEZONE
TZID:Europe/Rome
BEGIN:DAYLIGHT
TZOFFSETFROM:+0100
TZOFFSETTO:+0200
TZNAME:CEST
DTSTART:20230326T010000
END:DAYLIGHT
BEGIN:STANDARD
TZOFFSETFROM:+0200
TZOFFSETTO:+0100
TZNAME:CET
DTSTART:20231029T010000
END:STANDARD
BEGIN:DAYLIGHT
TZOFFSETFROM:+0100
TZOFFSETTO:+0200
TZNAME:CEST
DTSTART:20240331T010000
END:DAYLIGHT
BEGIN:STANDARD
TZOFFSETFROM:+0200
TZOFFSETTO:+0100
TZNAME:CET
DTSTART:20241027T010000
END:STANDARD
BEGIN:DAYLIGHT
TZOFFSETFROM:+0100
TZOFFSETTO:+0200
TZNAME:CEST
DTSTART:20250330T010000
END:DAYLIGHT
BEGIN:STANDARD
TZOFFSETFROM:+0200
TZOFFSETTO:+0100
TZNAME:CET
DTSTART:20251026T010000
END:STANDARD
END:VTIMEZONE
BEGIN:VEVENT
DTSTART;TZID=Europe/Rome:20241128T160000
DTEND;TZID=Europe/Rome:20241128T170000
DTSTAMP:20260422T165315
CREATED:20241127T100423Z
LAST-MODIFIED:20241127T100423Z
UID:196558-1732809600-1732813200@www.maremmaoggi.net
SUMMARY:"Bangarang" sul grande schermo della libreria Qb
DESCRIPTION:GROSSETO. Nuovo appuntamento con le proiezioni di Clorofilla alla libreria QB di piazza Pacciardi a Grosseto. Giovedì 28 novembre alle 16\, è la volta di “Bangarang” di Giulio Mastromauro\, un documentario finalista ai Nastri d’Argento e al Globo d’oro e che ha vinto il premio della giuria alla Festa del cinema di Roma\, sezione Alice nella città. \nProtagonisti i bambini di Taranto in un documentario di osservazione a metà tra ambiente e sociale. \n 
URL:https://www.maremmaoggi.net/evento/bangarang-sul-grande-schermo-della-libreria-qb/
LOCATION:Libreria QB\, Piazza Rodolfo Pacciardi 1\, Grosseto\, 58100\, Italia
CATEGORIES:Cinema
ATTACH;FMTTYPE=image/jpeg:https://www.maremmaoggi.net/wp-content/uploads/2024/11/bangarang-maremma-oggi.jpg
END:VEVENT
END:VCALENDAR