BEGIN:VCALENDAR
VERSION:2.0
PRODID:-//MaremmaOggi - ECPv6.15.19//NONSGML v1.0//EN
CALSCALE:GREGORIAN
METHOD:PUBLISH
X-WR-CALNAME:MaremmaOggi
X-ORIGINAL-URL:https://www.maremmaoggi.net
X-WR-CALDESC:Eventi per MaremmaOggi
REFRESH-INTERVAL;VALUE=DURATION:PT1H
X-Robots-Tag:noindex
X-PUBLISHED-TTL:PT1H
BEGIN:VTIMEZONE
TZID:Europe/Rome
BEGIN:DAYLIGHT
TZOFFSETFROM:+0100
TZOFFSETTO:+0200
TZNAME:CEST
DTSTART:20230326T010000
END:DAYLIGHT
BEGIN:STANDARD
TZOFFSETFROM:+0200
TZOFFSETTO:+0100
TZNAME:CET
DTSTART:20231029T010000
END:STANDARD
BEGIN:DAYLIGHT
TZOFFSETFROM:+0100
TZOFFSETTO:+0200
TZNAME:CEST
DTSTART:20240331T010000
END:DAYLIGHT
BEGIN:STANDARD
TZOFFSETFROM:+0200
TZOFFSETTO:+0100
TZNAME:CET
DTSTART:20241027T010000
END:STANDARD
BEGIN:DAYLIGHT
TZOFFSETFROM:+0100
TZOFFSETTO:+0200
TZNAME:CEST
DTSTART:20250330T010000
END:DAYLIGHT
BEGIN:STANDARD
TZOFFSETFROM:+0200
TZOFFSETTO:+0100
TZNAME:CET
DTSTART:20251026T010000
END:STANDARD
END:VTIMEZONE
BEGIN:VEVENT
DTSTART;TZID=Europe/Rome:20241120T160000
DTEND;TZID=Europe/Rome:20241120T183000
DTSTAMP:20260422T164717
CREATED:20241119T101119Z
LAST-MODIFIED:20241119T101119Z
UID:195469-1732118400-1732127400@www.maremmaoggi.net
SUMMARY:"Il tempo dei giganti" arriva a Grosseto
DESCRIPTION:GROSSETO. Mercoledì 20 novembre alle 16\, arriva il documentario che spiega l’epidemia di Xylella in Puglia con “Il tempo dei giganti” di Davide Barletti e Lorenzo Conte. \nIn Puglia è in corso la più grave pandemia botanica del secolo: un batterio da quarantena\, la Xylella Fastidiosa\, sta uccidendo milioni di alberi d’ulivo\, stravolgendo paesaggio\, economia e relazioni umane. “Il Tempo dei Giganti” narra il viaggio di Giuseppe verso la terra del padre\, nella Piana degli ulivi monumentali\, laddove è imminente l’arrivo dell’epidemia.
URL:https://www.maremmaoggi.net/evento/il-tempo-dei-giganti-arriva-a-grosseto/
LOCATION:Libreria QB\, Piazza Rodolfo Pacciardi 1\, Grosseto\, 58100\, Italia
CATEGORIES:Cinema
ATTACH;FMTTYPE=image/jpeg:https://www.maremmaoggi.net/wp-content/uploads/2024/11/locandina-il-tempo-dei-giganti-maremma-oggi.jpg
END:VEVENT
END:VCALENDAR