BEGIN:VCALENDAR
VERSION:2.0
PRODID:-//MaremmaOggi - ECPv6.15.19//NONSGML v1.0//EN
CALSCALE:GREGORIAN
METHOD:PUBLISH
X-WR-CALNAME:MaremmaOggi
X-ORIGINAL-URL:https://www.maremmaoggi.net
X-WR-CALDESC:Eventi per MaremmaOggi
REFRESH-INTERVAL;VALUE=DURATION:PT1H
X-Robots-Tag:noindex
X-PUBLISHED-TTL:PT1H
BEGIN:VTIMEZONE
TZID:Europe/Rome
BEGIN:DAYLIGHT
TZOFFSETFROM:+0100
TZOFFSETTO:+0200
TZNAME:CEST
DTSTART:20230326T010000
END:DAYLIGHT
BEGIN:STANDARD
TZOFFSETFROM:+0200
TZOFFSETTO:+0100
TZNAME:CET
DTSTART:20231029T010000
END:STANDARD
BEGIN:DAYLIGHT
TZOFFSETFROM:+0100
TZOFFSETTO:+0200
TZNAME:CEST
DTSTART:20240331T010000
END:DAYLIGHT
BEGIN:STANDARD
TZOFFSETFROM:+0200
TZOFFSETTO:+0100
TZNAME:CET
DTSTART:20241027T010000
END:STANDARD
BEGIN:DAYLIGHT
TZOFFSETFROM:+0100
TZOFFSETTO:+0200
TZNAME:CEST
DTSTART:20250330T010000
END:DAYLIGHT
BEGIN:STANDARD
TZOFFSETFROM:+0200
TZOFFSETTO:+0100
TZNAME:CET
DTSTART:20251026T010000
END:STANDARD
END:VTIMEZONE
BEGIN:VEVENT
DTSTART;TZID=Europe/Rome:20241018T213000
DTEND;TZID=Europe/Rome:20241018T213000
DTSTAMP:20260422T150233
CREATED:20241010T072635Z
LAST-MODIFIED:20241010T072635Z
UID:189993-1729287000-1729287000@www.maremmaoggi.net
SUMMARY:"Taxi monamour" apre la stagione del Piccolo Cineclub Tirreno
DESCRIPTION:FOLLONICA. Venerdì 18 ottobre alle 21.30 prenderà il via la 13esima stagione del Piccolo Cineclub Tirreno di Follonica. Sono già aperte le prenotazioni al 339/3880312 e restano disponibili 40 posti. \nLa stagione riapre con il film vincitore del Premio del Pubblico al recentissimo Festival di Venezia “Taxi Monamour”. Ospiti speciali della serata saranno la straordinaria attrice Rosa Palasciano e il mitico regista Ciro de Caro. \n 
URL:https://www.maremmaoggi.net/evento/taxi-monamour-apre-la-stagione-del-piccolo-cineclub-tirreno/
LOCATION:Piccolo cineclub Tirreno\, Via Bicocchi 53\, Follonica\, Italia
CATEGORIES:Cinema
ATTACH;FMTTYPE=image/jpeg:https://www.maremmaoggi.net/wp-content/uploads/2024/10/rosa-ciro-maremmaoggi.jpg
END:VEVENT
END:VCALENDAR