BEGIN:VCALENDAR
VERSION:2.0
PRODID:-//MaremmaOggi - ECPv6.15.19//NONSGML v1.0//EN
CALSCALE:GREGORIAN
METHOD:PUBLISH
X-ORIGINAL-URL:https://www.maremmaoggi.net
X-WR-CALDESC:Eventi per MaremmaOggi
REFRESH-INTERVAL;VALUE=DURATION:PT1H
X-Robots-Tag:noindex
X-PUBLISHED-TTL:PT1H
BEGIN:VTIMEZONE
TZID:Europe/Rome
BEGIN:DAYLIGHT
TZOFFSETFROM:+0100
TZOFFSETTO:+0200
TZNAME:CEST
DTSTART:20230326T010000
END:DAYLIGHT
BEGIN:STANDARD
TZOFFSETFROM:+0200
TZOFFSETTO:+0100
TZNAME:CET
DTSTART:20231029T010000
END:STANDARD
BEGIN:DAYLIGHT
TZOFFSETFROM:+0100
TZOFFSETTO:+0200
TZNAME:CEST
DTSTART:20240331T010000
END:DAYLIGHT
BEGIN:STANDARD
TZOFFSETFROM:+0200
TZOFFSETTO:+0100
TZNAME:CET
DTSTART:20241027T010000
END:STANDARD
BEGIN:DAYLIGHT
TZOFFSETFROM:+0100
TZOFFSETTO:+0200
TZNAME:CEST
DTSTART:20250330T010000
END:DAYLIGHT
BEGIN:STANDARD
TZOFFSETFROM:+0200
TZOFFSETTO:+0100
TZNAME:CET
DTSTART:20251026T010000
END:STANDARD
END:VTIMEZONE
BEGIN:VEVENT
DTSTART;TZID=Europe/Rome:20240807T210000
DTEND;TZID=Europe/Rome:20240807T210000
DTSTAMP:20260422T103354
CREATED:20240806T125854Z
LAST-MODIFIED:20240806T125854Z
UID:181155-1723064400-1723064400@www.maremmaoggi.net
SUMMARY:Al Molino Cult c'è "Rosemary's Baby"
DESCRIPTION:GROSSETO. Si chiude domani\, mercoledì 7 agosto\, il ciclo dedicato ai cult al Molino hub (via del Molino a Vento a Grosseto). Alle 21.15 per Molino Cult\, ecco il capolavoro di Roman Polanski “Rosemary’s baby”. Le proiezioni sono state curate da Mirko Guerrieri\, Alessio Brizzi\, Edoardo Checcacci\, Alessandro Capanni con Kansassiti\, Clan e Clorofilla. \nNel film\, gli sposini Rosemary\, interpretata da Mia Farrow\, e Guy Woodhouse\, che ha il volto di John Cassavetes\, si trasferiscono in un grande palazzo nel centro di New York. La ragazza rimane incinta\, ma i nuovi vicini\, i bizzarri Minnie e Roman Castevet\, si fanno sempre più invadenti\, mostrandosi interessati più del dovuto alle sorti del nascituro: paranoia o cospirazione satanica?
URL:https://www.maremmaoggi.net/evento/al-molino-cult-ce-rosemarys-baby/
LOCATION:Molino Hub
CATEGORIES:Cinema
ATTACH;FMTTYPE=image/jpeg:https://www.maremmaoggi.net/wp-content/uploads/2024/08/mia-farrow-maremma-oggi.jpg
END:VEVENT
BEGIN:VEVENT
DTSTART;TZID=Europe/Rome:20240811T193000
DTEND;TZID=Europe/Rome:20240811T193000
DTSTAMP:20260422T103354
CREATED:20240806T124650Z
LAST-MODIFIED:20240806T124650Z
UID:181137-1723404600-1723404600@www.maremmaoggi.net
SUMMARY:"Margini" sbarca a Montemassi
DESCRIPTION:MONTEMASSI. Domenica 11 agosto\,  a Montemassi\, nell’ambito del cartellone degli eventi estivi  promosso da Arci Montemassi\, sarà proiettato “Margini”\, il film interamente girato a Grosseto da Niccolò Falsetti e Francesco Turbanti. Se lo avete perso o volete rivederlo\, questa è un’ottima occasione\, in compagnia dello scenografo e protagonista Francesco Turbanti. \nAl Castello\, alle 19.30 si comincia con l’apericena\, quindi la presentazione a cura di Alessio Brizzi ed alle 21 la proiezione del film. Al termine dialogheranno con il protagonista Alessandro Bigozzi\, cantautore grossetano\, Fabrizio Boldrini dell’Università di Siena e Alessio Brizzi\, sceneggiatore. \nI posti sono limitati e quindi è necessaria la prenotazione telefonando\, nelle ore serali\, al n. 3716925467. \nBiglietto\, comprensivo di apericena e visione del film\, costa 8 euro. 
URL:https://www.maremmaoggi.net/evento/margini-sbarca-a-montemassi/
LOCATION:Castello di Montemassi\, via del Capezzuolo 31\, Montemassi\, Italia
CATEGORIES:Cinema
ATTACH;FMTTYPE=image/jpeg:https://www.maremmaoggi.net/wp-content/uploads/2022/08/Margini-film-grosseto-maremma_oggi-5.jpg
END:VEVENT
BEGIN:VEVENT
DTSTART;TZID=Europe/Rome:20240812T080000
DTEND;TZID=Europe/Rome:20240812T170000
DTSTAMP:20260422T103354
CREATED:20240812T150337Z
LAST-MODIFIED:20240812T150337Z
UID:182107-1723449600-1723482000@www.maremmaoggi.net
SUMMARY:La figlia di Laura Morante presenta il suo "Niente"
DESCRIPTION:GROSSETO. Prosegue la rassegna CineHub grossetano\, il cinema sotto le stella nel centro culturale polifunzionale MolinoHub. \nMartedì 13 agosto “Corti a Kilometro Zero”\, una selezione di cortometraggi girati nella provincia di Grosseto dagli anni ’60 fino ai giorni nostri. \nOspite della serata Eugenia Costantini\, figlia di Laura Morante\, che presenterà in anteprima il suo film d’esordio “Niente”\, interamente girato a Grosseto\, presentato in concorso al Festival di Torino 2023. Il film è prodotto da Ulala Film e Zen Movie con il sostegno del Mic e il patrocinio del Comune di Grosseto. \nLe porte di MolinoHub in versione arena cinematografica si apriranno alle 20.45\, le proiezioni inizieranno alle 21.15\,  l’ingresso è con tessera socio Clan o Kansassìti\, con possibilità di sottoscriverla sul posto (fino ad esaurimento posti). \nL’iniziativa CineHub è realizzata della Mediateca Digitale della Maremma\, ed è ideata dall’associazione Kansassiti APS in collaborazione con l’Associazione Clan\, con il patrocinio del Comune di Grosseto con il contributo del Mic e Fondazione Cr Firenze. \nPer informazioni: info@mediatecadigitalemaremma.com / 3284422108
URL:https://www.maremmaoggi.net/evento/la-figlia-di-laura-morante-presenta-il-suo-niente/
LOCATION:Italy
CATEGORIES:Cinema
ATTACH;FMTTYPE=image/jpeg:https://www.maremmaoggi.net/wp-content/uploads/2024/08/film-niente-maremma-oggi.jpg
END:VEVENT
BEGIN:VEVENT
DTSTART;TZID=Europe/Rome:20240814T210000
DTEND;TZID=Europe/Rome:20240814T210000
DTSTAMP:20260422T103354
CREATED:20240813T133717Z
LAST-MODIFIED:20240813T133717Z
UID:182215-1723669200-1723669200@www.maremmaoggi.net
SUMMARY:CineHub presenta "Le meraviglie"
DESCRIPTION:GROSSETO. Terza serata per la rassegna CineHub grossetano\, il cinema sotto le stelle nel centro culturale polifunzionale MolinoHub. \nMercoledì 14 agosto sarà proiettato\, in occasione del decimo anniversario dall’uscita nelle sale\, “Le Meraviglie” di Alice Rohrwacher\, un film delicato e onirico ma allo stesso tempo sorprendentemente reale. \nGirato nelle campagne tra Pitigliano\, Sovana e Sorano\, il film narra le vicende di Gelsomina\, maggiore di quattro sorelle\, che vive con la sua famiglia fuori dal centro abitato. La sua vita scorre lenta e apparentemente sempre uguale fino a quando la sua routine è interrotta dall’arrivo di una troupe televisiva. \nEsordio alla regia\, il film è stato premiato al Festival di Cannes\, ha ottenuto quattro candidature ai Nastri d’Argento e una candidatura a David di Donatello. \nLa proiezione inizierà alle 21.15 e sarà anticipata dalla visione di un breve estratto tratto dal documentario “Paesaggi e Storie di Maremma” di Pietro Mechini con Morbello Vergari. \nPer informazioni: info@mediatecadigitalemaremma.com / 3284422108
URL:https://www.maremmaoggi.net/evento/cinehub-presenta-le-meraviglie/
LOCATION:Molino Hub
CATEGORIES:Cinema
ATTACH;FMTTYPE=image/jpeg:https://www.maremmaoggi.net/wp-content/uploads/2024/08/monica-bellucci-meraviglie-maremma-oggi.jpg
END:VEVENT
BEGIN:VEVENT
DTSTART;TZID=Europe/Rome:20240821T213000
DTEND;TZID=Europe/Rome:20240821T213000
DTSTAMP:20260422T103354
CREATED:20240820T082243Z
LAST-MODIFIED:20240820T082243Z
UID:183063-1724275800-1724275800@www.maremmaoggi.net
SUMMARY:Enrica\, la moglie di Antonioni\, racconta suo marito
DESCRIPTION:ARCIDOSSO. Sorgenti Film Festival arriva ad Arcidosso con un appuntamento dedicato al maestro Michelangelo Antonioni. Ospite della serata Enrica Fico\, moglie del regista\, mercoledì 21 agosto alle 21.30 in piazza Riconciliazione. L’ingresso è gratuito. \nEnrica Fico dialogherà con Ugo Quattrini\, assessore alla cultura del Comune di Arcidosso e con l’attore e direttore artistico del Festival Andrea Muzzi. L’evento è a ingresso gratuito. \nLa conversazione sul palco sarà accompagnata dalla musica della Leggera Electric Folk Band e i giovani allievi della scuola di musica Arcidosso Street Band. \n 
URL:https://www.maremmaoggi.net/evento/enrica-la-moglie-di-antonioni-racconta-suo-marito/
LOCATION:piazza della Riconciliazione\, Piazza della Riconciliazione\, Grosseto\, Italia
CATEGORIES:Cinema,Convegno
ATTACH;FMTTYPE=image/jpeg:https://www.maremmaoggi.net/wp-content/uploads/2024/08/michelangelo-antonioni-maremma-oggi.jpg
END:VEVENT
BEGIN:VEVENT
DTSTART;TZID=Europe/Rome:20240827T173000
DTEND;TZID=Europe/Rome:20240827T173000
DTSTAMP:20260422T103354
CREATED:20240826T162211Z
LAST-MODIFIED:20240826T162211Z
UID:183916-1724779800-1724779800@www.maremmaoggi.net
SUMMARY:"Il Comandante" di Veronesi chiude la Festa del cinema di mare
DESCRIPTION:CASTIGLIONE DELLA PESCAIA. Ultima giornata in programma per la IX edizione della Festa del cinema di Mare\, diretta da Giovanni Veronesi\, a Castiglione della Pescaia. \nIl 27 agosto\, gli incontri inizieranno alle 17.30 alla Biblioteca Italo Calvino\, con la proiezione del documentario “Era scritto sul mare”\, di Giuliana Gamba\, presentato dal giornalista e critico cinematografico Gabriele Rizza. \nAlle 19\, all’ex Bagno Maristella\, sarà in scena la folk band The Occasionals\, vincitrice del Sanremo Rock Festival 2020. \nChiude il programma della giornata\, la proiezione (alle 21.15\, Cinema Castello) del film “Comandante”\, di Edoardo De Angelis\, preceduto da un breve talk moderato da Rizza alla presenza del regista e di Sandro Veronesi\, che ha lavorato alla sceneggiatura.
URL:https://www.maremmaoggi.net/evento/il-comandante-di-veronesi-chiude-la-festa-del-cinema-di-mare/
LOCATION:Castiglione della Pescaia\, Castiglione della Pescaia
CATEGORIES:Cinema,Musica
ATTACH;FMTTYPE=image/jpeg:https://www.maremmaoggi.net/wp-content/uploads/2024/08/scrittore-sandro-veronesi-maremma-oggi.jpg
END:VEVENT
END:VCALENDAR