BEGIN:VCALENDAR
VERSION:2.0
PRODID:-//MaremmaOggi - ECPv6.15.19//NONSGML v1.0//EN
CALSCALE:GREGORIAN
METHOD:PUBLISH
X-ORIGINAL-URL:https://www.maremmaoggi.net
X-WR-CALDESC:Eventi per MaremmaOggi
REFRESH-INTERVAL;VALUE=DURATION:PT1H
X-Robots-Tag:noindex
X-PUBLISHED-TTL:PT1H
BEGIN:VTIMEZONE
TZID:Europe/Rome
BEGIN:DAYLIGHT
TZOFFSETFROM:+0100
TZOFFSETTO:+0200
TZNAME:CEST
DTSTART:20250330T010000
END:DAYLIGHT
BEGIN:STANDARD
TZOFFSETFROM:+0200
TZOFFSETTO:+0100
TZNAME:CET
DTSTART:20251026T010000
END:STANDARD
BEGIN:DAYLIGHT
TZOFFSETFROM:+0100
TZOFFSETTO:+0200
TZNAME:CEST
DTSTART:20260329T010000
END:DAYLIGHT
BEGIN:STANDARD
TZOFFSETFROM:+0200
TZOFFSETTO:+0100
TZNAME:CET
DTSTART:20261025T010000
END:STANDARD
BEGIN:DAYLIGHT
TZOFFSETFROM:+0100
TZOFFSETTO:+0200
TZNAME:CEST
DTSTART:20270328T010000
END:DAYLIGHT
BEGIN:STANDARD
TZOFFSETFROM:+0200
TZOFFSETTO:+0100
TZNAME:CET
DTSTART:20271031T010000
END:STANDARD
END:VTIMEZONE
BEGIN:VEVENT
DTSTART;TZID=Europe/Rome:20260308T120000
DTEND;TZID=Europe/Rome:20260308T143000
DTSTAMP:20260422T011504
CREATED:20260303T105742Z
LAST-MODIFIED:20260303T105742Z
UID:330539-1772971200-1772980200@www.maremmaoggi.net
SUMMARY:Festa della Donna tra gusto e sorrisi: il pranzo speciale del Sunset
DESCRIPTION:ISTIA D’OMBRONE. Il Sunset Restaurant celebra la festa della Donna con un appuntamento speciale. Domenica 8 marzo\, nella tenuta di Poggio Cavallo\, è in programma un pranzo con menu alla carta accompagnato dalle note del Conte Max. \nUna giornata pensata per festeggiare in compagnia\, tra buona cucina\, atmosfera conviviale e intrattenimento. Il ristorante propone la libertà della scelta alla carta\, per vivere un pranzo all’insegna del gusto e della spensieratezza. \nUn appuntamento\, tra musica e convivialità\, per trasformare il weekend in un momento da condividere.
URL:https://www.maremmaoggi.net/evento/festa-della-donna-tra-gusto-e-sorrisi-il-pranzo-speciale-del-sunset/
LOCATION:Sunset Poggio Cavallo\, Strada Provinciale Sante Mariae\, 243\, Grosseto\, 58100\, Italy
CATEGORIES:Cena e musica
ATTACH;FMTTYPE=image/jpeg:https://www.maremmaoggi.net/wp-content/uploads/2026/03/conte-max-al-sunset-maremma-oggi.jpg
END:VEVENT
BEGIN:VEVENT
DTSTART;TZID=Europe/Rome:20260308T193000
DTEND;TZID=Europe/Rome:20260308T235900
DTSTAMP:20260422T011504
CREATED:20260226T111030Z
LAST-MODIFIED:20260226T111127Z
UID:328358-1772998200-1773014340@www.maremmaoggi.net
SUMMARY:L’8 marzo si accende da Salt: arriva Pierpaolo Petrelli
DESCRIPTION:GROSSETO. È inarrestabile la scia di personaggi in trend che il Salt Tapas Bar porta in città. Dopo una serie di ospiti di richiamo\, questa volta in piazza del Sale arriva un volto amatissimo dello spettacolo italiano: sabato 8 marzo\, per la Festa della donna\, a festeggiare il pubblico sarà il carismatico e raffinato Pierpaolo Petrelli\, showman\, ballerino e personaggio televisivo seguitissimo anche sui social. \nPer l’occasione il Salt propone una serata esclusiva tra una cena con spettacolo e un dj set\, in un ambiente elegante e riservato\, dove sarà possibile trascorrere una serata speciale in compagnia dell’ospite. \nEcco le formule per l’evento\nIl menu standard (45 euro a persona\, bevande escluse) prevede la patata fritta signature accompagnata da un calice di prosecco\, a seguire un mix di tapas da condividere: gamberi kataifi\, takoyaki\, yakitori\, pulpo a la gallega\, gyoza fritti di gambero e dolce roll con crema pasticcera e fragole. \nPer chi desidera un’esperienza ancora più esclusiva c’è il pacchetto vip experience (70 euro a persona)\, che include un incontro in area privata dedicata con Pierpaolo Petrelli per foto\, autografi e qualche momento di conversazione\, oltre a una bottiglia di bollicine e l’intero percorso tapas. \nL’appuntamento è al Salt Tapas Bar\, piazza del Sale a Grosseto. Per informazioni e prenotazioni basta chiamare il 392 8437468. I posti sono limitati. \n\n \n salt_grosseto
URL:https://www.maremmaoggi.net/evento/l8-marzo-si-accende-da-salt-arriva-pierpaolo-petrelli/
LOCATION:Salt Tapas Bar\, Piazza del Mercato\, 25\, Grosseto\, GR\, 58100\, Italy
CATEGORIES:Cena e musica,Evento
ATTACH;FMTTYPE=image/jpeg:https://www.maremmaoggi.net/wp-content/uploads/2026/02/salt-pierpaolo-petrelli-maremma-oggi.jpg
END:VEVENT
END:VCALENDAR