BEGIN:VCALENDAR
VERSION:2.0
PRODID:-//MaremmaOggi - ECPv6.15.19//NONSGML v1.0//EN
CALSCALE:GREGORIAN
METHOD:PUBLISH
X-ORIGINAL-URL:https://www.maremmaoggi.net
X-WR-CALDESC:Eventi per MaremmaOggi
REFRESH-INTERVAL;VALUE=DURATION:PT1H
X-Robots-Tag:noindex
X-PUBLISHED-TTL:PT1H
BEGIN:VTIMEZONE
TZID:Europe/Rome
BEGIN:DAYLIGHT
TZOFFSETFROM:+0100
TZOFFSETTO:+0200
TZNAME:CEST
DTSTART:20250330T010000
END:DAYLIGHT
BEGIN:STANDARD
TZOFFSETFROM:+0200
TZOFFSETTO:+0100
TZNAME:CET
DTSTART:20251026T010000
END:STANDARD
BEGIN:DAYLIGHT
TZOFFSETFROM:+0100
TZOFFSETTO:+0200
TZNAME:CEST
DTSTART:20260329T010000
END:DAYLIGHT
BEGIN:STANDARD
TZOFFSETFROM:+0200
TZOFFSETTO:+0100
TZNAME:CET
DTSTART:20261025T010000
END:STANDARD
BEGIN:DAYLIGHT
TZOFFSETFROM:+0100
TZOFFSETTO:+0200
TZNAME:CEST
DTSTART:20270328T010000
END:DAYLIGHT
BEGIN:STANDARD
TZOFFSETFROM:+0200
TZOFFSETTO:+0100
TZNAME:CET
DTSTART:20271031T010000
END:STANDARD
END:VTIMEZONE
BEGIN:VEVENT
DTSTART;TZID=Europe/Rome:20260307T190000
DTEND;TZID=Europe/Rome:20260307T233000
DTSTAMP:20260422T011504
CREATED:20260303T105031Z
LAST-MODIFIED:20260303T152145Z
UID:330531-1772910000-1772926200@www.maremmaoggi.net
SUMMARY:Jazz e cucina al Sunset: una notte tra note ed eleganza
DESCRIPTION:ISTIA D’OMBRONE. Una serata tra buona cucina e musica dal vivo: sabato 7 marzo il Sunset Restaurant\, che si trova nella tenuta di Poggio Cavallo\, ospita Saxo Sax\, con le sue note rilassanti e magiche. \nIl programma della serata\nIl protagonista è Saxo Sax\, che è pronto ad accompagnare la cena con i suoni eleganti e coinvolgenti del suo sax. L’appuntamento prevede una cena con menu alla carta\, per permettere agli ospiti di scegliere liberamente i piatti e godersi la serata seguendo il proprio gusto. \nUn’occasione per vivere un sabato diverso dal solito\, in una location immersa nel verde della campagna maremmana\, tra atmosfera raffinata e note dal vivo. \nPer prenotare basta chiamare il 347 3934409. \n\n \n Sunset Ristorante \n ristorantesunset \n 
URL:https://www.maremmaoggi.net/evento/jazz-e-cucina-al-sunset-una-notte-tra-note-ed-eleganza/
LOCATION:Sunset Poggio Cavallo\, Strada Provinciale Sante Mariae\, 243\, Grosseto\, 58100\, Italy
CATEGORIES:Cena e musica
ATTACH;FMTTYPE=image/jpeg:https://www.maremmaoggi.net/wp-content/uploads/2026/03/axo-sax-al-sunset-maremma-oggi.jpg
END:VEVENT
END:VCALENDAR