BEGIN:VCALENDAR
VERSION:2.0
PRODID:-//MaremmaOggi - ECPv6.15.19//NONSGML v1.0//EN
CALSCALE:GREGORIAN
METHOD:PUBLISH
X-WR-CALNAME:MaremmaOggi
X-ORIGINAL-URL:https://www.maremmaoggi.net
X-WR-CALDESC:Eventi per MaremmaOggi
REFRESH-INTERVAL;VALUE=DURATION:PT1H
X-Robots-Tag:noindex
X-PUBLISHED-TTL:PT1H
BEGIN:VTIMEZONE
TZID:Europe/Rome
BEGIN:DAYLIGHT
TZOFFSETFROM:+0100
TZOFFSETTO:+0200
TZNAME:CEST
DTSTART:20240331T010000
END:DAYLIGHT
BEGIN:STANDARD
TZOFFSETFROM:+0200
TZOFFSETTO:+0100
TZNAME:CET
DTSTART:20241027T010000
END:STANDARD
BEGIN:DAYLIGHT
TZOFFSETFROM:+0100
TZOFFSETTO:+0200
TZNAME:CEST
DTSTART:20250330T010000
END:DAYLIGHT
BEGIN:STANDARD
TZOFFSETFROM:+0200
TZOFFSETTO:+0100
TZNAME:CET
DTSTART:20251026T010000
END:STANDARD
BEGIN:DAYLIGHT
TZOFFSETFROM:+0100
TZOFFSETTO:+0200
TZNAME:CEST
DTSTART:20260329T010000
END:DAYLIGHT
BEGIN:STANDARD
TZOFFSETFROM:+0200
TZOFFSETTO:+0100
TZNAME:CET
DTSTART:20261025T010000
END:STANDARD
END:VTIMEZONE
BEGIN:VEVENT
DTSTART;TZID=Europe/Rome:20250222T203000
DTEND;TZID=Europe/Rome:20250222T235900
DTSTAMP:20260421T195931
CREATED:20250215T141526Z
LAST-MODIFIED:20250215T141526Z
UID:211395-1740256200-1740268740@www.maremmaoggi.net
SUMMARY:Il Carnevale veneziano contagia la Maremma
DESCRIPTION:GROSSETO. Sabato 22 febbraio “Back to the party”\, il format itinerante di Ettore Raso\, torna alla Sala Eden. La serata è ispirata all’atmosfera raffinata e stravagante del Carnevale veneziano e ognuno può mascherarsi\, ma non c’è nessun obbligo. \nL’appuntamento è alle 20.30 e l’evento ha in programma una cena con spettacolo e tanti interventi di animazione e musicali durante e dopo la cena. Nella serata è disponibile anche un cocktail bar per completare l’esperienza. \nL’ingresso è riservato esclusivamente a chi prenota dalla cena e per il dopocena non c’è nessun ingresso. I posti sono limitati e per prenotare basta chiamare il 339 6242020.  \nGli artisti e la cena\nSul palco si esibiranno artisti di grande talento. Andrea Sax\, per far cantare tutti gli ospiti a tavola durante la cena\, poi è il turno di Linda Leccese\, violinista straordinaria\, che incanta il pubblico con il suo violino. Francesca Magdalena Giorgi la sua voce lirica di grande intensità\, l’immancabile dj Ettore Raso\, sarà il protagonista del dj set che farà ballare tutti fino a tarda notte. \nDj Matte J accompagna l’aperitivo e la cena\, poi c’è anche Madame Fló\, che con la sua animazione teatrale porta un tocco di eleganza e divertimento alla serata.  \nLa cena\, parte integrante dell’evento\, propone un menu esclusivo ispirato ai sapori del Carnevale\, con un tocco a tema veneziano anche nei piatti proposti. Per chi ha delle intolleranze o allergie può richiedere la variazione dei piatti al momento della prenotazione. Il costo della cena è di 38 euro a persona. \n \n\n \n edengrosseto \n Sala Eden Disco Club
URL:https://www.maremmaoggi.net/evento/il-carnevale-veneziano-contagia-la-maremma/
LOCATION:Sala Eden
CATEGORIES:Cena e musica
ATTACH;FMTTYPE=image/jpeg:https://www.maremmaoggi.net/wp-content/uploads/2025/02/locandina-sala-eden-catrnevale-maremma-oggi.jpg
END:VEVENT
END:VCALENDAR