BEGIN:VCALENDAR
VERSION:2.0
PRODID:-//MaremmaOggi - ECPv6.15.19//NONSGML v1.0//EN
CALSCALE:GREGORIAN
METHOD:PUBLISH
X-ORIGINAL-URL:https://www.maremmaoggi.net
X-WR-CALDESC:Eventi per MaremmaOggi
REFRESH-INTERVAL;VALUE=DURATION:PT1H
X-Robots-Tag:noindex
X-PUBLISHED-TTL:PT1H
BEGIN:VTIMEZONE
TZID:Europe/Rome
BEGIN:DAYLIGHT
TZOFFSETFROM:+0100
TZOFFSETTO:+0200
TZNAME:CEST
DTSTART:20230326T010000
END:DAYLIGHT
BEGIN:STANDARD
TZOFFSETFROM:+0200
TZOFFSETTO:+0100
TZNAME:CET
DTSTART:20231029T010000
END:STANDARD
BEGIN:DAYLIGHT
TZOFFSETFROM:+0100
TZOFFSETTO:+0200
TZNAME:CEST
DTSTART:20240331T010000
END:DAYLIGHT
BEGIN:STANDARD
TZOFFSETFROM:+0200
TZOFFSETTO:+0100
TZNAME:CET
DTSTART:20241027T010000
END:STANDARD
BEGIN:DAYLIGHT
TZOFFSETFROM:+0100
TZOFFSETTO:+0200
TZNAME:CEST
DTSTART:20250330T010000
END:DAYLIGHT
BEGIN:STANDARD
TZOFFSETFROM:+0200
TZOFFSETTO:+0100
TZNAME:CET
DTSTART:20251026T010000
END:STANDARD
BEGIN:DAYLIGHT
TZOFFSETFROM:+0100
TZOFFSETTO:+0200
TZNAME:CEST
DTSTART:20260329T010000
END:DAYLIGHT
BEGIN:STANDARD
TZOFFSETFROM:+0200
TZOFFSETTO:+0100
TZNAME:CET
DTSTART:20261025T010000
END:STANDARD
END:VTIMEZONE
BEGIN:VEVENT
DTSTART;TZID=Europe/Rome:20241231T193000
DTEND;TZID=Europe/Rome:20250101T020000
DTSTAMP:20260421T192559
CREATED:20241128T111733Z
LAST-MODIFIED:20241128T165429Z
UID:196713-1735673400-1735696800@www.maremmaoggi.net
SUMMARY:Il cenone di Capodanno nella Hollywood degli anni '50
DESCRIPTION:GAVORRANO. Una cena per iniziare il 2025 con il botto arriva alla Tenuta Casteani\, un evento firmato da Conti di San Bonifacio. Il tema è old Hollywood e gli ospiti possono sbizzarrirsi nel vestirsi come dei veri e propri divi di Hollywood.  \nDurante la serata è in programma musica dal vivo durante la cena e dopo un dj set. Il menu è creato per regalare un fine 2024 con i fiocchi ed è in programma anche uno spuntino di mezzanotte con il brindisi\, cotechino lenticchie e panettone della tradizione. Infine\, da mezzanotte fino alle 2 c’è l’open bar\, dove poter assaggiare degli ottimi drink. \nÈ possibile prenotare fino al 15 dicembre e basta chiamare lo 0566 80006 oppure scrivere su WhatsApp al 349 4752491. \nIl menu\nIl menu è studiato per iniziare il 2025 nel migliore dei modi e prevede molte portate. \nFingerfood di benvenuto\, accompagnati dal prosecco di Conti San Bonifacio: \n\nCanestrino al sesamo\, con tartare di manzo e tartufo;\ngrissini al pepe rosa con battuto di lardo di cinta senese;\ncono croccante con paté di fegatini al vin santo e lamponi.\n\nAntipasti: \n\nCapasanta scottata su purea di cavolfiore e caviale;\nmedaglione di astice\, accompagnato da puntarelle di cicoria e limone.\n\nPrimi piatti:  \n\nFusilloni con carciofi e zafferano;\ncannellone di coda alla vaccinara e cacao amaro.\n\nSecondi piatti: \n\nFiletto di cinghiale con sedano rapa e confettura al vin brûlé.\n\nPredessert e dessert: \n\nMousse al mandarino con mandorla sabbiata;\ncremoso al caffè con biscotto al cioccolato e specchio di baylie.\n\nIl prezzo è di 150 euro a persona con incluso open bar fino alle 2 del mattino. \n\n \n  0566 80006 \n booking@disanbonifacio.com \n Conti di San Bonifacio \n contidisanbonifacio \n www.contidisanbonifacio.com
URL:https://www.maremmaoggi.net/evento/il-cenone-di-capodanno-nella-hollywood-degli-anni-50/
LOCATION:Conti di San Bonifacio\, Località Casteani 1\, Montemassi
CATEGORIES:Cena e musica
ATTACH;FMTTYPE=image/jpeg:https://www.maremmaoggi.net/wp-content/uploads/2024/11/locandina-capodanno-conti-san-bonifacio.jpg
END:VEVENT
BEGIN:VEVENT
DTSTART;TZID=Europe/Rome:20241231T200000
DTEND;TZID=Europe/Rome:20250101T010000
DTSTAMP:20260421T192559
CREATED:20241128T154408Z
LAST-MODIFIED:20241128T165912Z
UID:196775-1735675200-1735693200@www.maremmaoggi.net
SUMMARY:Da "Tù sì que vales" al veglione di Batignano
DESCRIPTION:BATIGNANO. La Proloco di Batignano quest’anno ha organizzato la cena di San Silvestro\, creando così un momento da passare con tutti i propri cari. Musica dal vivo\, spettacoli e dj set accompagneranno la serata di tutti gli ospiti. Il veglione inizia alle 20. \nIn programma ci sono: Francesco di Napoli\, dj Pilla e lo spettacolo di Martin Ghiglia di “Tù sì que vales”. Il menu prevede antipasti\, primi\, secondi e dolce e sono compresi acqua\, caffè e spumante. Il tutto a 70 euro a persona e 40 euro per i bambini. \nEcco il menu\nAntipasti: \n\nStrudel salato di fine anno;\narancino alla parmigiana;\ncrostino di pinsa al sughetto toscana;\nmedaglioni di polenta con ragù di cotechino e confettura di arancia in agrodolce.\n\nPrimi piatti: \n\nLasagne al ragù bianco con erbette selvatiche e polvere di limone;\ntimballo di riso alla milanese con asparagi e cipolle croccanti.\n\nSecondi piatti: \n\nGuancia di maiale cotta a bassa temperatura al profumo di erbette selvatiche e Morellino;\ncotechino di fine anno.\n\nDessert: \n\nDelizia al pandoro.\n\n\n \n CONTATTI\n Pro Loco Batignano \n 338 4519970 o 347 8878534 \n info.prolocobatignano@gmail.com
URL:https://www.maremmaoggi.net/evento/da-tu-si-que-vales-al-veglione-di-batignano/
LOCATION:Porta grossetana Batignano\, Via Gelsomino\, 8\, Batignano\, Grosseto\, 58100\, Italy
CATEGORIES:Cena e musica
ATTACH;FMTTYPE=image/jpeg:https://www.maremmaoggi.net/wp-content/uploads/2024/11/cena-di-capodanno-a-batignano-maremma-oggi.jpg
END:VEVENT
END:VCALENDAR