BEGIN:VCALENDAR
VERSION:2.0
PRODID:-//MaremmaOggi - ECPv6.15.20//NONSGML v1.0//EN
CALSCALE:GREGORIAN
METHOD:PUBLISH
X-WR-CALNAME:MaremmaOggi
X-ORIGINAL-URL:https://www.maremmaoggi.net
X-WR-CALDESC:Eventi per MaremmaOggi
REFRESH-INTERVAL;VALUE=DURATION:PT1H
X-Robots-Tag:noindex
X-PUBLISHED-TTL:PT1H
BEGIN:VTIMEZONE
TZID:Europe/Rome
BEGIN:DAYLIGHT
TZOFFSETFROM:+0100
TZOFFSETTO:+0200
TZNAME:CEST
DTSTART:20250330T010000
END:DAYLIGHT
BEGIN:STANDARD
TZOFFSETFROM:+0200
TZOFFSETTO:+0100
TZNAME:CET
DTSTART:20251026T010000
END:STANDARD
BEGIN:DAYLIGHT
TZOFFSETFROM:+0100
TZOFFSETTO:+0200
TZNAME:CEST
DTSTART:20260329T010000
END:DAYLIGHT
BEGIN:STANDARD
TZOFFSETFROM:+0200
TZOFFSETTO:+0100
TZNAME:CET
DTSTART:20261025T010000
END:STANDARD
BEGIN:DAYLIGHT
TZOFFSETFROM:+0100
TZOFFSETTO:+0200
TZNAME:CEST
DTSTART:20270328T010000
END:DAYLIGHT
BEGIN:STANDARD
TZOFFSETFROM:+0200
TZOFFSETTO:+0100
TZNAME:CET
DTSTART:20271031T010000
END:STANDARD
END:VTIMEZONE
BEGIN:VEVENT
DTSTART;TZID=Europe/Rome:20260418T170000
DTEND;TZID=Europe/Rome:20260524T170000
DTSTAMP:20260424T024848
CREATED:20260402T094402Z
LAST-MODIFIED:20260402T094402Z
UID:338564-1776531600-1779642000@www.maremmaoggi.net
SUMMARY:Il Maam apre alla fotografia contemporanea con “Les fleurs du mal”
DESCRIPTION:GROSSETO. Al Museo archeologico e d’arte della Maremma arriva una imostra fotografica “Les fleurs du mal” di Alberto Franceschini\, in programma al MAAM dal 18 aprile al 24 maggio. \nL’esposizione\, presentata alla direzione scientifica del museo\, è accompagnata da attività di promozione e comunicazione. Per l’amministrazione rappresenta un nuovo passo nella valorizzazione del museo come spazio aperto alla contemporaneità e ai talenti del territorio\, oltre che un’occasione per avvicinare il pubblico alla fotografia come forma espressiva. \n\n\n\n\n 
URL:https://www.maremmaoggi.net/evento/il-maam-apre-alla-fotografia-contemporanea-con-les-fleurs-du-mal/
LOCATION:Museo archeologico della Maremma\, piazza Baccarini 3\, Grosseto\, 58100\, Italia
CATEGORIES:Mostra
ATTACH;FMTTYPE=image/jpeg:https://www.maremmaoggi.net/wp-content/uploads/2021/12/chiesa-dei-bigi.jpg
END:VEVENT
BEGIN:VEVENT
DTSTART;TZID=Europe/Rome:20260424T080000
DTEND;TZID=Europe/Rome:20260426T190000
DTSTAMP:20260424T024848
CREATED:20260418T160125Z
LAST-MODIFIED:20260418T160336Z
UID:342472-1777017600-1777230000@www.maremmaoggi.net
SUMMARY:Torna la Fiera del Madonnino... ma con l'aggiunta del vino
DESCRIPTION:BRACCAGNI. Torna dal 24 al 26 aprile la Fiera del Madonnino\, la storica manifestazione dedicata all’agricoltura che quest’anno celebra le sue 46 edizioni. Un appuntamento ormai punto di riferimento in Toscana per il mondo rurale e per il settore dei macchinari agricoli\, con esposizioni\, eventi zootecnici di livello nazionale e una grande area dedicata a vivaismo e giardinaggio. \nLa fiera rappresenta uno dei momenti più importanti per l’incontro tra domanda e offerta\, creando opportunità di business per gli espositori e offrendo ai visitatori un’esperienza completa grazie a numerose attrazioni e servizi. Attesi circa 40mila visitatori e oltre 300 espositori\, con quattro grandi settori protagonisti: macchine agricole\, zootecnia\, vivaismo e giardinaggio. \n \nAnche Etruria Vinum e Game Fair\nRicco anche il programma dei convegni\, con appuntamenti di rilievo come quello dell’Accademia dei Georgofili dedicato allo sviluppo della filiera ovina tra transizione digitale e cambiamenti climatici\, e quello della Fondazione clima e sostenibilità su acqua\, agricoltura e sfide future. \nTra le novità di questa edizione spicca Etruria Vinum\, il nuovo spazio espositivo dedicato a viticoltura ed enologia\, che unisce esposizione\, innovazione e formazione attraverso convegni gratuiti. Un progetto che trova nella Fiera del Madonnino la cornice ideale\, capace ogni anno di richiamare migliaia di operatori e appassionati. \nAll’interno della manifestazione torna anche il Game Fair\, evento dedicato agli sport outdoor e alla promozione culturale e ambientale. Un’area pensata per chi vive la natura in modo attivo\, con prove pratiche\, spettacoli\, gare e un ampio villaggio espositivo dedicato al mondo venatorio\, alla pesca e alla vita all’aria aperta. \nDall’abbigliamento tecnico alle attrezzature sportive\, passando per veicoli\, ottiche\, prodotti per animali e servizi turistici\, il Game Fair offre un’esperienza immersiva per appassionati e famiglie\, in un contesto dinamico e ricco di stimoli. \nTre giorni per scoprire\, incontrarsi e vivere da vicino il mondo dell’agricoltura e dell’outdoor. \n\n\n\n\n\n\n\n\n\n\n Fiera del Madonnino\, Game Fair\n www.fieradelmadonnino.it
URL:https://www.maremmaoggi.net/evento/torna-la-fiera-del-madonnino-ma-con-laggiunta-del-vino/
LOCATION:Centro Fiere Madonnino\, Strada del Madonnino 11/13\, Braccagni\, 58100\, Italia
CATEGORIES:Evento
ATTACH;FMTTYPE=image/jpeg:https://www.maremmaoggi.net/wp-content/uploads/2023/03/fiera-del-madonnino-grosseto-fiere-maremma-oggi.jpg
END:VEVENT
BEGIN:VEVENT
DTSTART;TZID=Europe/Rome:20260424T170000
DTEND;TZID=Europe/Rome:20260630T200000
DTSTAMP:20260424T024848
CREATED:20260423T134027Z
LAST-MODIFIED:20260423T134027Z
UID:343789-1777050000-1782849600@www.maremmaoggi.net
SUMMARY:I 70 anni della Torre Massetana: mostra e celebrazioni in biblioteca
DESCRIPTION:MASSA MARITTIMA. Un traguardo importante per il giornalismo locale: i 70 anni de “La Torre Massetana” saranno celebrati con l’inaugurazione della mostra “Massa e il suo giornale: 70 anni di giornalismo”\, in programma venerdì 24 aprile alle ore 17 alla Biblioteca comunale Gaetano Badii. \nL’esposizione ripercorre la storia del giornale attraverso pagine originali\, editoriali\, fotografie\, stampe\, libri e strumenti tipografici\, offrendo un viaggio nella memoria collettiva della città e del territorio. \nLa mostra resterà aperta fino al 30 giugno\, visitabile negli orari di apertura della biblioteca. Sarà inoltre possibile prenotare visite guidate per gruppi e associazioni su appuntamento. \nL’inaugurazione segnerà anche l’avvio ufficiale delle celebrazioni per i settant’anni del giornale\, con la presentazione del logo celebrativo e del calendario degli eventi in programma. \nAll’iniziativa interverranno la sindaca di Massa Marittima Irene Marconi\, la direttrice della biblioteca Claudia Mori\, la relatrice Roberta Pieraccioli e il direttore della Torre Massetana Angelo Soldatini. Previste anche letture a cura di Liber Pater. \nPer informazioni e prenotazioni delle visite guidate è possibile scrivere all’indirizzo email: angelo.soldatini@gmail.com.
URL:https://www.maremmaoggi.net/evento/i-70-anni-della-torre-massetana-mostra-e-celebrazioni-in-biblioteca/
CATEGORIES:Mostra
ATTACH;FMTTYPE=image/jpeg:https://www.maremmaoggi.net/wp-content/uploads/2026/04/angelo-soldatini-torre-massetana-maremma-oggi.jpg
END:VEVENT
BEGIN:VEVENT
DTSTART;TZID=Europe/Rome:20260424T190000
DTEND;TZID=Europe/Rome:20260424T190000
DTSTAMP:20260424T024848
CREATED:20260420T084910Z
LAST-MODIFIED:20260420T084910Z
UID:342736-1777057200-1777057200@www.maremmaoggi.net
SUMMARY:Respiri di Bellezza presenta “I rami non sono ancora secchi” all'ex chiesa dei Bigi
DESCRIPTION:GROSSETO. È un inverno apatico\, grigio\, attraversato da una quotidianità che scorre senza essere davvero vissuta. Si vola basso\, in silenzio\, cercando di non pensare\, di ignorare ciò che accade. L’oscurità si insinua e seduce\, amplifica ogni percezione\, sembra offrire un rifugio. Ma non è lì la risposta. Da qualche parte\, lontano dallo sguardo comune\, qualcosa continua a cercare. E proprio da quel margine invisibile\, sul nascere\, torna a farsi spazio la natura. \nDa questa visione prende forma “I rami non sono ancora secchi” la performance della Compagnia Tocna Danza in scena venerdì 24 aprile alle 19 all’Ex Chiesa dei Bigi di Grosseto nell’ambito di “Respiri di Bellezza”\, la rassegna ideata e curata da Con.Cor.D.A./Compagnia Francesca Selva con la direzione artistica di Marcello Valassina.  \nIngresso spettacolo e visita al Museo: 5 euro. Info e prenotazioni: prenotazioni.clarisse@gmail.com. 
URL:https://www.maremmaoggi.net/evento/respiri-di-bellezza-presenta-i-rami-non-sono-ancora-secchi-allex-chiesa-dei-bigi/
LOCATION:chiesa bigi
CATEGORIES:Danza
ATTACH;FMTTYPE=image/jpeg:https://www.maremmaoggi.net/wp-content/uploads/2026/04/rami-non-ancora-secchi-maremma-oggi.jpg
END:VEVENT
END:VCALENDAR