BEGIN:VCALENDAR
VERSION:2.0
PRODID:-//MaremmaOggi - ECPv6.15.20//NONSGML v1.0//EN
CALSCALE:GREGORIAN
METHOD:PUBLISH
X-WR-CALNAME:MaremmaOggi
X-ORIGINAL-URL:https://www.maremmaoggi.net
X-WR-CALDESC:Eventi per MaremmaOggi
REFRESH-INTERVAL;VALUE=DURATION:PT1H
X-Robots-Tag:noindex
X-PUBLISHED-TTL:PT1H
BEGIN:VTIMEZONE
TZID:Europe/Rome
BEGIN:DAYLIGHT
TZOFFSETFROM:+0100
TZOFFSETTO:+0200
TZNAME:CEST
DTSTART:20230326T010000
END:DAYLIGHT
BEGIN:STANDARD
TZOFFSETFROM:+0200
TZOFFSETTO:+0100
TZNAME:CET
DTSTART:20231029T010000
END:STANDARD
BEGIN:DAYLIGHT
TZOFFSETFROM:+0100
TZOFFSETTO:+0200
TZNAME:CEST
DTSTART:20240331T010000
END:DAYLIGHT
BEGIN:STANDARD
TZOFFSETFROM:+0200
TZOFFSETTO:+0100
TZNAME:CET
DTSTART:20241027T010000
END:STANDARD
BEGIN:DAYLIGHT
TZOFFSETFROM:+0100
TZOFFSETTO:+0200
TZNAME:CEST
DTSTART:20250330T010000
END:DAYLIGHT
BEGIN:STANDARD
TZOFFSETFROM:+0200
TZOFFSETTO:+0100
TZNAME:CET
DTSTART:20251026T010000
END:STANDARD
END:VTIMEZONE
BEGIN:VEVENT
DTSTART;TZID=Europe/Rome:20240425T080000
DTEND;TZID=Europe/Rome:20240901T170000
DTSTAMP:20260425T232750
CREATED:20240424T094317Z
LAST-MODIFIED:20240424T094317Z
UID:164776-1714032000-1725210000@www.maremmaoggi.net
SUMMARY:Le opere di Mimmo Nobile a Pitigliano
DESCRIPTION:GROSSETO. S’inaugura questo giovedì 25 aprile la mostra dell’artista calabrese Mimmo Nobile\, in piazza della Repubblica a Pitigliano\, che rimarrà aperta per tutta l’estate. \nMimmo Nobile nasce il 24 aprile del 1955 a Girifalco (Catanzaro) e nel 1971 a Roma frequenta gli studi artistici sotto la guida del professor Giovan Battista Salerno. Nel 1988 presenta la sua personale alla galleria Lombardi dietro consiglio del critico Dario Micaccini. Partecipa a numerose esposizioni\, tra le quali una nel 1993 nello “Spazio Flaminio”\, a Roma\, voluta dalla Provincia\, dal Comune e dalla Regione Lazio. \nNegli anni numerose le mostre\, una delle ultime nel 2018 al Festival dei due Mondi a casa Modigliani a Spoleto.
URL:https://www.maremmaoggi.net/evento/le-opere-di-mimmo-nobile-a-pitigliano/
LOCATION:Pitigliano\, Pitigliano\, 58017
CATEGORIES:Mostra
ATTACH;FMTTYPE=image/jpeg:https://www.maremmaoggi.net/wp-content/uploads/2024/02/Alcuni-quadri-di-Mimmo-Nobile.jpg
END:VEVENT
BEGIN:VEVENT
DTSTART;TZID=Europe/Rome:20240808T123000
DTEND;TZID=Europe/Rome:20240822T235900
DTSTAMP:20260425T232750
CREATED:20240730T132414Z
LAST-MODIFIED:20240730T132616Z
UID:179394-1723120200-1724371140@www.maremmaoggi.net
SUMMARY:A Sorano i re sono il prosciutto e il formaggio
DESCRIPTION:SORANO. Dall’8 al 22 agosto Sorano si anima con la 60esima sagra del prosciutto e del formaggio soranese. Le cuoche e i cuochi del paese vi prepareranno il meglio della tradizione maremmana\, fra cui tortelli\, tagliatelle e pici\, tutti rigorosamente fatti a mano. Naturalmente i re della festa saranno il prosciutto e il formaggio soranese. \nGli stand gastronomici aprono tutti i giorni della sagra in 3 orari diversi: alle 12.30\, alle 19.30 e alle 21.30. \nDall’8 al 22 è possibile visitare\, al Cortilone\, anche la mostra fotografica “Gli occhi del mondo” di Antonio Renzetti\, curata da Giuseppina Manzi. \nLa locandina della sagra del prosciutto e dei formaggi soranese\nIl programma musicale:\n\n8 agosto alle 12.30 inizia la sagra e alle 21.30 in piazza Busatti c’è il dj Alex Marcucci; \n9 agosto alle 21.30 si esibiscono i The slang supersonica band\, con i grandi successi italiani e stranieri degli anni ’70. Un momento tutto da ballare e cantare;\n10 agosto alle 18 c’è l’inaugurazione della “Mostra dell’artigianato Sorano – in Arte” con la compagina Accademia creativa e le loro note di storia. Alle 22.30 si esibiranno I Fiori Neri cover band ufficiale dei Nomadi\, in piazza Busatti;\n11 agosto alle 22 c’è la sfilata di moda con i gioielli di Unoaerre\, a cura della gioielleria Simonetta Manetti\, in piazza Busatti;\n12 agosto alle 18.30 e alle 21.30 c’è lo spettacolo musicale itinerante per le vie del paese con la Magicaboola brass band;\n13 agosto alle 21.30 è in programma lo spettacolo di fuoco e giocoleria Creed con I mercenari d’oriente;\n14 agosto alle 21.30 c’è lo spettacolo musicale itinerante con “I misticanti popolari”;\n15 agosto alle 18 si esibisce la banda musicale G. Verdi di Sorano. Dopodiché c’è la classica tombola e infine\, alle 21.30\, c’è una serata danzante con “I nuovi orizzonti”;\nalle 21.30 del 16 agosto è in programma il grande concerto della banda musicale G. Verdi di Sorano\, con suoni innovativi in piazza della Chiesa;\n17 agosto alle 21.30 serata evento con Luca Cionco\, voce degli Hotel Supramonte\, interpreta Fabrizio De Andrè\, con il trio acustico composto da Luca Cionco\, Massimo Furietti e Alessandro Famiani;\ninfine il 18 agosto alle 21.30 c’è lo spettacolo di chiusura della mostra con Contemporary art tour\, con danza e teatro in piazza Busatti.\n19 agosto alle 21.30 saliranno sul palco i Soul Moscato;\n20 agosto alle 21.30 si esibisce La Cricca;\n21 agosto alle 21.30 è in programma una serata musicale con i Non c’è duo;\n22 agosto alle 21.30 c’è una serata danzante con Claudio e Lucia.\n\nPer informazioni o prenotazioni basta contattare il 353 4594832. \n\n \n \n 
URL:https://www.maremmaoggi.net/evento/prosciutto-e-formaggio-labbinamento-perfetto-senti-bene-orario/
LOCATION:Sorano\, Sorano\, Grosseto\, 58010\, Italia
CATEGORIES:Sagra
ATTACH;FMTTYPE=image/jpeg:https://www.maremmaoggi.net/wp-content/uploads/2024/07/grafica-sagra-sorano-maremma-oggi.jpg
END:VEVENT
BEGIN:VEVENT
DTSTART;TZID=Europe/Rome:20240810T080000
DTEND;TZID=Europe/Rome:20240828T170000
DTSTAMP:20260425T232750
CREATED:20240619T082044Z
LAST-MODIFIED:20240619T082044Z
UID:173595-1723276800-1724864400@www.maremmaoggi.net
SUMMARY:Ad Alberese la festa della carne maremmana
DESCRIPTION:ALBERESE. Dal 10 al 28 agosto il campo sportivo dell’Alberese Oliviero Francioli si animerà con i piatti della tradizione maremmana. \nSarà possibile assaggiare pappardelle al cinghiale\, acquacotta e torelli\, ma la festa è dedicata alla carne. Quindi potrete assaggiare la famosa bistecca alla buttera\, preparata dalle sapienti mani delle cuoche e dei cuochi dell’Alberese. Ma ci saranno anche il peposo di Maremma\, uno stracotto di carne\, e tanta carne alla brace.  \nI piatti della sagraLa bistecca alla buttera\nGli stand gastronomici della festa della carne maremmana apriranno alle 19.30 e chiuderanno alle 23 e ogni sera ci sarà la musica dal vivo.
URL:https://www.maremmaoggi.net/evento/ad-alberese-festa-carne-maremmana/
LOCATION:Campo Sportivo Alberese Oliviero Francioli\, Piazza Del Combattente 23\, Alberese\, Grosseto\, 58100\, Italia
CATEGORIES:Sagra
ATTACH;FMTTYPE=image/jpeg:https://www.maremmaoggi.net/wp-content/uploads/2024/06/festa-della-carne-maremmana-maremma-oggi.jpg
END:VEVENT
BEGIN:VEVENT
DTSTART;TZID=Europe/Rome:20240816T183000
DTEND;TZID=Europe/Rome:20240915T193000
DTSTAMP:20260425T232750
CREATED:20240813T134259Z
LAST-MODIFIED:20240813T134259Z
UID:182219-1723833000-1726428600@www.maremmaoggi.net
SUMMARY:Hanne e Peter Nagel a Monterotondo Marittimo
DESCRIPTION:MONTEROTONDO MARITTIMO. Venerdì 16 agosto\, alle 18.30\, a Monterotondo Marittimo\, sarà inaugurata la mostra di pittura e incisioni a cura di Hanne e Peter Nagel\, allestita alla sala espositiva comunale di via Pietro Gori. \nIl progetto espositivo è organizzato dall’associazione Collettivo Libere Arti e Pensiero di Monterotondo Marittimo con il patrocinio del Comune. \nLa mostra resterà aperta fino al 15 settembre\, dal giovedì alla domenica\, dalle 17 alle 19.30. \n 
URL:https://www.maremmaoggi.net/evento/hanne-e-peter-nagel-a-monterotondo-marittimo/
LOCATION:Monterotondo Marittimo\, Monterotondo Marittimo\, Italia\, 58045
CATEGORIES:Mostra
ATTACH;FMTTYPE=image/jpeg:https://www.maremmaoggi.net/wp-content/uploads/2024/08/hanne-peter-nagel-maremma-oggi.jpg
END:VEVENT
BEGIN:VEVENT
DTSTART;TZID=Europe/Rome:20240816T193000
DTEND;TZID=Europe/Rome:20240825T233000
DTSTAMP:20260425T232750
CREATED:20240627T091610Z
LAST-MODIFIED:20240627T091610Z
UID:174950-1723836600-1724628600@www.maremmaoggi.net
SUMMARY:Il re cacciucco torna a Fonteblanda
DESCRIPTION:FONTEBLANDA. Torna anche quest’anno un appuntamento dedicato a un piatto unico e inconfondibile della tradizione maremmana: il cacciucco. L’evento è organizzato dall’Asd Fonteblanda e si tiene al campo sportivo del paese\, dal 16 al 25 agosto. \nIl cacciucco è un piatto unico ed è una zuppa di pesce\, che al suo interno ha del pane tostato.  \nLe mani sapienti delle cuoche e dei cuochi del paese vi prepareranno piatti a base di pesce\, naturalmente il re sarà il cacciucco. Ma ci sarà anche la possibilità di gustare un menu di carne. \nInfine ci saranno delle bancarelle\, la possibilità di comprare prodotti tipici e un’area giochi per i bambini.
URL:https://www.maremmaoggi.net/evento/il-re-cacciucco-torna-a-fonteblanda/
LOCATION:Campo sportivo Fonteblanda\, Via Talamonese 1\, Fonteblanda\, Grosseto\, 58015\, Italia
CATEGORIES:Sagra
ATTACH;FMTTYPE=image/jpeg:https://www.maremmaoggi.net/wp-content/uploads/2024/06/sagra-del-cacciucco-fonteblanda-maremma-oggi.jpg
END:VEVENT
BEGIN:VEVENT
DTSTART;TZID=Europe/Rome:20240817T170000
DTEND;TZID=Europe/Rome:20240825T170000
DTSTAMP:20260425T232750
CREATED:20240809T080741Z
LAST-MODIFIED:20240809T080741Z
UID:181592-1723914000-1724605200@www.maremmaoggi.net
SUMMARY:Fake news e complottismi raccolti in una mostra
DESCRIPTION:SCANSANO. L’amministrazione comunale organizza nell’ambito di “Chiacchere alla meria” la mostra interattiva: “Complottismo\, fake news e altre trappole mentali” da lunedì 12 agosto fino a domenica 25 presso lo spazio espositivo delle ex scuole elementari. \n “Complottismo\, fake news e altre trappole mentali” è il titolo. Un percorso ideato per scoprire i meccanismi cognitivi e sociali alla base della diffusione delle teorie del complotto e fake news. Per scoprire ed imparare a difendersene. \nLa mostra a ingresso libero – parte del festival edizione 2024 di “Chiacchiere alla meria\, la cultura a piccoli sorsi” ideato da Alberto Voltolini e Rossella Bartolini – sarà inaugurata da Alberto Voltolini\, professore di filosofia della mente all’Università di Torino. \nSabato 17\, alle 17\, verrà presentata e discussa da Clotilde Calabi\, docente di filosofia alla Statale di Milano e scrittrice\, Anna Ichino\, professoressa di Filosofia all’Università degli Studi di Milano\, e Pietro Ichino\, giuslavorista già prestato alla politica e professore di Diritto del Lavoro all’Università di Milano. Tre menti brillanti i cui interessi ruotano attorno ai meccanismi della comunicazione e della filosofia della percezione\, dei diritti del mondo del lavoro. Un’occasione unica per ragionare su un tema di scottante attualità.
URL:https://www.maremmaoggi.net/evento/fake-news-e-complottismi-raccolti-in-una-mostra/
LOCATION:Ex scuole elementari Scansano\, Via XX settembre 30\, Scansano\, Italia
CATEGORIES:Convegno,Mostra
ATTACH;FMTTYPE=image/jpeg:https://www.maremmaoggi.net/wp-content/uploads/2024/08/fake-news-maremma-oggi.jpg
END:VEVENT
BEGIN:VEVENT
DTSTART;TZID=Europe/Rome:20240821T193000
DTEND;TZID=Europe/Rome:20240825T235900
DTSTAMP:20260425T232750
CREATED:20240806T133809Z
LAST-MODIFIED:20240807T080640Z
UID:181164-1724268600-1724630340@www.maremmaoggi.net
SUMMARY:La tradizione conquista Borgo Carige
DESCRIPTION:CAPALBIO. Arriva una nuova sagra dedicata al meglio della tradizione maremmana\, ovvero Capalbio in sagra. Ogni sera dell’evento\, che si tiene dal 21 al 25 agosto\, c’è un piatto speciale diverso. \nLa mani sapienti dei cuochi del paese regalano ai loro ospiti un viaggio nei sapori della tradizione culinaria della zona\, dai tortelli al ragù all’agnello fritto. Il tutto condito dalla musica dal vivo. \nLo stand enogastronomico apre alle 19.30. \nLa locandina di Capalbio in sagra\nIl menu\nGli antipasti sono composti da crostini misti e dalla bruschetta con il prosciutto. I primi piatti\, invece\, sono un classico della tradizione: gli gnocchi\, che possono essere conditi con ragù di cinghiale oppure ragù classico. Ma c’è anche l’acquacotta\, una zuppa di pane con uova\, pomodoro\, sedano e cipolla. \nI secondi sono: bistecca di pollo\, grigliata mista e cinghiale alla cacciatora. Piatti che possono essere accompagnati da patatine fritte e fagioli. \nI piatti speciali sono un viaggio in tutta la tradizione culinaria toscana e comprendono: \n\n21 agosto cotenne e fagioli;\n22 agosto lo spezzatino con le cipolle;\n23 agosto l’agnello fritto;\n24 agosto è il turno della trippa;\n25 agosto c’è la pappa al pomodoro.
URL:https://www.maremmaoggi.net/evento/la-tradizione-conquista-capalbio/
LOCATION:Campo sportivo Tronchetti Provera\, Strada Aurelia - Capalbio 22\, Borgo Carige\, Italia
CATEGORIES:Sagra
ATTACH;FMTTYPE=image/jpeg:https://www.maremmaoggi.net/wp-content/uploads/2024/08/borgo-carige-sagra-maremma-oggi.jpg
END:VEVENT
BEGIN:VEVENT
DTSTART;TZID=Europe/Rome:20240822T080000
DTEND;TZID=Europe/Rome:20240822T233000
DTSTAMP:20260425T232750
CREATED:20240806T125117Z
LAST-MODIFIED:20240806T125117Z
UID:181144-1724313600-1724369400@www.maremmaoggi.net
SUMMARY:Artigianato in fiera sul lungomare
DESCRIPTION:FOLLONICA. La mostra mercato dell’artigianato artistico e creativo organizzata da Cna Grosseto e dall’associazione Materiae arriva Follonica giovedì 22 agosto su viale Italia sarà possibile\, dalle 8 alle 23.30 ammirare ed acquistare prodotti artigianali e tipici.\nDalla ceramica alla sartoria\, dal decoupage alla bigiotteria creativa\, dall’artigianato etnico all’uncinetto\, passando per la gioielleria e molto altro: sono tanti gli espositori che metteranno in mostra la loro abilità. \nPer informazioni sulla mostra mercato e sulle altre attività organizzate da Cna Grosseto è possibile visitare il sito www.cnagrosseto.it.
URL:https://www.maremmaoggi.net/evento/artigianato-in-fiera-sul-lungomare-2/
LOCATION:Follonica\, Piazza Guerrazzi
CATEGORIES:Evento
ATTACH;FMTTYPE=image/jpeg:https://www.maremmaoggi.net/wp-content/uploads/2024/07/mostra-artigianato-maremma-oggi.jpg
END:VEVENT
BEGIN:VEVENT
DTSTART;TZID=Europe/Rome:20240822T190000
DTEND;TZID=Europe/Rome:20240822T190000
DTSTAMP:20260425T232750
CREATED:20240819T093450Z
LAST-MODIFIED:20240819T093450Z
UID:182917-1724353200-1724353200@www.maremmaoggi.net
SUMMARY:Riparte il BiblioApe al Tukul beach bar
DESCRIPTION:ISOLA DEL GIGLIO. Riparte il BiblioApe in versione punk. L’appuntamento è giovedì 22 agosto a partire dalle 19 al Tukul Beach Bar. \nOspite della libreria ambulante: Andrea Biscaro con il suo libro “Alex e i Cattivi Pensieri”. A presentare il libro\, dedicato ai ragazzi\, ci penserà il Circolo culturale Gigliese con la sua rappresentante Barbara Galeotti\, alle  21.30.  Interviene anche la dottoressa Elena Contu\, psicologa che lavora con gli adolescenti. \nPrima\, dopo e durante la presentazione due gruppi di giovani musicisti under 20: i Grandi Raga in una formazione del tutto eccezionale per un vero e proprio concerto di musica Rock con sfumature punk. Una serata giovanissima tutta in blu per vivere l’atmosfera horror del libro. \nSpecial cocktail: Blu Mojito\, dress code (per chi vuole) blu. 
URL:https://www.maremmaoggi.net/evento/riparte-il-biblioape-al-tukul-beach-bar/
LOCATION:Tukul Beach Bar\, Isola del Giglio
CATEGORIES:concerto,Presentazione libro
ATTACH;FMTTYPE=image/jpeg:https://www.maremmaoggi.net/wp-content/uploads/2024/08/locandina-blu-tukul-maremma-oggi.jpg
END:VEVENT
BEGIN:VEVENT
DTSTART;TZID=Europe/Rome:20240822T200000
DTEND;TZID=Europe/Rome:20240822T233000
DTSTAMP:20260425T232750
CREATED:20240821T125918Z
LAST-MODIFIED:20240821T125918Z
UID:183082-1724356800-1724369400@www.maremmaoggi.net
SUMMARY:Vino e musica alla Fattoria SanFelo
DESCRIPTION:MAGLIANO IN TOSCANA. Un’altra serata di degustazione e musica quella in programma giovedì 22 agosto 2024 alla Fattoria San Felo.  \nDalle ore 20.00 l’azienda vinicola sulle colline maremmane si vestirà a festa per regalare ai suoi ospiti un appuntamento indimenticabile\, all’insegna del buon cibo e dell’ottimo vino\, con un dj set che riscalderà l’ambiente e gli animi. \nIl menù della serata prevede un ricco buffet di bruschette con olio EVO SanFelo\, una speciale selezione di salumi e a seguire pici con pachino e cinta senese. Chiude il percorso gastronomico un gustoso dolce.  \nSe il buon cibo si sposa sempre con dell’ottimo vino\, il protagonista dell’aperitivo sarà Metodo Classico Millesimato\, mentre per la cena sarà la volta del vermentino Le Stoppie e Lampo Morellino di Scansano.  \nIl costo dell’evento è di 40\,00€ e la prenotazione obbligatoria al 329/3612593 o sul loro sito.  \nLocandina dell’evento\nLocandina dell’evento
URL:https://www.maremmaoggi.net/evento/vino-e-musica-alla-fattoria-sanfelo/
LOCATION:Fattoria SanFelo\, Località Pagliatelli\, Magliano In Toscana\, GR\, 58051\, Italia
CATEGORIES:Degustazione
ATTACH;FMTTYPE=image/jpeg:https://www.maremmaoggi.net/wp-content/uploads/2024/02/wine-and-beats-maremmoggi.jpg
END:VEVENT
BEGIN:VEVENT
DTSTART;TZID=Europe/Rome:20240822T210000
DTEND;TZID=Europe/Rome:20240822T210000
DTSTAMP:20260425T232750
CREATED:20240820T082839Z
LAST-MODIFIED:20240820T082839Z
UID:183070-1724360400-1724360400@www.maremmaoggi.net
SUMMARY:Giacomo Moscato interpreta Re Artù
DESCRIPTION:TORNIELLA. Nella splendida cornice della piazza del Castello di Torniella\, giovedì 22 agosto alle 21\, andrà in scena lo spettacolo “Re Artù e i cavalieri della tavola rotonda”\, storytelling tratto dagli antichi lai medievali di Giacomo Moscato. \nAttraverso la magia ed il fascino di un racconto medievale pieno di sorprese\, l’attore e regista Giacomo Moscato accompagnerà il pubblico in un viaggio epico\, alla scoperta di personaggi come Re Artù\, Lancillotto\, Ginevra\, il Mago Merlino\, la Dama del Lago e delle loro avvincenti storie. \nL’evento è organizzato dalla Società Filarmonica Banda di Torniella\, dalla Proloco Piloni-Torniella\, dall’Unione Sportiva Torniella e dall’Associazione Filarmonica Popolare “Civitatis Torniellae” e sarà a ingresso gratuito.
URL:https://www.maremmaoggi.net/evento/giacomo-moscato-interpreta-re-artu/
LOCATION:Piazza del Castello – Torniella\, Piazza del Castello\, Torniella\, Italia
CATEGORIES:Teatro
ATTACH;FMTTYPE=image/jpeg:https://www.maremmaoggi.net/wp-content/uploads/2024/08/giacomo-moscato-re-artu-maremma-oggi.jpg
END:VEVENT
BEGIN:VEVENT
DTSTART;TZID=Europe/Rome:20240822T210000
DTEND;TZID=Europe/Rome:20240822T210000
DTSTAMP:20260425T232750
CREATED:20240820T083315Z
LAST-MODIFIED:20240820T083315Z
UID:183074-1724360400-1724360400@www.maremmaoggi.net
SUMMARY:Fabio Concato incanta Arcidosso
DESCRIPTION:GROSSETO. All’interno della rassegna estiva Arcidò\, organizzata e promossa dal Comune di Arcidosso\, giovedì 22 agosto alle 21 nella nuova piazza della Riconciliazione\, sarà il momento della grande musica d’autore\, con il concerto gratuito di Fabio Concato. \nL’artista porta ad Arcidosso un bagaglio di buona musica e testi che hanno in comune moltissime persone. Il suo concerto attraverserà intere generazioni e guiderà il pubblico in un viaggio carico di ricordi ed emozioni tra i suoi successi\, attraverso atmosfere musicali inedite\, tutte da scoprire\, dalle prime canzoni fino ai brani più recenti. \nCon lui\, sul palco del Musico Ambulante Tour Estate\, i suoi strepitosi amici Musici: Ornella D’Urbano (arrangiamenti\, piano e tastiere)\, Gabriele Palazzi Rossi (batteria)\, Stefano Casali (basso)\, Larry Tomassini (chitarre). Uno spettacolo da non perdere e un irrinunciabile appuntamento con la grande musica italiana d’autore. \n 
URL:https://www.maremmaoggi.net/evento/fabio-concato-incanta-arcidosso/
LOCATION:piazza della Riconciliazione\, Piazza della Riconciliazione\, Grosseto\, Italia
CATEGORIES:concerto
ATTACH;FMTTYPE=image/jpeg:https://www.maremmaoggi.net/wp-content/uploads/2024/07/fabio-concato-maremma-oggi.jpg
END:VEVENT
BEGIN:VEVENT
DTSTART;TZID=Europe/Rome:20240822T210000
DTEND;TZID=Europe/Rome:20240822T210000
DTSTAMP:20260425T232750
CREATED:20240821T091206Z
LAST-MODIFIED:20240821T091206Z
UID:183222-1724360400-1724360400@www.maremmaoggi.net
SUMMARY:L'Orchestra di Grosseto al Forte San Rocco con Beethoven e Mendelssohn
DESCRIPTION:MARINA DI GROSSETO. L’Orchestra sinfonica “Città di Grosseto” inaugura il primo dei tre concerti in programma nel cartellone di San Rocco Classica\, per il San Rocco Festival. L’appuntamento è giovedì 22 agosto alle 21.15 al Forte di San Rocco di Marina di Grosseto: l’orchestra sarà diretta da Franz Schottky e si esibirà con la giovane violinista solista tedesca Xenia Bergmann. \nIl programma prevede l’esecuzione del Concerto in mi minore per violino e orchestra op. 64 di Felix Mendelssohn e della Sinfonia n. 8 in fa maggiore op. 93 di Wolfgang Amadeus Mozart.\nI biglietti sono in prevendita sulla piattaforma online VivaTicket e saranno acquistabili anche in sede di concerto (infoline: 333 5372994; informazioni anche su www.sanroccofestival.it)
URL:https://www.maremmaoggi.net/evento/lorchestra-di-grosseto-al-forte-san-rocco-con-beethoven-e-mendelssohn/
LOCATION:Forte San Rocco\, Via Grossetana\, Marina di Grosseto\, 58100
CATEGORIES:concerto
ATTACH;FMTTYPE=image/jpeg:https://www.maremmaoggi.net/wp-content/uploads/2024/08/Xenia-Bergmann-maremma-oggi.jpg
END:VEVENT
END:VCALENDAR