BEGIN:VCALENDAR
VERSION:2.0
PRODID:-//MaremmaOggi - ECPv6.15.20//NONSGML v1.0//EN
CALSCALE:GREGORIAN
METHOD:PUBLISH
X-ORIGINAL-URL:https://www.maremmaoggi.net
X-WR-CALDESC:Eventi per MaremmaOggi
REFRESH-INTERVAL;VALUE=DURATION:PT1H
X-Robots-Tag:noindex
X-PUBLISHED-TTL:PT1H
BEGIN:VTIMEZONE
TZID:Europe/Rome
BEGIN:DAYLIGHT
TZOFFSETFROM:+0100
TZOFFSETTO:+0200
TZNAME:CEST
DTSTART:20220327T010000
END:DAYLIGHT
BEGIN:STANDARD
TZOFFSETFROM:+0200
TZOFFSETTO:+0100
TZNAME:CET
DTSTART:20221030T010000
END:STANDARD
BEGIN:DAYLIGHT
TZOFFSETFROM:+0100
TZOFFSETTO:+0200
TZNAME:CEST
DTSTART:20230326T010000
END:DAYLIGHT
BEGIN:STANDARD
TZOFFSETFROM:+0200
TZOFFSETTO:+0100
TZNAME:CET
DTSTART:20231029T010000
END:STANDARD
BEGIN:DAYLIGHT
TZOFFSETFROM:+0100
TZOFFSETTO:+0200
TZNAME:CEST
DTSTART:20240331T010000
END:DAYLIGHT
BEGIN:STANDARD
TZOFFSETFROM:+0200
TZOFFSETTO:+0100
TZNAME:CET
DTSTART:20241027T010000
END:STANDARD
END:VTIMEZONE
BEGIN:VEVENT
DTSTART;TZID=Europe/Rome:20230404T080000
DTEND;TZID=Europe/Rome:20230616T170000
DTSTAMP:20260424T004931
CREATED:20230329T132537Z
LAST-MODIFIED:20230329T132537Z
UID:100318-1680595200-1686934800@www.maremmaoggi.net
SUMMARY:Teatro medievale: via al laboratorio
DESCRIPTION:CIVITELLA MARITTIMA. Canguasti Teatro in collaborazione con Pro Loco Civitella Marittima e col patrocinio  del Comune di Civitella Paganico realizzerà dal 4 aprile al 16 giugno 2023 il laboratorio teatrale “Il Teatro Alla Corte di Ardengo”\, incentrato sulle pratiche del teatro medievale e sulla rievocazione storica. Il bando di partecipazione è rivolto ai residenti della provincia di Grosseto dai 14 anni in su\, senza limiti di età. \nIl laboratorio produrrà lo spettacolo che andrà in scena venerdì 16 giugno come evento di apertura della Cinquantunesima Edizione della Festa Dell’Alta Maremma – Palio Storico dei Carretti\, a Civitella Marittima dal 16 al 18 giugno 2023.  \nLe sessioni di lavoro saranno condotte da Felice Panico (www.felicepanico.it)\, regista\, autore ed attore\, già collaboratore fra gli altri di Maurizio Scaparro e Ferzan Ozpetek.\nPanico sarà curatore del laboratorio e firmerà la regia della messa in scena finale. \n  \n  \n  \n  \n  \n 
URL:https://www.maremmaoggi.net/evento/teatro-medievale-via-al-laboratorio/
LOCATION:Teatro comunale Civitella Marittima\, via I Maggio\, Civitella Marittima\, Italia
CATEGORIES:Teatro
ATTACH;FMTTYPE=image/jpeg:https://www.maremmaoggi.net/wp-content/uploads/2022/03/Sfilata-proloco-roccatederighi.jpg
END:VEVENT
BEGIN:VEVENT
DTSTART;VALUE=DATE:20230407
DTEND;VALUE=DATE:20230507
DTSTAMP:20260424T004931
CREATED:20230407T160519Z
LAST-MODIFIED:20230407T160536Z
UID:102207-1680825600-1683417599@www.maremmaoggi.net
SUMMARY:Giuseppe Linardi: la detonazione del realismo
DESCRIPTION:CASTIGLIONE DELLA PESCAIA. Torna all’Art Gallery dell’Hotel Lucerna la detonazione del realismo. Le opere di Giuseppe Linardi si mettono in mostra. \nDal 7 aprile al 6 maggio i visitatori potranno assistere a una vera e propria frantumazione attraverso lo spazio di ciò che un tempo fu immagine tangibile e ora si riduce al limite della figurazione. \nIl vernissage è fissato per sabato 8 aprile dalle 19.30.
URL:https://www.maremmaoggi.net/evento/giuseppe-linardi-in-mostra-la-detonazione-del-realismo/
LOCATION:Hotel Lucerna\, Via IV Novembre 27\, Castiglione della Pescaia\, 58043\, Italia
CATEGORIES:Mostra
ATTACH;FMTTYPE=image/jpeg:https://www.maremmaoggi.net/wp-content/uploads/2023/04/Giuseppe-Linardi-mostra-maremma-oggi.jpg
END:VEVENT
BEGIN:VEVENT
DTSTART;TZID=Europe/Rome:20230413T100000
DTEND;TZID=Europe/Rome:20230507T190000
DTSTAMP:20260424T004931
CREATED:20230412T143028Z
LAST-MODIFIED:20230412T143028Z
UID:102949-1681380000-1683486000@www.maremmaoggi.net
SUMMARY:Guttuso alle Clarisse\, per "Grosseto 900"
DESCRIPTION:Carlo Levi\, Renato Guttuso e Ernesto Treccani al polo culturale Le Clarisse per “Grosseto 900”. Da giovedì 13 aprile a domenica 7 maggio\, sono esposte alcune opere dei tre artisti per il ciclo curato da Mauro Papa con la mostra “Realisti a Grosseto”. \n La mostra apre al pubblico al Museo Luzzetti  dal giovedì alla domenica\, dalle 10 alle 13 e dalle 16 alle 19. \nIn esposizione le opere “Amanti e Partigiani” di Carlo Levi\, “Vendemmiatrice” di Ernesto Treccani e “Nudo sul balcone” di Renato Guttuso. \nÈ valido il biglietto d’ingresso al Museo Luzzetti: 5 euro\, ridotto 3 euro; per informazioni  0564488066 – 0564488067 – 0564488547le clarisse.
URL:https://www.maremmaoggi.net/evento/guttuso-alle-clarisse-per-grosseto-900/
LOCATION:Polo Le Clarisse\, via Vinzaglio\, 27\, Grosseto\, 58100
CATEGORIES:Mostra
ATTACH;FMTTYPE=image/jpeg:https://www.maremmaoggi.net/wp-content/uploads/2022/12/polo-le-clarisse-grosseto-maremma-oggi.jpg
ORGANIZER;CN="Fondazione Grosseto Cultura":MAILTO:info@fondazionegrossetocultura.it
END:VEVENT
BEGIN:VEVENT
DTSTART;TZID=Europe/Rome:20230415T160000
DTEND;TZID=Europe/Rome:20230511T183000
DTSTAMP:20260424T004931
CREATED:20230412T145612Z
LAST-MODIFIED:20230412T145612Z
UID:102962-1681574400-1683829800@www.maremmaoggi.net
SUMMARY:ll Magma diventa museo della fiaba
DESCRIPTION:Un museo nel museo dove i reperti delle fiabe raccontano la loro storia: il Magma di Follonica dal 15 aprile all’11 maggio ospita “Once Upon a Time”\, un progetto di spettacolo e installazione di Emanuela Dall’Aglio ispirato alle fiabe. \nUna scienziata\, la professoressa Gallina Cicova\, gira il mondo\, si introduce nelle fiabe\, una volta finite\, e raccoglie\, racconta e illustra i reperti che trova\, per poi custodirli in questo insolito museo che si arricchisce ad ogni tappa. È lei\, un’instancabile ricercatrice di fiabe\, che conduce il pubblico di adulti e bambini in un’esperienza in cui possono toccare e sperimentare in prima persona gli oggetti chiave delle storie\, per averne memoria reale quando le fiabe verranno narrate. Sono cimeli\, oggetti\, tracce e profumi appartenenti ad alcune delle più note fiabe e favole della tradizione; ci sono una scarpa di strega\, i sassolini bianchi per non perdersi nel bosco\, la mela avvelenata di Biancaneve\, e molto altro. Le fiabe prendono forma attraverso la grande potenza evocativa degli oggetti ritrovati e catalogati. L’esposizione è un vero e proprio museo in cui la professoressa Gallina Cicova accompagna il pubblico con brevi racconti e inediti esperimenti. \nL’inaugurazione di “Once Upone a Time” al museo Magma si terrà sabato 15 aprile alle 16 con una performance dell’artista Emanuela Dall’Aglio. La visita alla mostra è compresa nel biglietto d’ingresso al Museo Magma. \nIngresso 5 euro\, ridotto 4 euro. Ingresso gratuito fino ai 12 anni.
URL:https://www.maremmaoggi.net/evento/ll-magma-diventa-museo-della-fiaba/
LOCATION:Magma Follonica\, Comprensorio Ilva\, Follonica\, 58022\, Italia
CATEGORIES:Mostra
ATTACH;FMTTYPE=image/jpeg:https://www.maremmaoggi.net/wp-content/uploads/2023/04/museo-della-fiaba.jpg
END:VEVENT
BEGIN:VEVENT
DTSTART;TZID=Europe/Rome:20230421T153000
DTEND;TZID=Europe/Rome:20230502T183000
DTSTAMP:20260424T004931
CREATED:20230418T093026Z
LAST-MODIFIED:20230418T093026Z
UID:103857-1682091000-1683052200@www.maremmaoggi.net
SUMMARY:Al Cassero in mostra le tavole del progetto Greenway
DESCRIPTION:Dal 21 aprile al 2 maggio\, a “Cassero in Arte” sono in mostra le tavole del progetto Greeenway di via De’ Barberi\, vincitrici del concorso per il progetto di un’area verde di collegamento tra il centro storico e l’Ombrone. Mentre\, dal 27 aprile al 28 maggio\, viene allestita anche la personale del pittore Paolo Giorgi. \n“Cassero in Arte” è la rassegna culturale  organizzata dall’Istituzione “Le Mura” del Comune di Grosseto. La mostra “Greenway”  è alle Casette cinquecentesche\, mentre la personale “Paolo Giorgi. Opere recenti” è allestita al Cassero senese.  \nLe mostre sono visitabili tutti i giorni\, escluso il martedì\, dalle 15.30 alle 18.30. L’ingresso alle mostre è di 1 euro; l’ingresso con visita guidata alla Fortezza\, 5 euro. Ingresso gratuito per i bambini fino a 6 anni. \nPer informazioni e prenotazioni info@leorme.com\, 0564416276 \n 
URL:https://www.maremmaoggi.net/evento/al-cassero-in-mostra-le-tavole-del-progetto-greenway/
LOCATION:Cassero Senese\, Massa Marittima\, 58024
CATEGORIES:Mostra
ATTACH;FMTTYPE=image/jpeg:https://www.maremmaoggi.net/wp-content/uploads/2023/04/via-de-barberi-piazza-de-Maria-greenway-maremma-oggi.jpg
ORGANIZER;CN="Istituzione Le Mura":MAILTO:lemura@comune.grosseto.it
END:VEVENT
BEGIN:VEVENT
DTSTART;VALUE=DATE:20230501
DTEND;VALUE=DATE:20230502
DTSTAMP:20260424T004931
CREATED:20230227T115821Z
LAST-MODIFIED:20230228T152222Z
UID:95014-1682899200-1682985599@www.maremmaoggi.net
SUMMARY:Festa di Primavera a Sorano: il gran finale
DESCRIPTION:SORANO. Chiude in bellezza la XII edizione dell’ormai conosciuta Festa di Primavera organizzata dall’Associazione Giovani Capaccioli Sorano. \nL’arrivo della Festa ha risvegliato antichi odori e sapori\, con loro anche la voglia di ritrovarsi a condividerli in buona compagnia. \nQuesto il programma di lunedì1° maggio: \n\nAlle 11 si esibirà il gruppo storico sbandieratori\, arrivati da Castiglion Fiorentino.\nAlle 18 la cantina di Pitigliano organizza una degustazione vini in piazza Busatti.\nAlle 21.30 chiuderanno i festeggiamenti Emilio e Elena\, com musica e balli.\n\nUnica costante rimane lo stand enogastronomico\, sempre aperto sia a pranzo che a cena. Dove è possibile degustare gli ottimi piatti tradizionali della cucina maremmana. \nL’area sagra rimane aperta a pranzo (su due turni\, alle 12.30 e 13.30) e a cena (sempre su turni\, alle 19.30 e alle 21).\nPer prenotare il proprio posto si può chiamare il 3356781252 (Giorgio) o il 3396438694 (Daniele). \nPer tutto il periodo della festa sarà sempre visitabile “Sorano in mostra“\, allestito in piazza Busatti. \n \nPer informazioni\nSoranoinfesta \n \n\nARTICOLO SPONSORIZZATO
URL:https://www.maremmaoggi.net/evento/95014/
LOCATION:Piazza Busatti – Sorano\, Piazza Busatti\, Sorano\, Italia
CATEGORIES:Evento,Musica,Sagra
ATTACH;FMTTYPE=image/jpeg:https://www.maremmaoggi.net/wp-content/uploads/2023/02/festa-di-primavera-sorano-maremma-oggi-1.jpg
ORGANIZER;CN="Associazione Giovani Capaccioli Sorano":MAILTO:giovanicapaccioli@libero.it
END:VEVENT
BEGIN:VEVENT
DTSTART;TZID=Europe/Rome:20230501T183000
DTEND;TZID=Europe/Rome:20230501T233000
DTSTAMP:20260424T004931
CREATED:20230422T135524Z
LAST-MODIFIED:20230429T091220Z
UID:104734-1682965800-1682983800@www.maremmaoggi.net
SUMMARY:Musica per ricordare Giorgio
DESCRIPTION:GROSSETO. Saranno le note suonate dai suoi tanti amici\, da tutti i musicisti che negli anni si sono susseguiti al suo fianco\, a raccontare a chi non lo conosceva e a ricordare a chi lo ha amato\, chi era Giorgio Dell’Ampio. Al bassista\, ucciso da un malore a 54 anni lo scorso 26 giugno\, è infatti dedicata una giornata speciale\, organizzata il 1° maggio all’Irish pub in piazza del Sale. \nIl tributo degli amici a Giorgio Dell’Ampio\nGiorgio\, il 26 giugno del 2022\, era in vacanza con la famiglia in Sardegna. Un malore improvviso lo uccise\, spegnendo per sempre le note del suo basso. Era un musicista completo\, poliedrico\, curioso. Era un musicista che nel corso degli anni aveva fatto tantissime esperienze differenti.  \nE per il “Giorgio’s friends”\, il tributo organizzato all’Irish pub\, tutti gli amici che hanno suonato con lui imbracceranno gli strumenti e parleranno di Giorgio come solo i musicisti sanno fare. Con le note.  \nLa giornata dedicata a Dell’Ampio è in programma lunedì 1 maggio a partire dalle 18.30. Ci saranno tutti gli amici che hanno avuto il piacere di esibirsi con lui in questi anni. \nIl bassista con il jazz nel cuore\nClasse 1968\, Giorgio Dell’Ampio lavorava come dipendente del Comune di Scansano. La musica lo aveva conquistato fin da giovanissimo. Aveva cominciato la sua carriera come cantante e chitarrista. Poi aveva scoperto che il suo cuore batteva all’unisono con le corde pizzicate del basso. Suonava musica rock anni Settanta\, prima con i Vuoti a perdere\, poi con i Lupi mannari.  \n\nAddio a Giorgio\, il bassista buono. Scansano in lutto \n\nLa sua passione lo aveva portato a studiare il basso con un maestro d’eccezione\, Marco Caudai. Ma non si era limitato a un solo strumento e aveva deciso di dedicare del tempo buono per sé e per la sua passione al contrabbasso con Nino Pellegrini e all’armonia con Andrea Vanni. \nIl jazz lo aveva rapito in un attimo: Dell’Ampio si è infatti esibito con gli Alibi Jazz insieme a Sonia Soncin alla voce\, Fabrizio Spaghetti alla batteria e Prisco alla tastiera.\nDagli standard jazz era poi approdato nell’Electric Bop Quintet\, con un omaggio alle composizioni di Whayne Shorter con Franco Gianni alla tromba\, Aldo Milani ai fiati e ottoni\, Diego Innocenti al piano\, Roberto Incordino e Luciano Malucchi alla batteria.\nDalla musica orchestrale era poi tornato al trio per comporre e arrangiare il suo disco “R.I.V. (Res Inexplicatae Volantes)” con i 3 d’Union insieme a Massimo Pallini alla chitarra\, Emanuele Pellegrini alla batteria e Matteo Maggio alle percussioni\, Augusto Ferretti al piano\, Simone Maggio al piano\, Tommaso Niccolai alla batteria. \nAll’evento saranno presenti la moglie Gianna Corridori e i figli Gioele e Anita. \n\nARTICOLO SPONSORIZZATO
URL:https://www.maremmaoggi.net/evento/musica-per-ricordare-giorgio/
LOCATION:Irish Soul Pub\, Piazza del Sale\, Grosseto\, 58100
CATEGORIES:Musica
ATTACH;FMTTYPE=image/jpeg:https://www.maremmaoggi.net/wp-content/uploads/2023/04/Progetto-senza-titolo-2023-04-19T184334.145.jpg
END:VEVENT
END:VCALENDAR